Felt | Verdi |
AlreadyApplied | True |
Aperture | 3.5 |
ApertureValue | 3.5 |
BitsPerSample | 8 |
BlueHue | 0 |
BlueSaturation | 0 |
Brightness | +53 |
CameraProfile | Adobe Standard |
ChromaticAberrationB | 0 |
ChromaticAberrationR | 0 |
CircleOfConfusion | 0.030 mm |
Clarity | +85 |
ColorComponents | 1 |
ColorMode | Grayscale |
ColorNoiseReduction | 25 |
ColorNoiseReductionDetail | 50 |
ColorSpace | Uncalibrated |
ColorTemperature | 46000 |
Contrast | +91 |
ConvertToGrayscale | True |
CreateDate (1) | 2013:09:18 18:35:31+02:00 |
CreateDate | 2013:09:18 18:35:31 |
CropAngle | 0 |
CropBottom | 0.991409 |
CropLeft | 0.0252 |
CropRight | 0.997709 |
CropTop | 0.022337 |
CustomRendered | Normal |
DateCreated (1) | 2013:09:18 |
DateCreated | 2013:09:18 18:35:31 |
DateTimeOriginal | 2013:09:18 18:35:31 |
Defringe | 0 |
ExifImageHeight | 2822 |
ExifImageWidth | 4248 |
Exposure | +1.15 |
ExposureCompensation | -4/3 |
ExposureMode | Auto |
ExposureProgram | Program AE |
ExposureTime | 1/60 |
FillLight | 30 |
Firmware | 1.1.1 |
Flash | Off, Did not fire |
FlashCompensation | 0 |
FNumber | 3.5 |
FocalLength | 60.0 mm |
FocalLength35efl | 60.0 mm (35 mm equivalent: 60.1 mm) |
Format | image/jpeg |
FOV | 33.3 deg |
GradientBasedCorrActive | true |
GradientBasedCorrAmount | 1.000000 |
GradientBasedCorrBrightness (1) | -0.675000 |
GradientBasedCorrBrightness | -0.750000 |
GradientBasedCorrClarity | -0.230000 |
GradientBasedCorrContrast | 1.000000 |
GradientBasedCorrExposure | -0.112500 |
GradientBasedCorrHue | 0.000000 |
GradientBasedCorrMaskFullX (1) | 0.329897 |
GradientBasedCorrMaskFullX | 0.430699 |
GradientBasedCorrMaskFullY (1) | 0.003436 |
GradientBasedCorrMaskFullY | 1.001718 |
GradientBasedCorrMaskValue | 1.000000 |
GradientBasedCorrMaskWhat | Mask/Gradient |
GradientBasedCorrMaskZeroX (1) | 0.357388 |
GradientBasedCorrMaskZeroX | 0.400916 |
GradientBasedCorrMaskZeroY (1) | 0.917526 |
GradientBasedCorrMaskZeroY | 0.575601 |
GradientBasedCorrSaturation (1) | -0.580000 |
GradientBasedCorrSaturation (3) | 0.120000 |
GradientBasedCorrSaturation | 0.000000 |
GradientBasedCorrSharpness | -0.170000 |
GradientBasedCorrWhat | Correction |
GrainAmount | 0 |
GrayMixerAqua | -20 |
GrayMixerBlue | +11 |
GrayMixerGreen | -28 |
GrayMixerMagenta | +9 |
GrayMixerOrange | -19 |
GrayMixerPurple | +20 |
GrayMixerRed | -7 |
GrayMixerYellow | -24 |
GreenHue | 0 |
GreenSaturation | 0 |
HasCrop | True |
HasSettings | True |
HighlightRecovery | 10 |
HyperfocalDistance | 34.30 m |
ICCProfileName | Gray Gamma 2.2 |
ImageHeight | 2822 |
ImageNumber | 23 |
ImageSize | 4248x2822 |
ImageWidth | 4248 |
ISO | 500 |
Lens | 24.0-70.0 mm |
LensID (1) | 161 |
LensID | Sigma 24-70mm f/2.8 EX or Tokina AT-X 24-70mm f/2.8 PRO FX (IF) |
LensInfo | 24-70mm f/? |
LightValue | 7.2 |
LuminanceSmoothing | 0 |
Make | Canon |
MaxApertureValue | 3.0 |
Megapixels | 12.0 |
MeteringMode | Unknown |
Model | Canon EOS 5D |
ModifyDate (1) | 2013:09:28 00:29:38+02:00 |
ModifyDate | 2013:09:28 00:29:38 |
Orientation | Horizontal (normal) |
ParametricDarks | +28 |
ParametricHighlights | +52 |
ParametricHighlightSplit | 75 |
ParametricLights | +87 |
ParametricMidtoneSplit | 50 |
ParametricShadows | -23 |
ParametricShadowSplit | 25 |
PostCropVignetteAmount | 0 |
ProcessVersion | 5.7 |
ProfileDescription | Gray Gamma 2.2 |
Rating | 0 |
RawFileName | IMG_5775.CR2 |
RedHue | 0 |
RedSaturation | 0 |
ScaleFactor35efl | 1.0 |
SceneCaptureType | Standard |
SerialNumber | 1430906675 |
Shadows | 5 |
ShadowTint | 0 |
SharpenDetail | 25 |
SharpenEdgeMasking | 0 |
SharpenRadius | +1.0 |
Sharpness | 25 |
ShutterSpeed | 1/60 |
ShutterSpeedValue | 1/60 |
SidecarForExtension | CR2 |
Software | Adobe Photoshop CS5 Windows |
SplitToningBalance | 0 |
SplitToningHighlightHue | 0 |
SplitToningHighlightSaturation | 0 |
SplitToningShadowHue | 0 |
SplitToningShadowSaturation | 0 |
Tint | +3 |
ToneCurve | 0, 0, 32, 22, 64, 56, 128, 128, 192, 196, 255, 255 |
ToneCurveName | Medium Contrast |
URL_List | |
Version | 6.0 |
VignetteAmount | 0 |
WhiteBalance (1) | Custom |
WhiteBalance | Manual |