Felt | Verdi |
AlreadyApplied | True |
Artist | Per-Ø Pettersen |
AutoLateralCA | 0 |
BitsPerSample | 8 |
Blacks2012 | 0 |
BlueHue | 0 |
BlueSaturation | 0 |
BrightnessValue | -5.4203125 |
By-line | Per-Ø Pettersen |
CameraProfile | Adobe Standard |
Caption-Abstract | © Per-O Pettersen |
CircleOfConfusion | 0.015 mm |
Clarity2012 | +44 |
ColorComponents | 1 |
ColorNoiseReduction | 25 |
ColorNoiseReductionDetail | 50 |
ColorTemperature | 2350 |
Contrast | Normal |
Contrast2012 | +85 |
ConvertToGrayscale | True |
Copyright | Per-Ø Pettersen |
CopyrightFlag | True |
CopyrightNotice | Per-Ø Pettersen |
CreateDate | 2013:07:15 23:00:28 |
Creator | Per-Ø Pettersen |
CreatorAddress | Gamle Bygdevei 48 |
CreatorCity | Oslo |
CreatorCountry | Norway |
CreatorPostalCode | 1284 |
CreatorRegion | OSLO |
CreatorTool | Adobe Photoshop Lightroom 5.0 (Macintosh) |
CreatorWorkEmail | per-o@per-o.com |
CreatorWorkTelephone | +47 91373160 |
CreatorWorkURL | www.per-o.com |
CropAngle | 0 |
CropBottom | 0.8417 |
CropConstrainToWarp | 0 |
CropLeft | 0.220074 |
CropRight | 0.975881 |
CropTop | 0.090892 |
CustomRendered | Normal |
DateCreated (1) | 2013:07:15 |
DateCreated | 2013:07:15 23:00:28 |
DateTimeOriginal | 2013:07:15 23:00:28 |
Description | © Per-O Pettersen |
DigitalZoomRatio | 1 |
Exposure2012 | 0.00 |
ExposureCompensation | -2.3 |
ExposureMode | Auto |
ExposureProgram | Aperture-priority AE |
ExposureTime | 1/60 |
Flash | Off, Did not fire |
Format | image/jpeg |
GrainAmount | 0 |
GrayMixerAqua | -23 |
GrayMixerBlue | +1 |
GrayMixerGreen | -21 |
GrayMixerMagenta | +12 |
GrayMixerOrange | -28 |
GrayMixerPurple | +13 |
GrayMixerRed | +6 |
GrayMixerYellow | -11 |
GreenHue | 0 |
GreenSaturation | 0 |
HasCrop | True |
HasSettings | True |
Highlights2012 | -16 |
ImageDescription | © Per-O Pettersen |
ImageHeight | 2451 |
ImageSize | 3713x2451 |
ImageWidth | 3713 |
ISO | 1600 |
Keywords | Angelika Niescier Trio, Nasheet Waits |
Lens | ---- |
LensManualDistortionAmount | 0 |
LensModel | ---- |
LensProfileEnable | 0 |
LensProfileSetup | LensDefaults |
LightSource | Unknown |
LuminanceSmoothing | 0 |
Make | SONY |
Marked | True |
MaxApertureValue | 1.0 |
Megapixels | 9.1 |
MeteringMode | Multi-segment |
Model | NEX-6 |
ModifyDate (1) | 2013:07:20 21:23:29+02:00 |
ModifyDate | 2013:07:20 21:23:29 |
PaintCorrectionActive | true |
PaintCorrectionAmount | 1.000000 |
PaintCorrectionBrightness | 0.000000 |
PaintCorrectionClarity2012 | 0.064256 |
PaintCorrectionContrast2012 | 0.000000 |
PaintCorrectionDefringe | 0.000000 |
PaintCorrectionExposure2012 | -0.536515 |
PaintCorrectionHighlights2012 | 0.000000 |
PaintCorrectionHue | 233.000000 |
PaintCorrectionLuminanceNoise | 0.000000 |
PaintCorrectionMaskCenterWeight | 0.341790 |
PaintCorrectionMaskFlow | 0.814059 |
PaintCorrectionMaskRadius | 0.028723 |
PaintCorrectionMaskValue | 1.000000 |
PaintCorrectionMaskWhat | Mask/Paint |
PaintCorrectionMoire | 0.000000 |
PaintCorrectionSaturation | 0.000000 |
PaintCorrectionShadows2012 | 0.018610 |
PaintCorrectionSharpness | 0.000000 |
PaintCorrectionTemperature | -0.083390 |
PaintCorrectionTint | 0.000000 |
PaintCorrectionWhat | Correction |
ParametricDarks | 0 |
ParametricHighlights | 0 |
ParametricHighlightSplit | 75 |
ParametricLights | 0 |
ParametricMidtoneSplit | 50 |
ParametricShadows | 0 |
ParametricShadowSplit | 25 |
PerspectiveAspect | 0 |
PerspectiveHorizontal | 0 |
PerspectiveRotate | 0.0 |
PerspectiveScale | 100 |
PerspectiveUpright | 0 |
PerspectiveVertical | 0 |
PostCropVignetteAmount | 0 |
ProcessVersion | 6.7 |
ProfileDescription | sRGB IEC61966-2.1 |
Rating | 3 |
RecommendedExposureIndex | 1600 |
RedHue | 0 |
RedSaturation | 0 |
Rights | Per-Ø Pettersen |
Saturation | Normal |
ScaleFactor35efl | 2.0 |
SceneCaptureType | Standard |
SceneType | Directly photographed |
SensitivityType | Recommended Exposure Index |
Shadows2012 | 0 |
ShadowTint | 0 |
SharpenDetail | 25 |
SharpenEdgeMasking | 0 |
SharpenRadius | +1.0 |
Sharpness (1) | 25 |
Sharpness | Normal |
ShutterSpeed | 1/60 |
ShutterSpeedValue | 1/60 |
Software | Adobe Photoshop Lightroom 5.0 (Macintosh) |
SplitToningBalance | 0 |
SplitToningHighlightHue | 0 |
SplitToningHighlightSaturation | 0 |
SplitToningShadowHue | 0 |
SplitToningShadowSaturation | 0 |
Subject | Angelika Niescier Trio, Nasheet Waits |
Tint | -8 |
ToneCurveName2012 | Linear |
ToneCurvePV2012 | 0, 0, 255, 255 |
ToneCurvePV2012Blue | 0, 0, 255, 255 |
ToneCurvePV2012Green | 0, 0, 255, 255 |
ToneCurvePV2012Red | 0, 0, 255, 255 |
Version | 8.1 |
VignetteAmount | 0 |
WhiteBalance (1) | As Shot |
WhiteBalance | Auto |
Whites2012 | 0 |