Felt | Verdi |
AlreadyApplied | True |
Aperture | 6.3 |
ApertureValue | 6.3 |
ApproximateFocusDistance | 0.44 |
BitsPerSample | 8 |
BlueHue | +1 |
BlueSaturation | -100 |
Brightness | 0 |
CameraProfile | Embedded |
ChromaticAberrationB | 0 |
ChromaticAberrationR | 0 |
CircleOfConfusion | 0.019 mm |
Clarity | 0 |
ColorComponents | 1 |
ColorNoiseReduction | 0 |
Contrast | 0 |
ConvertToGrayscale | True |
CreateDate (1) | 2012:05:17 18:10:13.62 |
CreateDate | 2012:05:17 18:10:13 |
CreatorTool | Adobe Photoshop Lightroom 3.5 (Windows) |
CropAngle | -0.42278 |
CropBottom | 0.989262 |
CropConstrainToWarp | 0 |
CropHeight | 2246 |
CropLeft | 0.017974 |
CropRight | 0.991976 |
CropTop | 0.211464 |
CropUnit | pixels |
CropWidth | 4144 |
CustomRendered | Normal |
DateCreated (1) | 2012:05:17 |
DateCreated | 2012:05:17 18:10:13.62 |
DateTimeOriginal | 2012:05:17 18:10:13 |
Defringe | 0 |
DOF | 0.08 m (0.41 - 0.48 m) |
Exposure | +0.69 |
ExposureCompensation | 0 |
ExposureMode | Manual |
ExposureProgram | Manual |
ExposureTime | 1/125 |
FillLight | 8 |
Firmware | 1.1.0 |
Flash | Off, Did not fire |
FlashCompensation | 0 |
FNumber | 6.3 |
FocalLength | 24.0 mm |
FocalLength35efl | 24.0 mm (35 mm equivalent: 38.8 mm) |
FOV | 49.8 deg |
GrainAmount | 0 |
GrayMixerAqua | -19 |
GrayMixerBlue | +8 |
GrayMixerGreen | -25 |
GrayMixerMagenta | +6 |
GrayMixerOrange | -15 |
GrayMixerPurple | +15 |
GrayMixerRed | -5 |
GrayMixerYellow | -19 |
GreenHue | 0 |
GreenSaturation | -1 |
HasCrop | True |
HasSettings | True |
HighlightRecovery | 70 |
HyperfocalDistance | 4.92 m |
ImageHeight | 2246 |
ImageNumber | 0 |
ImageSize | 4144x2246 |
ImageWidth | 4144 |
IncrementalTemperature | +59 |
IncrementalTint | -100 |
ISO | 100 |
Lens | EF-S18-55mm f/3.5-5.6 IS |
LensID (1) | 48 |
LensID | Canon EF-S 18-55mm f/3.5-5.6 IS |
LensInfo | 18-55mm f/? |
LensManualDistortionAmount | 0 |
LensModel | EF-S18-55mm f/3.5-5.6 IS |
LensProfileEnable | 0 |
LensProfileSetup | LensDefaults |
LightValue | 12.3 |
LuminanceSmoothing | 0 |
Make | Canon |
MaxApertureValue | 4.0 |
Megapixels | 9.3 |
MeteringMode | Multi-segment |
Model | Canon EOS 450D |
ModifyDate (1) | 2012:06:13 20:53:35+02:00 |
ModifyDate | 2012:06:13 20:53:35 |
ParametricDarks | +33 |
ParametricHighlights | +100 |
ParametricHighlightSplit | 75 |
ParametricLights | -49 |
ParametricMidtoneSplit | 50 |
ParametricShadows | -26 |
ParametricShadowSplit | 25 |
PerspectiveHorizontal | 0 |
PerspectiveRotate | 0.0 |
PerspectiveScale | 100 |
PerspectiveVertical | 0 |
PostCropVignetteAmount | -100 |
PostCropVignetteFeather | 48 |
PostCropVignetteHighlightContrast | 0 |
PostCropVignetteMidpoint | 52 |
PostCropVignetteRoundness | +3 |
PostCropVignetteStyle | 1 |
ProcessVersion | 5.7 |
ProfileDescription | sRGB IEC61966-2.1 |
RedHue | 0 |
RedSaturation | 0 |
ScaleFactor35efl | 1.6 |
SceneCaptureType | Standard |
SerialNumber | 1830505345 |
Shadows | 0 |
ShadowTint | +1 |
SharpenDetail | 0 |
SharpenEdgeMasking | 0 |
SharpenRadius | +1.8 |
Sharpness | 107 |
ShutterSpeed | 1/125 |
ShutterSpeedValue | 1/125 |
Software | Adobe Photoshop Lightroom 3.5 (Windows) |
SplitToningBalance | -1 |
SplitToningHighlightHue | 0 |
SplitToningHighlightSaturation | 0 |
SplitToningShadowHue | 0 |
SplitToningShadowSaturation | 0 |
SubjectDistance | 0.44 m |
ToneCurve | 0, 0, 255, 255 |
ToneCurveName | Linear |
Version | 6.5 |
VignetteAmount | 0 |
WhiteBalance (1) | Custom |
WhiteBalance | Auto |