Felt | Verdi |
AlreadyApplied | True |
Aperture | 6.3 |
ApertureValue | 6.3 |
ApproximateFocusDistance | 4294967295 |
Artist | Jan Erik Arud |
AuthorsPosition | Photographer |
AutoLateralCA | 0 |
BitsPerSample | 8 |
Blacks2012 | 0 |
BlueHue | 0 |
BlueSaturation | 0 |
By-line | Jan Erik Arud |
By-lineTitle | Photographer |
CameraProfile | Adobe Standard |
CircleOfConfusion | 0.031 mm |
Clarity2012 | 0 |
ColorComponents | 3 |
ColorNoiseReduction | 25 |
ColorNoiseReductionDetail | 50 |
ColorTemperature | 7250 |
Contrast2012 | 0 |
ConvertToGrayscale | False |
Copyright | © 2012 Jan Erik Arud |
CopyrightFlag | True |
CopyrightNotice | © 2012 Jan Erik Arud |
CreateDate (1) | 2012:07:02 10:58:02.48 |
CreateDate | 2012:07:02 10:58:02 |
Creator | Jan Erik Arud |
CreatorAddress | Henrik Wergelands Gt.18 |
CreatorCity | Notodden |
CreatorCountry | Norway |
CreatorPostalCode | 3675 |
CreatorRegion | Telemark |
CreatorTool | Adobe Photoshop Lightroom 4.1 (Windows) |
CreatorWorkEmail | jan.erik.arud@gmail.com |
CreatorWorkTelephone | + 47 93 41 12 36 |
CreatorWorkURL | http://www.flickr.com/photos/jarud/ |
CropAngle | 0.562121 |
CropBottom | 0.867805 |
CropConstrainToWarp | 0 |
CropHeight | 696 |
CropLeft | 0.00506 |
CropRight | 0.948794 |
CropTop | 0.080174 |
CropUnit | pixels |
CropWidth | 1280 |
CustomRendered | Normal |
DateCreated (1) | 2012:07:02 |
DateCreated | 2012:07:02 10:58:02.48 |
DateTimeOriginal | 2012:07:02 10:58:02 |
DefringeGreenAmount | 0 |
DefringeGreenHueHi | 60 |
DefringeGreenHueLo | 40 |
DefringePurpleAmount | 0 |
DefringePurpleHueHi | 70 |
DefringePurpleHueLo | 30 |
DOF | inf (2.27 m - inf) |
Exposure2012 | -0.83 |
ExposureCompensation | 0 |
ExposureMode | Manual |
ExposureProgram | Manual |
ExposureTime | 1/400 |
Firmware | 2.1.1 |
Flash | Off, Did not fire |
FlashCompensation | 0 |
FNumber | 6.3 |
FocalLength | 21.0 mm |
FocalLength35efl | 21.0 mm (35 mm equivalent: 20.5 mm) |
Format | image/jpeg |
FOV | 82.6 deg |
GradientBasedCorrActive | true |
GradientBasedCorrAmount | 1.000000 |
GradientBasedCorrBrightness | 0.025000 |
GradientBasedCorrClarity2012 | -0.655172 |
GradientBasedCorrContrast2012 | -0.149425 |
GradientBasedCorrDefringe | 0.000000 |
GradientBasedCorrExposure2012 | -0.216379 |
GradientBasedCorrHighlights2012 | 0.000000 |
GradientBasedCorrHue | 232.000000 |
GradientBasedCorrLuminanceNoise | 0.000000 |
GradientBasedCorrMaskFullX | 0.076872 |
GradientBasedCorrMaskFullY | 0.053629 |
GradientBasedCorrMaskValue | 1.000000 |
GradientBasedCorrMaskWhat | Mask/Gradient |
GradientBasedCorrMaskZeroX | 0.138835 |
GradientBasedCorrMaskZeroY | 0.512726 |
GradientBasedCorrMoire | 0.000000 |
GradientBasedCorrSaturation (1) | -0.149425 |
GradientBasedCorrSaturation | 0.350000 |
GradientBasedCorrShadows2012 | 0.000000 |
GradientBasedCorrSharpness | -0.150000 |
GradientBasedCorrTemperature | 0.000000 |
GradientBasedCorrTint | 0.000000 |
GradientBasedCorrWhat | Correction |
GrainAmount | 0 |
GreenHue | 0 |
GreenSaturation | 0 |
HasCrop | True |
HasSettings | True |
Highlights2012 | -40 |
HueAdjustmentAqua | 0 |
HueAdjustmentBlue | 0 |
HueAdjustmentGreen | 0 |
HueAdjustmentMagenta | 0 |
HueAdjustmentOrange | 0 |
HueAdjustmentPurple | 0 |
HueAdjustmentRed | 0 |
HueAdjustmentYellow | 0 |
HyperfocalDistance | 2.27 m |
ImageHeight | 696 |
ImageNumber | 0 |
ImageSize | 1280x696 |
ImageWidth | 1280 |
ISO | 100 |
Keywords | 2012, jomfruland, landskap, norge, norway |
Label | Red |
Lens | EF17-40mm f/4L USM |
LensID (1) | 231 |
LensID | Canon EF 17-40mm f/4L USM |
LensInfo | 17-40mm f/? |
LensManualDistortionAmount | 0 |
LensModel | EF17-40mm f/4L USM |
LensProfileChromaticAberrationScale | 100 |
LensProfileDistortionScale | 100 |
LensProfileEnable | 1 |
LensProfileFilename | Canon EOS-1Ds Mark III (Canon EF 17-40mm f4 L USM) - RAW.lcp |
LensProfileName | Adobe (Canon EF 17-40mm f/4 L USM) |
LensProfileSetup | LensDefaults |
LensProfileVignettingScale | 100 |
LightValue | 14.0 |
LuminanceAdjustmentAqua | 0 |
LuminanceAdjustmentBlue | 0 |
LuminanceAdjustmentGreen | 0 |
LuminanceAdjustmentMagenta | 0 |
LuminanceAdjustmentOrange | 0 |
LuminanceAdjustmentPurple | 0 |
LuminanceAdjustmentRed | 0 |
LuminanceAdjustmentYellow | 0 |
LuminanceSmoothing | 0 |
Make | Canon |
Marked | True |
MaxApertureValue | 4.0 |
Megapixels | 0.891 |
MeteringMode | Multi-segment |
Model | Canon EOS 5D Mark II |
ModifyDate (1) | 2012:07:04 10:11:30+02:00 |
ModifyDate | 2012:07:04 10:11:30 |
OwnerName | Jan Erik Arud |
PaintCorrectionActive | true |
PaintCorrectionAmount | 1.000000 |
PaintCorrectionBrightness | 0.000000 |
PaintCorrectionClarity2012 | 0.000000 |
PaintCorrectionContrast2012 | 0.000000 |
PaintCorrectionDefringe | 0.000000 |
PaintCorrectionExposure2012 | 0.000000 |
PaintCorrectionHighlights2012 | 0.000000 |
PaintCorrectionHue | 232.000000 |
PaintCorrectionLuminanceNoise | 0.000000 |
PaintCorrectionMaskCenterWeight (1) | 0.058089 |
PaintCorrectionMaskCenterWeight | 0.020100 |
PaintCorrectionMaskFlow (2) | 0.804000 |
PaintCorrectionMaskFlow | 0.816000 |
PaintCorrectionMaskRadius (1) | 0.198804 |
PaintCorrectionMaskRadius (10) | 0.168835 |
PaintCorrectionMaskRadius (11) | 0.168692 |
PaintCorrectionMaskRadius (12) | 0.167361 |
PaintCorrectionMaskRadius (13) | 0.165160 |
PaintCorrectionMaskRadius (14) | 0.166301 |
PaintCorrectionMaskRadius (15) | 0.165327 |
PaintCorrectionMaskRadius (2) | 0.111104 |
PaintCorrectionMaskRadius (3) | 0.050203 |
PaintCorrectionMaskRadius (4) | 0.043975 |
PaintCorrectionMaskRadius (5) | 0.165068 |
PaintCorrectionMaskRadius (6) | 0.165258 |
PaintCorrectionMaskRadius (7) | 0.165535 |
PaintCorrectionMaskRadius (8) | 0.165679 |
PaintCorrectionMaskRadius (9) | 0.165072 |
PaintCorrectionMaskRadius | 0.165278 |
PaintCorrectionMaskValue (1) | 1.000000 |
PaintCorrectionMaskValue | 0.000000 |
PaintCorrectionMaskWhat | Mask/Paint |
PaintCorrectionMoire | 0.000000 |
PaintCorrectionSaturation | 0.000000 |
PaintCorrectionShadows2012 | 0.000000 |
PaintCorrectionSharpness | 0.525000 |
PaintCorrectionTemperature | 0.000000 |
PaintCorrectionTint | 0.000000 |
PaintCorrectionWhat | Correction |
ParametricDarks | -21 |
ParametricHighlights | 0 |
ParametricHighlightSplit | 75 |
ParametricLights | +25 |
ParametricMidtoneSplit | 50 |
ParametricShadows | 0 |
ParametricShadowSplit | 25 |
PerspectiveHorizontal | 0 |
PerspectiveRotate | 0.0 |
PerspectiveScale | 100 |
PerspectiveVertical | 0 |
PostCropVignetteAmount | 0 |
ProcessVersion | 6.7 |
ProfileDescription | sRGB IEC61966-2.1 |
Rating | 2 |
RedHue | 0 |
RedSaturation | 0 |
Rights | © 2012 Jan Erik Arud |
Saturation | +2 |
SaturationAdjustmentAqua | 0 |
SaturationAdjustmentBlue | 0 |
SaturationAdjustmentGreen | 0 |
SaturationAdjustmentMagenta | 0 |
SaturationAdjustmentOrange | 0 |
SaturationAdjustmentPurple | 0 |
SaturationAdjustmentRed | 0 |
SaturationAdjustmentYellow | 0 |
ScaleFactor35efl | 1.0 |
SceneCaptureType | Standard |
SerialNumber | 1330808505 |
Shadows2012 | +88 |
ShadowTint | 0 |
SharpenDetail | 40 |
SharpenEdgeMasking | 30 |
SharpenRadius | +1.0 |
Sharpness | 57 |
ShutterSpeed | 1/400 |
ShutterSpeedValue | 1/400 |
Software | Adobe Photoshop Lightroom 4.1 (Windows) |
SplitToningBalance | 0 |
SplitToningHighlightHue | 0 |
SplitToningHighlightSaturation | 0 |
SplitToningShadowHue | 0 |
SplitToningShadowSaturation | 0 |
Subject | 2012, jomfruland, landskap, norge, norway |
Tint | +4 |
ToneCurveName2012 | Linear |
ToneCurvePV2012 | 0, 0, 255, 255 |
ToneCurvePV2012Blue | 0, 0, 255, 255 |
ToneCurvePV2012Green | 0, 0, 255, 255 |
ToneCurvePV2012Red | 0, 0, 255, 255 |
UsageTerms | For any reuse or distribution of this image, please contact Jan Erik Arud at jan.erik.arud@gmail.com |
Version | 7.1 |
Vibrance | +5 |
VignetteAmount | 0 |
WhiteBalance | Auto |
Whites2012 | -55 |