Felt | Verdi |
AlreadyApplied | True |
Aperture | 1.6 |
ApertureValue | 1.6 |
BitsPerSample | 8 |
BlueHue | 0 |
BlueSaturation | 0 |
Brightness | +50 |
CameraProfile | ACR 4.4 |
ChromaticAberrationB | 0 |
ChromaticAberrationR | 0 |
CircleOfConfusion | 0.030 mm |
Clarity | +20 |
ColorComponents | 1 |
ColorNoiseReduction | 25 |
ColorNoiseReductionDetail | 50 |
ColorTemperature | 5000 |
Contrast | +78 |
ConvertToGrayscale | True |
CreateDate (1) | 2012:05:14 06:08:49+03:00 |
CreateDate | 2012:05:14 06:08:49 |
CreatorTool | Adobe Photoshop Lightroom |
CropAngle | 0 |
CropBottom | 1 |
CropConstrainToWarp | 0 |
CropHeight | 667 |
CropLeft | 0.049724 |
CropRight | 0.948435 |
CropTop | 0.101289 |
CropUnit | pixels |
CropWidth | 1000 |
CustomRendered | Normal |
DateTimeDigitized | 2012:05:14 06:08:49+03:00 |
DateTimeOriginal (1) | 2012:05:14 06:08:49+03:00 |
DateTimeOriginal | 2012:05:14 06:08:49 |
Defringe | 0 |
ExifImageHeight | 667 |
ExifImageWidth | 1000 |
Exposure | 0.00 |
ExposureCompensation | 0 |
ExposureMode | Manual |
ExposureProgram | Manual |
ExposureTime | 1/200 |
FillLight | 0 |
Firmware | 1.1.1 |
Flash | Off, Did not fire |
FlashCompensation | 0 |
FlashFired | False |
FlashFunction | False |
FlashMode | Off |
FlashRedEyeMode | False |
FlashReturn | No return detection |
FNumber | 1.6 |
FocalLength | 85.0 mm |
FocalLength35efl | 85.0 mm (35 mm equivalent: 85.2 mm) |
FOV | 23.9 deg |
GrainAmount | 5 |
GrainFrequency | 50 |
GrainSize | 25 |
GrayMixerAqua | -18 |
GrayMixerBlue | +9 |
GrayMixerGreen | -27 |
GrayMixerMagenta | +4 |
GrayMixerOrange | -19 |
GrayMixerPurple | +15 |
GrayMixerRed | -10 |
GrayMixerYellow | -23 |
GreenHue | 0 |
GreenSaturation | 0 |
HasCrop | True |
HasSettings | True |
HighlightRecovery | 0 |
HyperfocalDistance | 150.60 m |
ImageHeight | 667 |
ImageNumber | 39 |
ImageSize | 1000x667 |
ImageWidth | 1000 |
ISO | 200 |
Lens | 85.0 mm |
LensID (1) | 169 |
LensID | Sigma 85mm f/1.4 EX DG HSM |
LensInfo | 85mm f/? |
LensManualDistortionAmount | 0 |
LensModel | 85.0 mm |
LensProfileEnable | 0 |
LensProfileSetup | LensDefaults |
LightValue | 8.0 |
LuminanceSmoothing | 0 |
Make | Canon |
MaxApertureValue | 1.4 |
Megapixels | 0.667 |
MeteringMode | Spot |
Model | Canon EOS 5D |
ModifyDate (1) | 2012:05:15 00:25:54+03:00 |
ModifyDate | 2012:05:15 00:25:54 |
PaintCorrectionActive | true |
PaintCorrectionAmount | 1.000000 |
PaintCorrectionBrightness (13) | 0.000000 |
PaintCorrectionBrightness | 0.073000 |
PaintCorrectionClarity (1) | -0.366000 |
PaintCorrectionClarity (13) | -0.707000 |
PaintCorrectionClarity (3) | 0.655172 |
PaintCorrectionClarity | 0.000000 |
PaintCorrectionContrast | 0.000000 |
PaintCorrectionExposure (1) | -0.098000 |
PaintCorrectionExposure (13) | 0.293000 |
PaintCorrectionExposure (14) | 0.195000 |
PaintCorrectionExposure (15) | 0.122000 |
PaintCorrectionExposure (3) | 0.172414 |
PaintCorrectionExposure (6) | -0.244000 |
PaintCorrectionExposure (8) | 0.049000 |
PaintCorrectionExposure | 0.000000 |
PaintCorrectionHue | 240.000000 |
PaintCorrectionMaskCenterWeight (47) | 0.000000 |
PaintCorrectionMaskCenterWeight | 0.060354 |
PaintCorrectionMaskFlow | 1.000000 |
PaintCorrectionMaskRadius (1) | 0.039715 |
PaintCorrectionMaskRadius (11) | 0.114605 |
PaintCorrectionMaskRadius (13) | 0.045680 |
PaintCorrectionMaskRadius (15) | 0.143556 |
PaintCorrectionMaskRadius (18) | 0.234958 |
PaintCorrectionMaskRadius (26) | 0.179974 |
PaintCorrectionMaskRadius (29) | 0.026876 |
PaintCorrectionMaskRadius (30) | 0.013439 |
PaintCorrectionMaskRadius (32) | 0.024962 |
PaintCorrectionMaskRadius (34) | 0.021687 |
PaintCorrectionMaskRadius (36) | 0.136558 |
PaintCorrectionMaskRadius (40) | 0.015006 |
PaintCorrectionMaskRadius (41) | 0.016600 |
PaintCorrectionMaskRadius (46) | 0.015743 |
PaintCorrectionMaskRadius (5) | 0.019867 |
PaintCorrectionMaskRadius (50) | 0.008896 |
PaintCorrectionMaskRadius (51) | 0.012165 |
PaintCorrectionMaskRadius (52) | 0.226818 |
PaintCorrectionMaskRadius (56) | 0.116136 |
PaintCorrectionMaskRadius (57) | 0.150649 |
PaintCorrectionMaskRadius (7) | 0.217209 |
PaintCorrectionMaskRadius (9) | 0.298730 |
PaintCorrectionMaskRadius | 0.165121 |
PaintCorrectionMaskValue (47) | 0.000000 |
PaintCorrectionMaskValue | 1.000000 |
PaintCorrectionMaskWhat | Mask/Paint |
PaintCorrectionSaturation (5) | 0.701149 |
PaintCorrectionSaturation | 0.000000 |
PaintCorrectionSharpness (2) | 0.250000 |
PaintCorrectionSharpness | 0.000000 |
PaintCorrectionWhat | Correction |
ParametricDarks | -41 |
ParametricHighlights | 0 |
ParametricHighlightSplit | 75 |
ParametricLights | +32 |
ParametricMidtoneSplit | 50 |
ParametricShadows | 0 |
ParametricShadowSplit | 25 |
PerspectiveHorizontal | 0 |
PerspectiveRotate | 0.0 |
PerspectiveScale | 100 |
PerspectiveVertical | 0 |
PostCropVignetteAmount | 0 |
ProcessVersion | 5.7 |
ProfileDescription | sRGB IEC61966-2.1 |
RedHue | 0 |
RedSaturation | 0 |
ScaleFactor35efl | 1.0 |
SceneCaptureType | Standard |
SensitivityType | Unknown |
SerialNumber | 2231205832 |
Shadows | 13 |
ShadowTint | 0 |
SharpenDetail | 25 |
SharpenEdgeMasking | 29 |
SharpenRadius | +1.0 |
Sharpness | 91 |
ShutterSpeed | 1/200 |
ShutterSpeedValue | 1/200 |
SplitToningBalance | 0 |
SplitToningHighlightHue | 0 |
SplitToningHighlightSaturation | 0 |
SplitToningShadowHue | 0 |
SplitToningShadowSaturation | 0 |
Tint | +15 |
ToneCurve | 0, 0, 32, 22, 64, 56, 128, 128, 192, 196, 255, 255 |
ToneCurveName | Medium Contrast |
Version | 6.2 |
VignetteAmount | 0 |
WhiteBalance (2) | Custom |
WhiteBalance | Auto |