Felt | Verdi |
AlreadyApplied | True |
Aperture | 4.0 |
ApertureValue | 4.0 |
ApproximateFocusDistance | 2 |
BitsPerSample (1) | 8 8 8 |
BitsPerSample | 8 |
BlueHue | 0 |
BlueSaturation | 0 |
Brightness | +48 |
CameraProfile | Adobe Standard |
CFAPattern | [Green,Blue][Red,Green] |
ChromaticAberrationB | 0 |
ChromaticAberrationR | 0 |
CircleOfConfusion | 0.020 mm |
Clarity | +18 |
ColorComponents | 3 |
ColorMode | RGB |
ColorNoiseReduction | 25 |
ColorNoiseReductionDetail | 50 |
ColorSpace | sRGB |
ColorTemperature | 3650 |
Contrast (1) | +35 |
Contrast | Normal |
ConvertToGrayscale | True |
CreateDate (1) | 2012:05:11 12:38:38.00 |
CreateDate | 2012:05:11 12:38:38 |
CreatorTool | Adobe Photoshop Lightroom 3.4 |
CustomRendered | Normal |
DateCreated (1) | 2012:05:11 |
DateCreated | 2012:05:11 12:38:38 |
DateTimeOriginal | 2012:05:11 12:38:38 |
Defringe | 0 |
DigitalZoomRatio | 1 |
DOF | inf (0.95 m - inf) |
ExifImageHeight | 399 |
ExifImageWidth | 600 |
Exposure | 0.00 |
ExposureCompensation | 0 |
ExposureMode | Manual |
ExposureProgram | Manual |
ExposureTime | 1/100 |
FillLight | 22 |
Flash | No Flash |
FNumber | 4.0 |
FocalLength | 12.0 mm |
FocalLength35efl | 12.0 mm (35 mm equivalent: 18.0 mm) |
FocalLengthIn35mmFormat | 18 mm |
Format | image/jpeg |
FOV | 90.0 deg |
GainControl | High gain up |
GrainAmount | 0 |
GrayMixerAqua | -15 |
GrayMixerBlue | +1 |
GrayMixerGreen | +13 |
GrayMixerMagenta | +9 |
GrayMixerOrange | +8 |
GrayMixerPurple | 0 |
GrayMixerRed | -4 |
GrayMixerYellow | +10 |
GreenHue | 0 |
GreenSaturation | 0 |
HasCrop | False |
HasSettings | True |
HighlightRecovery | 32 |
HyperfocalDistance | 1.80 m |
ICCProfileName | sRGB IEC61966-2.1 |
ImageHeight (1) | 2848 |
ImageHeight | 399 |
ImageNumber | 71753 |
ImageSize | 600x399 |
ImageWidth (1) | 4288 |
ImageWidth | 600 |
ISO | 1600 |
Lens | 12.0-24.0 mm f/4.0 |
LensID (1) | 122 |
LensID | AF-S DX Zoom-Nikkor 12-24mm f/4G IF-ED or Tokina AT-X 124 AF PRO DX II (AF 12-24mm f/4) |
LensInfo | 12-24mm f/4 |
LensManualDistortionAmount | 0 |
LensModel | 12.0-24.0 mm f/4.0 |
LensProfileChromaticAberrationScale | 100 |
LensProfileDistortionScale | 100 |
LensProfileEnable | 1 |
LensProfileFilename | NIKON D90 (Nikon AF-S DX Zoom-Nikkor 12-24mm f4G IF-ED) - RAW.lcp |
LensProfileName | Adobe (Nikon AF-S DX Zoom-Nikkor 12-24mm f/4G IF-ED) |
LensProfileSetup | LensDefaults |
LensProfileVignettingScale | 100 |
LightSource | Unknown |
LightValue | 6.6 |
LuminanceSmoothing | 0 |
Make | NIKON CORPORATION |
MaxApertureValue | 4.0 |
Megapixels | 0.239 |
MeteringMode | Multi-segment |
Model | NIKON D90 |
ModifyDate (1) | 2012:05:19 00:17:52+02:00 |
ModifyDate | 2012:05:19 00:17:52 |
Orientation | Horizontal (normal) |
ParametricDarks | 0 |
ParametricHighlights | -15 |
ParametricHighlightSplit | 75 |
ParametricLights | +16 |
ParametricMidtoneSplit | 50 |
ParametricShadows | -50 |
ParametricShadowSplit | 25 |
PerspectiveHorizontal | 0 |
PerspectiveRotate | 0.0 |
PerspectiveScale | 100 |
PerspectiveVertical | 0 |
PhotometricInterpretation | RGB |
PostCropVignetteAmount | 0 |
ProcessVersion | 5.7 |
ProfileDescription | sRGB IEC61966-2.1 |
RedHue | 0 |
RedSaturation | 0 |
Saturation | Normal |
ScaleFactor35efl | 1.5 |
SceneCaptureType | Standard |
SceneType | Directly photographed |
SensingMethod | One-chip color area |
SerialNumber | 6284679 |
Shadows | 16 |
ShadowTint | 0 |
SharpenDetail | 25 |
SharpenEdgeMasking | 0 |
SharpenRadius | +1.0 |
Sharpness (1) | 25 |
Sharpness | Normal |
ShutterSpeed | 1/100 |
ShutterSpeedValue | 1/100 |
Software | Adobe Photoshop CS5 Macintosh |
SplitToningBalance | -11 |
SplitToningHighlightHue | 57 |
SplitToningHighlightSaturation | 33 |
SplitToningShadowHue | 303 |
SplitToningShadowSaturation | 9 |
SubjectDistance | 2 m |
SubjectDistanceRange | Unknown |
Tint | -6 |
ToneCurve | 0, 0, 35, 19, 125, 117, 192, 198, 255, 255 |
ToneCurveName | Custom |
URL_List | |
Version | 6.4 |
VignetteAmount | -1 |
VignetteMidpoint | 100 |
WhiteBalance (1) | As Shot |
WhiteBalance | Auto |