Felt | Verdi |
AlreadyApplied | True |
Aperture | 5.0 |
ApertureValue | 5.0 |
ApproximateFocusDistance | 4294967295 |
AutoLateralCA | 0 |
BitsPerSample | 8 |
Blacks2012 | -15 |
BlueHue | 0 |
BlueSaturation | 0 |
Brightness | +50 |
CameraProfile | Adobe Standard |
CircleOfConfusion | 0.031 mm |
Clarity | 0 |
Clarity2012 | 0 |
ColorComponents | 3 |
ColorNoiseReduction | 25 |
ColorNoiseReductionDetail | 50 |
ColorTemperature | 3400 |
Contrast | +25 |
Contrast2012 | 0 |
ConvertToGrayscale | False |
CreateDate (1) | 2012:05:06 01:45:42.06 |
CreateDate | 2012:05:06 01:45:42 |
CreatorTool | Adobe Photoshop Lightroom 4.0 (Windows) |
CropAngle | -1.4 |
CropBottom | 0.964533 |
CropConstrainToWarp | 0 |
CropHeight | 3610 |
CropLeft | 0.000005 |
CropRight | 0.983197 |
CropTop | 0.036083 |
CropUnit | pixels |
CropWidth | 5435 |
CustomRendered | Normal |
DateCreated (1) | 2012:05:06 |
DateCreated | 2012:05:06 01:45:42.06 |
DateTimeOriginal | 2012:05:06 01:45:42 |
Defringe | 0 |
DOF | inf (3.74 m - inf) |
Exposure | 0.00 |
Exposure2012 | -0.40 |
ExposureCompensation | 0 |
ExposureMode | Manual |
ExposureProgram | Manual |
ExposureTime | 30 |
FillLight | 0 |
Firmware | 2.0.7 |
Flash | Off, Did not fire |
FlashCompensation | 0 |
FNumber | 5.0 |
FocalLength | 24.0 mm |
FocalLength35efl | 24.0 mm (35 mm equivalent: 23.4 mm) |
Format | image/jpeg |
FOV | 75.1 deg |
GrainAmount | 0 |
GreenHue | 0 |
GreenSaturation | 0 |
HasCrop | True |
HasSettings | True |
HighlightRecovery | 0 |
Highlights2012 | -100 |
HueAdjustmentAqua | +100 |
HueAdjustmentBlue | 0 |
HueAdjustmentGreen | +20 |
HueAdjustmentMagenta | 0 |
HueAdjustmentOrange | -25 |
HueAdjustmentPurple | 0 |
HueAdjustmentRed | 0 |
HueAdjustmentYellow | +40 |
HyperfocalDistance | 3.74 m |
ImageHeight | 3610 |
ImageNumber | 0 |
ImageSize | 5435x3610 |
ImageWidth | 5435 |
ISO | 200 |
Lens | EF24-70mm f/2.8L USM |
LensID (1) | 230 |
LensID | Canon EF 24-70mm f/2.8L USM |
LensInfo | 24-70mm f/? |
LensManualDistortionAmount | 0 |
LensModel | EF24-70mm f/2.8L USM |
LensProfileEnable | 0 |
LensProfileSetup | LensDefaults |
LightValue | -1.3 |
LuminanceAdjustmentAqua | 0 |
LuminanceAdjustmentBlue | 0 |
LuminanceAdjustmentGreen | 0 |
LuminanceAdjustmentMagenta | 0 |
LuminanceAdjustmentOrange | 0 |
LuminanceAdjustmentPurple | 0 |
LuminanceAdjustmentRed | 0 |
LuminanceAdjustmentYellow | 0 |
LuminanceNoiseReductionContrast | 0 |
LuminanceNoiseReductionDetail | 50 |
LuminanceSmoothing | 30 |
Make | Canon |
MaxApertureValue | 2.8 |
Megapixels | 19.6 |
MeteringMode | Multi-segment |
Model | Canon EOS 5D Mark II |
ModifyDate (1) | 2012:05:06 04:35:50+02:00 |
ModifyDate | 2012:05:06 04:35:50 |
PaintCorrectionActive | true |
PaintCorrectionAmount | 1.000000 |
PaintCorrectionBrightness | 0.000000 |
PaintCorrectionClarity2012 | 0.000000 |
PaintCorrectionContrast2012 | 0.000000 |
PaintCorrectionExposure2012 (1) | 0.431000 |
PaintCorrectionExposure2012 (10) | 0.656000 |
PaintCorrectionExposure2012 (12) | 0.306000 |
PaintCorrectionExposure2012 (13) | -0.044000 |
PaintCorrectionExposure2012 (2) | -0.294000 |
PaintCorrectionExposure2012 (8) | 0.000000 |
PaintCorrectionExposure2012 (9) | 0.231000 |
PaintCorrectionExposure2012 | 0.281000 |
PaintCorrectionHighlights2012 (3) | 0.850000 |
PaintCorrectionHighlights2012 (4) | 0.510000 |
PaintCorrectionHighlights2012 (6) | 0.420000 |
PaintCorrectionHighlights2012 | 0.000000 |
PaintCorrectionHue | 240.000000 |
PaintCorrectionLuminanceNoise (5) | -1.000000 |
PaintCorrectionLuminanceNoise | 0.000000 |
PaintCorrectionMaskCenterWeight (11) | 0.000000 |
PaintCorrectionMaskCenterWeight | 0.101428 |
PaintCorrectionMaskFlow | 1.000000 |
PaintCorrectionMaskRadius (1) | 0.061519 |
PaintCorrectionMaskRadius (10) | 0.034039 |
PaintCorrectionMaskRadius (11) | 0.138658 |
PaintCorrectionMaskRadius (14) | 0.119086 |
PaintCorrectionMaskRadius (19) | 0.081433 |
PaintCorrectionMaskRadius (2) | 0.307881 |
PaintCorrectionMaskRadius (20) | 0.058177 |
PaintCorrectionMaskRadius (22) | 0.235734 |
PaintCorrectionMaskRadius (24) | 0.112579 |
PaintCorrectionMaskRadius (27) | 0.099844 |
PaintCorrectionMaskRadius (29) | 0.167212 |
PaintCorrectionMaskRadius (3) | 0.172888 |
PaintCorrectionMaskRadius (36) | 0.189222 |
PaintCorrectionMaskRadius (38) | 0.021033 |
PaintCorrectionMaskRadius (39) | 0.016095 |
PaintCorrectionMaskRadius (4) | 0.430519 |
PaintCorrectionMaskRadius (40) | 0.041705 |
PaintCorrectionMaskRadius (42) | 0.031184 |
PaintCorrectionMaskRadius (45) | 0.047103 |
PaintCorrectionMaskRadius (47) | 0.026062 |
PaintCorrectionMaskRadius (49) | 0.260236 |
PaintCorrectionMaskRadius (50) | 0.153000 |
PaintCorrectionMaskRadius (53) | 0.125684 |
PaintCorrectionMaskRadius (59) | 0.106166 |
PaintCorrectionMaskRadius (6) | 0.276965 |
PaintCorrectionMaskRadius (7) | 0.164150 |
PaintCorrectionMaskRadius (8) | 0.083395 |
PaintCorrectionMaskRadius (9) | 0.047538 |
PaintCorrectionMaskRadius | 0.181793 |
PaintCorrectionMaskValue | 1.000000 |
PaintCorrectionMaskWhat | Mask/Paint |
PaintCorrectionMoire | 0.000000 |
PaintCorrectionSaturation | 0.000000 |
PaintCorrectionShadows2012 (6) | -0.090000 |
PaintCorrectionShadows2012 | 0.000000 |
PaintCorrectionSharpness (7) | 1.000000 |
PaintCorrectionSharpness | 0.000000 |
PaintCorrectionTemperature (6) | -0.431180 |
PaintCorrectionTemperature (8) | -0.160000 |
PaintCorrectionTemperature | 0.000000 |
PaintCorrectionTint | 0.000000 |
PaintCorrectionWhat | Correction |
ParametricDarks | 0 |
ParametricHighlights | 0 |
ParametricHighlightSplit | 75 |
ParametricLights | 0 |
ParametricMidtoneSplit | 50 |
ParametricShadows | 0 |
ParametricShadowSplit | 25 |
PerspectiveHorizontal | 0 |
PerspectiveRotate | 0.0 |
PerspectiveScale | 100 |
PerspectiveVertical | 0 |
PostCropVignetteAmount | 0 |
ProcessVersion | 6.7 |
ProfileDescription | sRGB IEC61966-2.1 |
RedHue | 0 |
RedSaturation | 0 |
Saturation | 0 |
SaturationAdjustmentAqua | 0 |
SaturationAdjustmentBlue | 0 |
SaturationAdjustmentGreen | 0 |
SaturationAdjustmentMagenta | 0 |
SaturationAdjustmentOrange | 0 |
SaturationAdjustmentPurple | 0 |
SaturationAdjustmentRed | 0 |
SaturationAdjustmentYellow | 0 |
ScaleFactor35efl | 1.0 |
SceneCaptureType | Standard |
SerialNumber | 2331316328 |
Shadows | 5 |
Shadows2012 | -35 |
ShadowTint | 0 |
SharpenDetail | 25 |
SharpenEdgeMasking | 0 |
SharpenRadius | +1.0 |
Sharpness | 100 |
ShutterSpeed | 30 |
ShutterSpeedValue | 30 |
Software | Adobe Photoshop Lightroom 4.0 (Windows) |
SplitToningBalance | 0 |
SplitToningHighlightHue | 0 |
SplitToningHighlightSaturation | 0 |
SplitToningShadowHue | 0 |
SplitToningShadowSaturation | 0 |
Tint | -4 |
ToneCurve | 0, 0, 255, 255 |
ToneCurveBlue | 0, 0, 255, 255 |
ToneCurveGreen | 0, 0, 255, 255 |
ToneCurveName | Linear |
ToneCurveName2012 | Linear |
ToneCurvePV2012 | 0, 0, 255, 255 |
ToneCurvePV2012Blue | 0, 0, 255, 255 |
ToneCurvePV2012Green | 0, 0, 255, 255 |
ToneCurvePV2012Red | 0, 0, 255, 255 |
ToneCurveRed | 0, 0, 255, 255 |
Version | 7.0 |
Vibrance | 0 |
VignetteAmount | 0 |
WhiteBalance (1) | Custom |
WhiteBalance | Auto |
Whites2012 | +30 |