Felt | Verdi |
AlreadyApplied | True |
Aperture | 5.0 |
ApertureValue | 5.0 |
BitsPerSample | 8 |
BlueHue | 0 |
BlueSaturation | 0 |
Brightness | +50 |
CameraProfile | Adobe Standard |
CFAPattern | [Red,Green][Green,Blue] |
ChromaticAberrationB | 0 |
ChromaticAberrationR | 0 |
CircleOfConfusion | 0.020 mm |
Clarity | 0 |
ColorComponents | 1 |
ColorMode | RGB |
ColorNoiseReduction | 25 |
ColorSpace | sRGB |
ColorTemperature | 5900 |
Contrast (2) | +51 |
Contrast | Normal |
ConvertToGrayscale | True |
CreateDate (1) | 2011:11:12 13:59:38.81+01:00 |
CreateDate | 2011:11:12 13:59:38 |
CreatorTool | Ver.1.00 |
CustomRendered | Normal |
DateTimeDigitized | 2011:11:12 13:59:38.81+01:00 |
DateTimeOriginal (1) | 2011:11:12 13:59:38.81+01:00 |
DateTimeOriginal | 2011:11:12 13:59:38 |
Defringe | 0 |
DigitalZoomRatio | 1 |
DOF | 0.08 m (0.96 - 1.04 m) |
ExifImageHeight | 1476 |
ExifImageWidth | 1107 |
Exposure | +0.40 |
ExposureCompensation | 0 |
ExposureMode | Manual |
ExposureProgram | Manual |
ExposureTime | 1/250 |
FillLight | 24 |
Flash | No Flash |
FlashFired | False |
FlashFunction | False |
FlashMode | Unknown |
FlashRedEyeMode | False |
FlashReturn | No return detection |
FNumber | 5.0 |
FocalLength | 50.0 mm |
FocalLength35efl | 50.0 mm (35 mm equivalent: 75.0 mm) |
FocalLengthIn35mmFormat | 75 mm |
Format | image/jpeg |
FOV | 27.0 deg |
GainControl | Low gain up |
GrainAmount | 0 |
GrayMixerAqua | -20 |
GrayMixerBlue | +52 |
GrayMixerGreen | -16 |
GrayMixerMagenta | +46 |
GrayMixerOrange | -38 |
GrayMixerPurple | +21 |
GrayMixerRed | -32 |
GrayMixerYellow | -13 |
GreenHue | 0 |
GreenSaturation | 0 |
HasCrop | False |
HasSettings | True |
HighlightRecovery | 5 |
HyperfocalDistance | 24.96 m |
ICCProfileName | sRGB IEC61966-2.1 |
ImageHeight | 1476 |
ImageNumber | 5213 |
ImageSize | 1107x1476 |
ImageWidth | 1107 |
ISO | 400 |
Label | Select |
Lens | 50.0 mm f/1.8 |
LensID (1) | 118 |
LensID | AF Nikkor 50mm f/1.8D |
LensInfo | 50mm f/1.8 |
LightSource | Unknown |
LightValue | 10.6 |
LuminanceSmoothing | 72 |
Make | NIKON CORPORATION |
MaxApertureValue | 1.7 |
Megapixels | 1.6 |
MeteringMode | Multi-segment |
Model | NIKON D300S |
ModifyDate (1) | 2011:11:16 15:03:03+01:00 |
ModifyDate | 2011:11:16 15:03:03 |
Orientation | Horizontal (normal) |
ParametricDarks | -8 |
ParametricHighlights | +23 |
ParametricHighlightSplit | 75 |
ParametricLights | +9 |
ParametricMidtoneSplit | 50 |
ParametricShadows | -10 |
ParametricShadowSplit | 25 |
PostCropVignetteAmount | 0 |
ProcessVersion | 5.0 |
ProfileDescription | sRGB IEC61966-2.1 |
Rating | 0 |
RawFileName | DSC_5067.NEF |
RedHue | 0 |
RedSaturation | 0 |
Saturation | Normal |
ScaleFactor35efl | 1.5 |
SceneCaptureType | Standard |
SceneType | Directly photographed |
SensingMethod | One-chip color area |
SerialNumber | 6017178 |
Shadows | 9 |
ShadowTint | 0 |
SharpenDetail | 55 |
SharpenEdgeMasking | 0 |
SharpenRadius | +1.0 |
Sharpness (2) | 73 |
Sharpness | Normal |
ShutterSpeed | 1/250 |
ShutterSpeedValue | 1/250 |
SidecarForExtension | NEF |
Software | Adobe Photoshop CS4 Windows |
SplitToningBalance | 0 |
SplitToningHighlightHue | 0 |
SplitToningHighlightSaturation | 0 |
SplitToningShadowHue | 0 |
SplitToningShadowSaturation | 0 |
SubjectDistance | 1 m |
SubjectDistanceRange | Unknown |
Tint | +3 |
ToneCurve | 0, 0, 32, 22, 64, 56, 128, 128, 192, 196, 255, 255 |
ToneCurveName | Medium Contrast |
URL_List | |
Version | 5.7 |
VignetteAmount | 0 |
WhiteBalance (2) | Custom |
WhiteBalance | Auto |