Felt | Verdi |
AlreadyApplied | True |
Aperture | 4.8 |
ApertureValue | 4.8 |
ApproximateFocusDistance | 1.2 |
Artist | David A. Strand |
BitsPerSample | 8 |
BlueHue | 0 |
BlueSaturation | 0 |
Brightness | +36 |
By-line | David A. Strand |
CameraProfile | Adobe Standard |
ChromaticAberrationB | 0 |
ChromaticAberrationR | 0 |
CircleOfConfusion | 0.006 mm |
Clarity | +59 |
ColorComponents | 3 |
ColorNoiseReduction | 25 |
ColorNoiseReductionDetail | 50 |
ColorTemperature | 5500 |
Contrast | +48 |
ConvertToGrayscale | False |
Copyright | David A. Strand |
CopyrightFlag | True |
CopyrightNotice | David A. Strand |
CreateDate | 2011:07:21 13:43:32 |
Creator | David A. Strand |
CreatorAddress | A. O. Vinjesvei 15 |
CreatorCity | Moss |
CreatorCountry | Norway |
CreatorPostalCode | 1511 |
CreatorTool | Adobe Photoshop Lightroom 3.4.1 |
CreatorWorkEmail | davidonius@hotmail.com |
CreatorWorkTelephone | +4747623716 |
CreatorWorkURL | www.dastrand.com |
CropAngle | 0 |
CropBottom | 0.841797 |
CropConstrainToWarp | 0 |
CropHeight | 576 |
CropLeft | 0 |
CropRight | 1 |
CropTop | 0.091797 |
CropUnit | pixels |
CropWidth | 1024 |
CustomRendered | Normal |
DateCreated (1) | 2011:07:21 |
DateCreated | 2011:07:21 13:43:32 |
DateTimeOriginal | 2011:07:21 13:43:32 |
Defringe | 0 |
DigitalZoomRatio | 1 |
DOF | 0.04 m (1.18 - 1.22 m) |
Exposure | +0.30 |
ExposureCompensation | 0 |
ExposureMode | Auto |
ExposureTime | 1/160 |
FillLight | 15 |
Firmware | 1.00 |
Flash | Off, Did not fire |
FlashCompensation | 0 |
FNumber | 4.8 |
FocalLength | 44.4 mm |
FocalLength35efl | 44.4 mm (35 mm equivalent: 207.7 mm) |
FOV | 9.9 deg |
GrainAmount | 0 |
GreenHue | 0 |
GreenSaturation | 0 |
HasCrop | True |
HasSettings | True |
HighlightRecovery | 0 |
HueAdjustmentAqua | 0 |
HueAdjustmentBlue | 0 |
HueAdjustmentGreen | 0 |
HueAdjustmentMagenta | 0 |
HueAdjustmentOrange | 0 |
HueAdjustmentPurple | 0 |
HueAdjustmentRed | 0 |
HueAdjustmentYellow | 0 |
HyperfocalDistance | 63.93 m |
ImageHeight | 576 |
ImageSize | 1024x576 |
ImageWidth | 1024 |
ISO | 80 |
Keywords | Animals, Bueorm, NATURE, PLACES, Reptiles, Snake, Sweden, Vertebrates |
Lens | 7.4-44.4 mm |
LensInfo | 7.4-44.4mm f/? |
LensManualDistortionAmount | 0 |
LensModel | 7.4-44.4 mm |
LensProfileEnable | 0 |
LensProfileSetup | LensDefaults |
LightValue | 12.2 |
LuminanceAdjustmentAqua | 0 |
LuminanceAdjustmentBlue | 0 |
LuminanceAdjustmentGreen | 0 |
LuminanceAdjustmentMagenta | 0 |
LuminanceAdjustmentOrange | 0 |
LuminanceAdjustmentPurple | 0 |
LuminanceAdjustmentRed | 0 |
LuminanceAdjustmentYellow | 0 |
LuminanceSmoothing | 0 |
Make | Canon |
Marked | True |
MaxApertureValue | 4.8 |
Megapixels | 0.590 |
MeteringMode | Multi-segment |
Model | Canon PowerShot G9 |
ModifyDate (1) | 2011:07:24 21:12:30+02:00 |
ModifyDate | 2011:07:24 21:12:30 |
ParametricDarks | 0 |
ParametricHighlights | 0 |
ParametricHighlightSplit | 75 |
ParametricLights | 0 |
ParametricMidtoneSplit | 50 |
ParametricShadows | 0 |
ParametricShadowSplit | 25 |
PerspectiveHorizontal | 0 |
PerspectiveRotate | 0.0 |
PerspectiveScale | 100 |
PerspectiveVertical | 0 |
PostCropVignetteAmount | -24 |
PostCropVignetteFeather | 50 |
PostCropVignetteHighlightContrast | 0 |
PostCropVignetteMidpoint | 50 |
PostCropVignetteRoundness | 0 |
PostCropVignetteStyle | 1 |
ProcessVersion | 5.7 |
ProfileDescription | sRGB IEC61966-2.1 |
Rating | 2 |
RedHue | 0 |
RedSaturation | 0 |
Rights | David A. Strand |
Saturation | +10 |
SaturationAdjustmentAqua | 0 |
SaturationAdjustmentBlue | 0 |
SaturationAdjustmentGreen | 0 |
SaturationAdjustmentMagenta | 0 |
SaturationAdjustmentOrange | 0 |
SaturationAdjustmentPurple | 0 |
SaturationAdjustmentRed | 0 |
SaturationAdjustmentYellow | 0 |
ScaleFactor35efl | 4.7 |
SceneCaptureType | Standard |
SensingMethod | One-chip color area |
Shadows | 5 |
ShadowTint | 0 |
SharpenDetail | 25 |
SharpenEdgeMasking | 90 |
SharpenRadius | +1.0 |
Sharpness | 78 |
ShutterSpeed | 1/160 |
ShutterSpeedValue | 1/160 |
Software | Adobe Photoshop Lightroom 3.4.1 |
SplitToningBalance | 0 |
SplitToningHighlightHue | 0 |
SplitToningHighlightSaturation | 0 |
SplitToningShadowHue | 0 |
SplitToningShadowSaturation | 0 |
Subject | Animals, Bueorm, NATURE, PLACES, Reptiles, Snake, Sweden, Vertebrates |
SubjectDistance | 1.2 m |
Tint | +10 |
ToneCurve | 0, 0, 32, 22, 64, 56, 128, 128, 192, 196, 255, 255 |
ToneCurveName | Medium Contrast |
Version | 6.4.1 |
Vibrance | +49 |
VignetteAmount | 0 |
WhiteBalance (1) | Daylight |
WhiteBalance | Auto |