Felt | Verdi |
AlreadyApplied | True |
Aperture | 4.0 |
ApertureValue | 4.0 |
ApproximateFocusDistance | 15.3 |
BitsPerSample | 8 |
BlueHue | 0 |
BlueSaturation | 0 |
Brightness | +51 |
CameraProfile | Adobe Standard |
ChromaticAberrationB | 0 |
ChromaticAberrationR | 0 |
CircleOfConfusion | 0.019 mm |
Clarity | 0 |
ColorComponents | 3 |
ColorMode | RGB |
ColorNoiseReduction | 25 |
ColorNoiseReductionDetail | 50 |
ColorSpace | sRGB |
ColorTemperature | 4750 |
Contrast | +38 |
ConvertToGrayscale | False |
CreateDate (1) | 2011:07:03 14:17:09.55+02:00 |
CreateDate | 2011:07:03 14:17:09 |
CropAngle | 0 |
CropBottom | 0.737852 |
CropConstrainToWarp | 1 |
CropLeft | 0.354646 |
CropRight | 0.99659 |
CropTop | 0.12532 |
CustomRendered | Normal |
DateCreated (1) | 2011:07:03 |
DateCreated | 2011:07:03 14:17:09.055 |
DateTimeOriginal | 2011:07:03 14:17:09 |
Defringe | 0 |
DOF | 1.57 m (14.56 - 16.12 m) |
ExifImageHeight | 1032 |
ExifImageWidth | 1264 |
Exposure | -0.55 |
ExposureCompensation | 0 |
ExposureMode | Auto |
ExposureProgram | Aperture-priority AE |
ExposureTime | 1/1500 |
FillLight | 31 |
Firmware | 1.0.7 |
Flash | Off, Did not fire |
FlashCompensation | 0 |
FNumber | 4.0 |
FocalLength | 150.0 mm |
FocalLength35efl | 150.0 mm (35 mm equivalent: 237.7 mm) |
Format | image/jpeg |
FOV | 8.7 deg |
GrainAmount | 0 |
GreenHue | 0 |
GreenSaturation | 0 |
HasCrop | True |
HasSettings | True |
HighlightRecovery | 49 |
HueAdjustmentAqua | 0 |
HueAdjustmentBlue | 0 |
HueAdjustmentGreen | 0 |
HueAdjustmentMagenta | 0 |
HueAdjustmentOrange | 0 |
HueAdjustmentPurple | 0 |
HueAdjustmentRed | 0 |
HueAdjustmentYellow | 0 |
HyperfocalDistance | 296.65 m |
ICCProfileName | sRGB IEC61966-2.1 |
ImageHeight | 1032 |
ImageNumber | 0 |
ImageSize | 1264x1032 |
ImageWidth | 1264 |
ISO | 100 |
Lens | 150mm |
LensID (1) | 173 |
LensID | Sigma APO Macro 150mm f/2.8 EX DG HSM |
LensInfo | 150mm f/? |
LensManualDistortionAmount | 0 |
LensModel | 150mm |
LensProfileEnable | 0 |
LensProfileSetup | LensDefaults |
LightValue | 14.6 |
LuminanceAdjustmentAqua | 0 |
LuminanceAdjustmentBlue | 0 |
LuminanceAdjustmentGreen | 0 |
LuminanceAdjustmentMagenta | 0 |
LuminanceAdjustmentOrange | 0 |
LuminanceAdjustmentPurple | 0 |
LuminanceAdjustmentRed | 0 |
LuminanceAdjustmentYellow | 0 |
LuminanceSmoothing | 0 |
Make | Canon |
MaxApertureValue | 2.8 |
Megapixels | 1.3 |
MeteringMode | Spot |
Model | Canon EOS 50D |
ModifyDate (1) | 2011:07:06 20:54:53+02:00 |
ModifyDate | 2011:07:06 20:54:53 |
Orientation | Horizontal (normal) |
ParametricDarks | 0 |
ParametricHighlights | 0 |
ParametricHighlightSplit | 75 |
ParametricLights | 0 |
ParametricMidtoneSplit | 50 |
ParametricShadows | 0 |
ParametricShadowSplit | 25 |
PerspectiveHorizontal | 0 |
PerspectiveRotate | 0.0 |
PerspectiveScale | 100 |
PerspectiveVertical | 0 |
PostCropVignetteAmount | 0 |
ProcessVersion | 5.7 |
ProfileDescription | sRGB IEC61966-2.1 |
Rating | 0 |
RawFileName | IMG_5464.CR2 |
RedHue | 0 |
RedSaturation | 0 |
Saturation | +8 |
SaturationAdjustmentAqua | 0 |
SaturationAdjustmentBlue | 0 |
SaturationAdjustmentGreen | 0 |
SaturationAdjustmentMagenta | 0 |
SaturationAdjustmentOrange | 0 |
SaturationAdjustmentPurple | 0 |
SaturationAdjustmentRed | 0 |
SaturationAdjustmentYellow | 0 |
ScaleFactor35efl | 1.6 |
SceneCaptureType | Standard |
SensitivityType | Unknown |
SerialNumber | 2260714542 |
Shadows | 17 |
ShadowTint | 0 |
SharpenDetail | 25 |
SharpenEdgeMasking | 0 |
SharpenRadius | +1.0 |
Sharpness | 25 |
ShutterSpeed | 1/1500 |
ShutterSpeedValue | 1/1500 |
SidecarForExtension | CR2 |
Software | Adobe Photoshop CS5 Windows |
SplitToningBalance | 0 |
SplitToningHighlightHue | 0 |
SplitToningHighlightSaturation | 0 |
SplitToningShadowHue | 0 |
SplitToningShadowSaturation | 0 |
SubjectDistance | 15.3 m |
Tint | +11 |
ToneCurve | 0, 0, 32, 22, 64, 56, 128, 128, 192, 196, 255, 255 |
ToneCurveName | Medium Contrast |
URL_List | |
Version | 6.2 |
Vibrance | 0 |
VignetteAmount | 0 |
WhiteBalance (1) | As Shot |
WhiteBalance | Auto |