Felt | Verdi |
AlreadyApplied | True |
Aperture | 16.0 |
ApertureValue | 16.0 |
ApproximateFocusDistance | 1.5 |
Artist | Magnus Sagerup |
BitsPerSample (1) | 8 8 8 |
BitsPerSample | 8 |
BlueHue | 0 |
BlueSaturation | 0 |
Brightness | +50 |
By-line | Magnus Sagerup |
CameraProfile | Adobe Standard |
Caption-Abstract | Men from Sudan in the Tunesian/Libyan border camp protesting against still living in the camp, many have been there since 8 march and many have had their passports taken from them in Libya. |
CFAPattern | [Red,Green][Green,Blue] |
ChromaticAberrationB | 0 |
ChromaticAberrationR | 0 |
CircleOfConfusion | 0.030 mm |
Clarity | +16 |
ColorComponents | 1 |
ColorMode | RGB |
ColorNoiseReduction | 25 |
ColorNoiseReductionDetail | 50 |
ColorSpace | Uncalibrated |
ColorTemperature | 5850 |
Contrast (1) | +25 |
Contrast | Normal |
ConvertToGrayscale | False |
Copyright | Magnus Sagerup |
CopyrightNotice | Magnus Sagerup |
CreateDate (1) | 2011:03:17 12:43:24.33+01:00 |
CreateDate | 2011:03:17 12:43:24 |
Creator | Magnus Sagerup |
CreatorTool | Adobe Photoshop CS5 Windows |
CustomRendered | Normal |
DateCreated (1) | 2011:03:17 |
DateCreated | 2011:03:17 12:43:24.033 |
DateTimeOriginal | 2011:03:17 12:43:24 |
Defringe | 0 |
Description | Men from Sudan in the Tunesian/Libyan border camp protesting against still living in the camp, many have been there since 8 march and many have had their passports taken from them in Libya. |
DigitalZoomRatio | 1 |
DOF | 1.91 m (1.01 - 2.92 m) |
ExifImageHeight | 884 |
ExifImageWidth | 1328 |
Exposure | -0.50 |
ExposureCompensation | 0 |
ExposureMode | Auto |
ExposureProgram | Aperture-priority AE |
ExposureTime | 1/125 |
FillLight | 0 |
Flash | On, Return detected |
FNumber | 16.0 |
FocalLength | 38.0 mm |
FocalLength35efl | 38.0 mm (35 mm equivalent: 38.0 mm) |
FocalLengthIn35mmFormat | 38 mm |
Format | image/jpeg |
FOV | 50.7 deg |
GainControl | None |
GrainAmount | 0 |
GreenHue | 0 |
GreenSaturation | 0 |
HasCrop | False |
HasSettings | True |
HighlightRecovery | 0 |
HueAdjustmentAqua | 0 |
HueAdjustmentBlue | 0 |
HueAdjustmentGreen | 0 |
HueAdjustmentMagenta | 0 |
HueAdjustmentOrange | 0 |
HueAdjustmentPurple | 0 |
HueAdjustmentRed | 0 |
HueAdjustmentYellow | 0 |
HyperfocalDistance | 3.00 m |
ICCProfileName | Adobe RGB (1998) |
ImageDescription | Men from Sudan in the Tunesian/Libyan border camp protesting against still living in the camp, many have been there since 8 march and many have had their passports taken from them in Libya. |
ImageHeight | 884 |
ImageNumber | 1989 |
ImageSize | 1328x884 |
ImageWidth | 1328 |
ISO | 250 |
Lens | 24.0-120.0 mm f/3.5-5.6 |
LensID (1) | 120 |
LensID | AF-S VR Zoom-Nikkor 24-120mm f/3.5-5.6G IF-ED |
LensInfo | 24-120mm f/3.5-5.6 |
LensManualDistortionAmount | 0 |
LensModel | 24.0-120.0 mm f/3.5-5.6 |
LensProfileEnable | 0 |
LensProfileSetup | LensDefaults |
LightSource | Unknown |
LightValue | 13.6 |
LuminanceAdjustmentAqua | 0 |
LuminanceAdjustmentBlue | 0 |
LuminanceAdjustmentGreen | 0 |
LuminanceAdjustmentMagenta | 0 |
LuminanceAdjustmentOrange | 0 |
LuminanceAdjustmentPurple | 0 |
LuminanceAdjustmentRed | 0 |
LuminanceAdjustmentYellow | 0 |
LuminanceSmoothing | 0 |
Make | NIKON CORPORATION |
MaxApertureValue | 4.1 |
Megapixels | 1.2 |
MeteringMode | Multi-segment |
Model | NIKON D700 |
ModifyDate (1) | 2011:03:19 21:14:46+01:00 |
ModifyDate | 2011:03:19 21:14:46 |
Orientation | Horizontal (normal) |
PaintCorrectionActive | true |
PaintCorrectionAmount | 1.000000 |
PaintCorrectionBrightness (1) | 0.360000 |
PaintCorrectionBrightness | -0.685000 |
PaintCorrectionClarity (1) | 0.350000 |
PaintCorrectionClarity | 0.070000 |
PaintCorrectionContrast (1) | 0.150000 |
PaintCorrectionContrast | 0.030000 |
PaintCorrectionExposure (1) | 0.550000 |
PaintCorrectionExposure | 0.700000 |
PaintCorrectionHue | 0.000000 |
PaintCorrectionMaskCenterWeight (17) | 0.105656 |
PaintCorrectionMaskCenterWeight (9) | 0.131575 |
PaintCorrectionMaskCenterWeight | 0.149306 |
PaintCorrectionMaskFlow (10) | 0.338028 |
PaintCorrectionMaskFlow (17) | 0.198347 |
PaintCorrectionMaskFlow | 0.824513 |
PaintCorrectionMaskRadius (13) | 0.133148 |
PaintCorrectionMaskRadius (17) | 0.218004 |
PaintCorrectionMaskRadius (2) | 0.288637 |
PaintCorrectionMaskRadius | 0.183962 |
PaintCorrectionMaskValue (15) | 0.000000 |
PaintCorrectionMaskValue (9) | 0.540000 |
PaintCorrectionMaskValue | 0.290000 |
PaintCorrectionMaskWhat | Mask/Paint |
PaintCorrectionSaturation (3) | 0.010000 |
PaintCorrectionSaturation | 0.000000 |
PaintCorrectionSharpness (1) | 0.240000 |
PaintCorrectionSharpness | 0.620000 |
PaintCorrectionWhat | Correction |
ParametricDarks | 0 |
ParametricHighlights | 0 |
ParametricHighlightSplit | 75 |
ParametricLights | 0 |
ParametricMidtoneSplit | 50 |
ParametricShadows | 0 |
ParametricShadowSplit | 25 |
PerspectiveHorizontal | 0 |
PerspectiveRotate | 0.0 |
PerspectiveScale | 100 |
PerspectiveVertical | 0 |
PhotometricInterpretation | RGB |
PostCropVignetteAmount | 0 |
ProcessVersion | 5.7 |
ProfileDescription | Adobe RGB (1998) |
Rating | 0 |
RawFileName | tunis_17-92-2.NEF |
RedHue | 0 |
RedSaturation | 0 |
Rights | Magnus Sagerup |
Saturation (1) | 0 |
Saturation | Normal |
SaturationAdjustmentAqua | 0 |
SaturationAdjustmentBlue | 0 |
SaturationAdjustmentGreen | 0 |
SaturationAdjustmentMagenta | 0 |
SaturationAdjustmentOrange | 0 |
SaturationAdjustmentPurple | 0 |
SaturationAdjustmentRed | 0 |
SaturationAdjustmentYellow | 0 |
ScaleFactor35efl | 1.0 |
SceneCaptureType | Standard |
SceneType | Directly photographed |
SensingMethod | One-chip color area |
SensitivityType | Unknown |
SerialNumber | 2316929 |
Shadows | 5 |
ShadowTint | 0 |
SharpenDetail | 25 |
SharpenEdgeMasking | 0 |
SharpenRadius | +1.0 |
Sharpness (1) | 25 |
Sharpness | Normal |
ShutterSpeed | 1/125 |
ShutterSpeedValue | 1/125 |
SidecarForExtension | NEF |
Software | Adobe Photoshop CS5 Windows |
SplitToningBalance | 0 |
SplitToningHighlightHue | 0 |
SplitToningHighlightSaturation | 0 |
SplitToningShadowHue | 0 |
SplitToningShadowSaturation | 0 |
SubjectDistance | 1.5 m |
SubjectDistanceRange | Unknown |
Tint | 0 |
ToneCurve | 0, 0, 32, 22, 64, 56, 128, 128, 192, 196, 255, 255 |
ToneCurveName | Medium Contrast |
URL_List | |
Version | 6.3 |
Vibrance | +10 |
VignetteAmount | 0 |
WhiteBalance | Auto |