Felt | Verdi |
AlreadyApplied | True |
Aperture | 1.4 |
ApertureValue | 1.4 |
ApproximateFocusDistance | 4294967295 |
Artist | KODIAK PHOTOGRAPHY |
BitsPerSample | 8 |
BlueHue | 0 |
BlueSaturation | 0 |
Brightness | +50 |
By-line | KODIAK PHOTOGRAPHY |
CameraProfile | Adobe Standard |
CFAPattern | [Red,Green][Green,Blue] |
ChromaticAberrationB | 0 |
ChromaticAberrationR | 0 |
CircleOfConfusion | 0.030 mm |
Clarity | +15 |
ColorComponents | 3 |
ColorNoiseReduction | 25 |
ColorNoiseReductionDetail | 50 |
ColorTemperature | 3724 |
Contrast (2) | +25 |
Contrast | Normal |
ConvertToGrayscale | False |
Copyright | KODIAK PHOTOGRAPHY |
CopyrightNotice | KODIAK PHOTOGRAPHY |
CreateDate (1) | 2011:01:13 22:05:43.05+01:00 |
CreateDate | 2011:01:13 22:05:43 |
Creator | KODIAK PHOTOGRAPHY |
CreatorTool | Adobe Photoshop Lightroom 3.3 |
CustomRendered | Normal |
DateTimeDigitized | 2011:01:13 22:05:43.5+1:00 |
DateTimeOriginal (1) | 2011:01:13 22:05:43.5+1:00 |
DateTimeOriginal | 2011:01:13 22:05:43 |
Defringe | 0 |
DigitalZoomRatio | 1 |
DOF | inf (13.69 m - inf) |
ExifImageHeight (1) | 2832 |
ExifImageHeight | 852 |
ExifImageWidth (1) | 4256 |
ExifImageWidth | 1280 |
Exposure | +0.33 |
ExposureCompensation | 0 |
ExposureMode | Manual |
ExposureProgram | Manual |
ExposureTime | 1 |
FillLight | 0 |
Flash | No Flash |
FlashFired | False |
FlashFunction | False |
FlashMode | Unknown |
FlashRedEyeMode | False |
FlashReturn | No return detection |
FNumber | 1.4 |
FocalLength | 24.0 mm |
FocalLength35efl | 24.0 mm (35 mm equivalent: 24.0 mm) |
FocalLengthIn35mmFormat (2) | 24 |
FocalLengthIn35mmFormat | 24 mm |
FOV | 73.7 deg |
GainControl | High gain up |
GrainAmount | 0 |
GreenHue | 0 |
GreenSaturation | 0 |
HasCrop | False |
HasSettings | True |
HighlightRecovery | 0 |
HueAdjustmentAqua | 0 |
HueAdjustmentBlue | 0 |
HueAdjustmentGreen | 0 |
HueAdjustmentMagenta | 0 |
HueAdjustmentOrange | 0 |
HueAdjustmentPurple | 0 |
HueAdjustmentRed | 0 |
HueAdjustmentYellow | 0 |
HyperfocalDistance | 13.69 m |
ImageHeight (1) | 2832 |
ImageHeight | 852 |
ImageNumber | 7095 |
ImageSize | 1280x852 |
ImageWidth (1) | 4256 |
ImageWidth | 1280 |
ISO | 1600 |
Keywords | himmel, natt, nordlys |
Lens | 24.0 mm f/1.4 |
LensID (1) | 164 |
LensID | AF-S Nikkor 24mm f/1.4G ED |
LensInfo | 24mm f/1.4 |
LensManualDistortionAmount | 0 |
LensProfileEnable | 0 |
LensProfileSetup | LensDefaults |
LightSource | Unknown |
LightValue | -3.0 |
LuminanceAdjustmentAqua | 0 |
LuminanceAdjustmentBlue | 0 |
LuminanceAdjustmentGreen | 0 |
LuminanceAdjustmentMagenta | 0 |
LuminanceAdjustmentOrange | 0 |
LuminanceAdjustmentPurple | 0 |
LuminanceAdjustmentRed | 0 |
LuminanceAdjustmentYellow | 0 |
LuminanceNoiseReductionContrast | 0 |
LuminanceNoiseReductionDetail | 50 |
LuminanceSmoothing | 71 |
Make | NIKON CORPORATION |
MaxApertureValue | 1.4 |
Megapixels | 1.1 |
MeteringMode | Multi-segment |
Model | NIKON D3S |
ModifyDate (1) | 2011:01:14 22:42:49+01:00 |
ModifyDate | 2011:01:14 22:45:15 |
Orientation | Horizontal (normal) |
ParametricDarks | 0 |
ParametricHighlights | 0 |
ParametricHighlightSplit | 75 |
ParametricLights | 0 |
ParametricMidtoneSplit | 50 |
ParametricShadows | 0 |
ParametricShadowSplit | 25 |
PerspectiveHorizontal | 0 |
PerspectiveRotate | 0.0 |
PerspectiveScale | 100 |
PerspectiveVertical | 0 |
PostCropVignetteAmount | 0 |
ProcessVersion | 5.7 |
ProfileDescription | sRGB IEC61966-2.1 |
RedHue | 0 |
RedSaturation | 0 |
Rights | KODIAK PHOTOGRAPHY |
Saturation (2) | +10 |
Saturation | Normal |
SaturationAdjustmentAqua | 0 |
SaturationAdjustmentBlue | 0 |
SaturationAdjustmentGreen | 0 |
SaturationAdjustmentMagenta | 0 |
SaturationAdjustmentOrange | 0 |
SaturationAdjustmentPurple | 0 |
SaturationAdjustmentRed | 0 |
SaturationAdjustmentYellow | 0 |
ScaleFactor35efl | 1.0 |
SceneCaptureType | Standard |
SceneType | Directly photographed |
SensingMethod | One-chip color area |
SerialNumber | 2031880 |
Shadows | 11 |
ShadowTint | 0 |
SharpenDetail | 25 |
SharpenEdgeMasking | 0 |
SharpenRadius | +1.0 |
Sharpness (2) | 25 |
Sharpness | Normal |
ShutterSpeed | 1 |
ShutterSpeedValue | 1 |
Software | ACD Systems Digital Imaging |
SplitToningBalance | 0 |
SplitToningHighlightHue | 0 |
SplitToningHighlightSaturation | 0 |
SplitToningShadowHue | 0 |
SplitToningShadowSaturation | 0 |
Subject | himmel, natt, nordlys |
SubjectDistance (1) | 4294967295 m |
SubjectDistance | m |
SubjectDistanceRange | Unknown |
Tint | +30 |
ToneCurve | 0, 0, 32, 22, 64, 56, 128, 128, 192, 196, 255, 255 |
ToneCurveName | Medium Contrast |
Version | 6.3 |
Vibrance | +6 |
VignetteAmount | 0 |
WhiteBalance (2) | Custom |
WhiteBalance | Auto |