Felt | Verdi |
AlreadyApplied | True |
Aperture | 4.0 |
ApertureValue | 4.0 |
Artist | ANETTE LAWRENCE |
BitsPerSample | 8 |
BlueHue | 0 |
BlueSaturation | 0 |
Brightness | +65 |
By-line | ANETTE LAWRENCE |
By-lineTitle | |
CameraProfile | ACR 4.4 |
Caption-Abstract | |
Category | |
CFAPattern | [Red,Green][Green,Blue] |
ChromaticAberrationB | 0 |
ChromaticAberrationR | 0 |
City | |
Clarity | +31 |
ColorComponents | 3 |
ColorMode | RGB |
ColorNoiseReduction | 25 |
ColorSpace (1) | sRGB |
ColorSpace | Uncalibrated |
ColorTemperature | 50000 |
Contrast | +58 |
ConvertToGrayscale | False |
Copyright | Anette Lawrence |
CopyrightNotice | Anette Lawrence |
Country-PrimaryLocationCode | |
Country-PrimaryLocationName | |
CreateDate (1) | 2010:02:24 14:42:14.62+01:00 |
CreateDate | 2010:02:24 14:42:14 |
Creator | ANETTE LAWRENCE |
CreatorTool | Capture NX 1.3.0 W |
Credit | |
DateCreated | |
DateSent | |
DateTimeDigitized | 2010:02:24 14:42:14+01:00 |
DateTimeOriginal (1) | 2010:02:24 14:42:14+01:00 |
DateTimeOriginal | 2010:02:24 14:42:14 |
Defringe | 0 |
Destination | |
ExifImageHeight (1) | 1112 |
ExifImageHeight | 454 |
ExifImageWidth (1) | 2448 |
ExifImageWidth | 1000 |
ExpirationDate | |
ExpirationTime | |
Exposure | -0.35 |
ExposureCompensation | 0 |
ExposureProgram | Manual |
ExposureTime | 1/250 |
FileFormat | No ObjectData |
FileVersion | 0 |
FillLight | 21 |
Flash | On, Return not detected |
FlashFired | True |
FlashFunction | False |
FlashMode | On |
FlashRedEyeMode | False |
FlashReturn | Return not detected |
FNumber | 4.0 |
FocalLength | 85.0 mm |
FocalLength35efl | 85.0 mm |
Format | image/jpeg |
GreenHue | 0 |
GreenSaturation | 0 |
HasCrop | False |
HasSettings | True |
Headline | |
HighlightRecovery | 48 |
HueAdjustmentAqua | 0 |
HueAdjustmentBlue | 0 |
HueAdjustmentGreen | 0 |
HueAdjustmentMagenta | 0 |
HueAdjustmentOrange | 0 |
HueAdjustmentPurple | 0 |
HueAdjustmentRed | 0 |
HueAdjustmentYellow | 0 |
ICCProfileName | Nikon sRGB 4.0.0.3001 |
IFD0_Offset | 998 |
ImageDataSize | 353115 |
ImageHeight | 454 |
ImageNumber | 30235 |
ImageSize | 1000x454 |
ImageWidth | 1000 |
ISO | 200 |
LanguageIdentifier | |
Lens | 85.0 mm f/1.8 |
LensInfo | 85mm f/1.8 |
LightSource | Flash |
LightValue | 11.0 |
LuminanceAdjustmentAqua | 0 |
LuminanceAdjustmentBlue | 0 |
LuminanceAdjustmentGreen | 0 |
LuminanceAdjustmentMagenta | 0 |
LuminanceAdjustmentOrange | 0 |
LuminanceAdjustmentPurple | 0 |
LuminanceAdjustmentRed | 0 |
LuminanceAdjustmentYellow | 0 |
LuminanceSmoothing | 0 |
Make | NIKON CORPORATION |
MakerNoteVersion | 2.10 |
MaxApertureValue | 1.7 |
Megapixels | 0.454 |
MeteringMode | Spot |
Model | NIKON D3 |
ModifyDate (1) | 2010:02:27 00:29:43+01:00 |
ModifyDate | 2010:07:16 01:17:15 |
NEFBitDepth | n/a (JPEG) |
NikonCaptureVersion | Capture NX 1.3.0 W |
ObjectName | |
Orientation | Horizontal (normal) |
OriginalTransmissionReference | |
OriginatingProgram | |
ParametricDarks | 0 |
ParametricHighlights | 0 |
ParametricHighlightSplit | 75 |
ParametricLights | 0 |
ParametricMidtoneSplit | 50 |
ParametricShadows | 0 |
ParametricShadowSplit | 25 |
PostCropVignetteAmount | 0 |
PreviewIFD_Offset | 898 |
ProductID | |
ProfileDescription | Nikon sRGB 4.0.0.3001 |
ProgramVersion | |
Province-State | |
Rating | 0 |
RawFileName | Marius og Marte_3296.NEF |
RedHue | 0 |
RedSaturation | 0 |
ReleaseDate | |
ReleaseTime | |
Rights | Anette Lawrence |
Saturation | -84 |
SaturationAdjustmentAqua | 0 |
SaturationAdjustmentBlue | 0 |
SaturationAdjustmentGreen | 0 |
SaturationAdjustmentMagenta | 0 |
SaturationAdjustmentOrange | 0 |
SaturationAdjustmentPurple | 0 |
SaturationAdjustmentRed | 0 |
SaturationAdjustmentYellow | 0 |
SceneType | Directly photographed |
SensingMethod | One-chip color area |
SerialNumber | 2025934 |
ServiceIdentifier | |
Shadows | 53 |
ShadowTint | 0 |
SharpenDetail | 25 |
SharpenEdgeMasking | 0 |
SharpenRadius | +1.0 |
Sharpness | 25 |
ShutterSpeed | 1/250 |
ShutterSpeedValue | 3.4 |
SidecarForExtension | NEF |
Software | Capture NX 1.3.0 W |
Source | |
SpecialInstructions | |
SplitToningBalance | 0 |
SplitToningHighlightHue | 0 |
SplitToningHighlightSaturation | 0 |
SplitToningShadowHue | 0 |
SplitToningShadowSaturation | 0 |
TimeSent | |
Tint | +150 |
ToneCurve | 0, 0, 32, 22, 64, 56, 128, 128, 192, 196, 255, 255 |
ToneCurveName | Medium Contrast |
Version | 5.0 |
Vibrance | +97 |
VignetteAmount | 0 |
WhiteBalance | Custom |
Writer-Editor | |