Felt | Verdi |
AlreadyApplied | True |
Aperture | 5.6 |
ApertureValue | 5.6 |
BitsPerSample | 8 |
BlueHue | 0 |
BlueSaturation | 0 |
Brightness | 0 |
CameraProfile | Embedded |
ChromaticAberrationB | 0 |
ChromaticAberrationR | 0 |
Clarity | +50 |
ColorComponents | 3 |
ColorNoiseReduction | 0 |
Contrast | 0 |
ConvertToGrayscale | False |
CreateDate (1) | 2010:11:23 12:36:32+01:00 |
CreateDate | 2010:11:23 12:36:32 |
CreatorTool | Adobe Photoshop Lightroom |
DateTimeDigitized | 2010:11:23 12:36:32+01:00 |
DateTimeOriginal (1) | 2010:11:23 12:36:32+01:00 |
DateTimeOriginal | 2010:11:23 12:36:32 |
Defringe | 0 |
ExifImageHeight | 3024 |
ExifImageWidth | 4032 |
Exposure | 0.00 |
ExposureCompensation | 0 |
ExposureProgram | Aperture-priority AE |
ExposureTime | 1/320 |
FillLight | 0 |
Flash | Auto, Did not fire |
FlashFired | False |
FlashFunction | False |
FlashMode | Auto |
FlashRedEyeMode | False |
FlashReturn | No return detection |
FNumber | 5.6 |
FocalLength | 20.0 mm |
FocalLength35efl | 20.0 mm |
GrainAmount | 0 |
GreenHue | 0 |
GreenSaturation | 0 |
HasCrop | False |
HasSettings | True |
HighlightRecovery | 0 |
HueAdjustmentAqua | 0 |
HueAdjustmentBlue | 0 |
HueAdjustmentGreen | +44 |
HueAdjustmentMagenta | 0 |
HueAdjustmentOrange | 0 |
HueAdjustmentPurple | 0 |
HueAdjustmentRed | 0 |
HueAdjustmentYellow | 0 |
ImageHeight | 3024 |
ImageSize | 4032x3024 |
ImageWidth | 4032 |
IncrementalTemperature | 0 |
IncrementalTint | 0 |
ISO | 200 |
LensManualDistortionAmount | 0 |
LensProfileEnable | 0 |
LensProfileSetup | LensDefaults |
LightSource | Unknown |
LightValue | 12.3 |
LuminanceAdjustmentAqua | 0 |
LuminanceAdjustmentBlue | 0 |
LuminanceAdjustmentGreen | 0 |
LuminanceAdjustmentMagenta | 0 |
LuminanceAdjustmentOrange | 0 |
LuminanceAdjustmentPurple | 0 |
LuminanceAdjustmentRed | 0 |
LuminanceAdjustmentYellow | 0 |
LuminanceSmoothing | 0 |
Make | OLYMPUS IMAGING CORP. |
MaxApertureValue | 1.7 |
Megapixels | 12.2 |
MeteringMode | Multi-segment |
Model | E-P1 |
ModifyDate (1) | 2010:12:10 11:18:39+01:00 |
ModifyDate | 2010:12:10 11:18:39 |
ParametricDarks | 0 |
ParametricHighlights | 0 |
ParametricHighlightSplit | 75 |
ParametricLights | 0 |
ParametricMidtoneSplit | 50 |
ParametricShadows | 0 |
ParametricShadowSplit | 25 |
PerspectiveHorizontal | 0 |
PerspectiveRotate | 0.0 |
PerspectiveScale | 100 |
PerspectiveVertical | 0 |
PostCropVignetteAmount | 0 |
ProcessVersion | 5.7 |
ProfileDescription | sRGB IEC61966-2.1 |
RedHue | 0 |
RedSaturation | 0 |
Saturation | 0 |
SaturationAdjustmentAqua | 0 |
SaturationAdjustmentBlue | +19 |
SaturationAdjustmentGreen | -2 |
SaturationAdjustmentMagenta | 0 |
SaturationAdjustmentOrange | +31 |
SaturationAdjustmentPurple | 0 |
SaturationAdjustmentRed | 0 |
SaturationAdjustmentYellow | +10 |
SensitivityType | Unknown |
Shadows | 0 |
ShadowTint | 0 |
SharpenDetail | 57 |
SharpenEdgeMasking | 63 |
SharpenRadius | +0.5 |
Sharpness | 102 |
ShutterSpeed | 1/320 |
ShutterSpeedValue | 1/320 |
Software | QuickTime 7.6.6 |
SplitToningBalance | 0 |
SplitToningHighlightHue | 0 |
SplitToningHighlightSaturation | 0 |
SplitToningShadowHue | 0 |
SplitToningShadowSaturation | 0 |
ToneCurve | 0, 0, 255, 255 |
ToneCurveName | Linear |
Version | 6.2 |
Vibrance | 0 |
VignetteAmount | 0 |
WhiteBalance | As Shot |