Felt | Verdi |
AlreadyApplied | True |
Aperture | 5.0 |
ApertureValue | 5.0 |
BitsPerSample | 8 |
BlueHue | 0 |
BlueSaturation | 0 |
Brightness | +50 |
CameraProfile | Adobe Standard |
CFAPattern | [Red,Green][Green,Blue] |
ChromaticAberrationB | 0 |
ChromaticAberrationR | 0 |
CircleOfConfusion | 0.030 mm |
Clarity | +21 |
ColorComponents | 3 |
ColorNoiseReduction | 25 |
ColorTemperature | 4600 |
Contrast (2) | +52 |
Contrast | Normal |
ConvertToGrayscale | False |
CreateDate (1) | 2010:05:11 19:56:53.00+02:00 |
CreateDate | 2010:05:11 19:56:53 |
CreatorTool | Adobe Photoshop Lightroom |
CropAngle | 0.362299 |
CropBottom | 0.671977 |
CropHeight | 525 |
CropLeft | 0.006575 |
CropRight | 0.994589 |
CropTop | 0.051407 |
CropUnit | pixels |
CropWidth | 1280 |
CustomRendered | Normal |
DateTimeDigitized | 2010:05:11 19:56:53.00+02:00 |
DateTimeOriginal (1) | 2010:05:11 19:56:53.00+02:00 |
DateTimeOriginal | 2010:05:11 19:56:53 |
Defringe | 0 |
DigitalZoomRatio | 1 |
ExifImageHeight | 525 |
ExifImageWidth | 1280 |
Exposure | -0.63 |
ExposureCompensation | 0 |
ExposureMode | Auto |
ExposureProgram | Aperture-priority AE |
ExposureTime | 1/2000 |
FillLight | 0 |
Flash | No Flash |
FlashFired | False |
FlashFunction | False |
FlashMode | Unknown |
FlashRedEyeMode | False |
FlashReturn | No return detection |
FNumber | 5.0 |
FocalLength | 500.0 mm |
FocalLength35efl | 500.0 mm (35 mm equivalent: 500.0 mm) |
FocalLengthIn35mmFormat | 500 mm |
FOV | 4.1 deg |
GainControl | None |
GradientBasedCorrActive | true |
GradientBasedCorrAmount | 1.000000 |
GradientBasedCorrBrightness | -0.264368 |
GradientBasedCorrClarity | 0.471264 |
GradientBasedCorrContrast | 0.000000 |
GradientBasedCorrExposure | -0.172414 |
GradientBasedCorrHue | 323.000000 |
GradientBasedCorrMaskFullX | 0.536798 |
GradientBasedCorrMaskFullY | 0.191053 |
GradientBasedCorrMaskValue | 1.000000 |
GradientBasedCorrMaskWhat | Mask/Gradient |
GradientBasedCorrMaskZeroX | 0.531769 |
GradientBasedCorrMaskZeroY | 0.731852 |
GradientBasedCorrSaturation (1) | 0.172414 |
GradientBasedCorrSaturation | 0.000000 |
GradientBasedCorrSharpness | 0.747126 |
GradientBasedCorrWhat | Correction |
GreenHue | 0 |
GreenSaturation | 0 |
HasCrop | True |
HasSettings | True |
HighlightRecovery | 17 |
HueAdjustmentAqua | 0 |
HueAdjustmentBlue | 0 |
HueAdjustmentGreen | 0 |
HueAdjustmentMagenta | 0 |
HueAdjustmentOrange | 0 |
HueAdjustmentPurple | 0 |
HueAdjustmentRed | 0 |
HueAdjustmentYellow | 0 |
HyperfocalDistance | 1664.10 m |
ImageHeight | 525 |
ImageNumber | 46099 |
ImageSize | 1280x525 |
ImageWidth | 1280 |
ISO | 250 |
Lens | 500.0 mm f/4.0 |
LensInfo | 500mm f/4 |
LightSource | Unknown |
LightValue | 14.3 |
LuminanceAdjustmentAqua | 0 |
LuminanceAdjustmentBlue | 0 |
LuminanceAdjustmentGreen | 0 |
LuminanceAdjustmentMagenta | 0 |
LuminanceAdjustmentOrange | 0 |
LuminanceAdjustmentPurple | 0 |
LuminanceAdjustmentRed | 0 |
LuminanceAdjustmentYellow | 0 |
LuminanceSmoothing | 53 |
Make | NIKON CORPORATION |
MaxApertureValue | 4.0 |
Megapixels | 0.672 |
MeteringMode | Multi-segment |
Model | NIKON D3 |
ModifyDate (1) | 2010:05:16 18:55:07+02:00 |
ModifyDate | 2010:05:16 18:55:07 |
ParametricDarks | 0 |
ParametricHighlights | 0 |
ParametricHighlightSplit | 75 |
ParametricLights | 0 |
ParametricMidtoneSplit | 50 |
ParametricShadows | 0 |
ParametricShadowSplit | 25 |
PostCropVignetteAmount | 0 |
ProfileDescription | sRGB IEC61966-2.1 |
RedHue | 0 |
RedSaturation | 0 |
Saturation (2) | 0 |
Saturation | Normal |
SaturationAdjustmentAqua | +13 |
SaturationAdjustmentBlue | +35 |
SaturationAdjustmentGreen | 0 |
SaturationAdjustmentMagenta | 0 |
SaturationAdjustmentOrange | +16 |
SaturationAdjustmentPurple | 0 |
SaturationAdjustmentRed | 0 |
SaturationAdjustmentYellow | +45 |
ScaleFactor35efl | 1.0 |
SceneCaptureType | Standard |
SceneType | Directly photographed |
SensingMethod | One-chip color area |
SerialNumber | 2051638 |
Shadows | 36 |
ShadowTint | 0 |
SharpenDetail | 59 |
SharpenEdgeMasking | 33 |
SharpenRadius | +1.0 |
Sharpness (2) | 64 |
Sharpness | Normal |
ShutterSpeed | 1/2000 |
ShutterSpeedValue | 1/2000 |
Software | Ver.2.02 |
SplitToningBalance | 0 |
SplitToningHighlightHue | 0 |
SplitToningHighlightSaturation | 0 |
SplitToningShadowHue | 0 |
SplitToningShadowSaturation | 0 |
SubjectDistanceRange | Unknown |
Tint | -4 |
ToneCurve | 0, 0, 32, 22, 64, 56, 128, 128, 192, 196, 255, 255 |
ToneCurveName | Medium Contrast |
Version | 5.5 |
Vibrance | +27 |
VignetteAmount | 0 |
WhiteBalance (2) | Custom |
WhiteBalance | Auto |