Felt | Verdi |
AlreadyApplied | True |
Aperture | 8.0 |
ApertureValue | 8.0 |
BitsPerSample | 8 |
BlueHue | 0 |
BlueSaturation | 0 |
Brightness | +110 |
By-line | Carl Gjersem |
CameraProfile | Adobe Standard |
CFAPattern | [Blue,Green][Green,Red] |
ChromaticAberrationB | 0 |
ChromaticAberrationR | 0 |
CircleOfConfusion | 0.020 mm |
Clarity | -4 |
ColorComponents | 3 |
ColorNoiseReduction | 25 |
ColorTemperature | 3650 |
Contrast (2) | +28 |
Contrast | High |
ConvertToGrayscale | False |
Copyright | Carl Gjersem |
CopyrightFlag | True |
CopyrightNotice | Carl Gjersem |
CreateDate (1) | 2010:01:01 00:09:02+01:00 |
CreateDate | 2010:01:01 00:09:02 |
Creator | Carl Gjersem |
CreatorTool | Adobe Photoshop Lightroom |
CustomRendered | Normal |
DateTimeDigitized | 2010:01:01 00:09:02+01:00 |
DateTimeOriginal (1) | 2010:01:01 00:09:02+01:00 |
DateTimeOriginal | 2010:01:01 00:09:02 |
Defringe | 0 |
ExifImageHeight | 600 |
ExifImageWidth | 903 |
Exposure | +1.05 |
ExposureCompensation | 0 |
ExposureMode | Manual |
ExposureProgram | Manual |
ExposureTime | 4.7 |
FillLight | 24 |
Flash | Off, Did not fire |
FlashFired | False |
FlashFunction | False |
FlashMode | Off |
FlashRedEyeMode | False |
FlashReturn | No return detection |
FNumber | 8.0 |
FocalLength | 80.0 mm |
FocalLength35efl | 80.0 mm (35 mm equivalent: 120.0 mm) |
FocalLengthIn35mmFormat | 120 mm |
FOV | 17.1 deg |
GreenHue | 0 |
GreenSaturation | 0 |
HasCrop | False |
HasSettings | True |
HighlightRecovery | 15 |
HueAdjustmentAqua | 0 |
HueAdjustmentBlue | 0 |
HueAdjustmentGreen | 0 |
HueAdjustmentMagenta | 0 |
HueAdjustmentOrange | 0 |
HueAdjustmentPurple | 0 |
HueAdjustmentRed | 0 |
HueAdjustmentYellow | 0 |
HyperfocalDistance | 39.94 m |
ImageHeight | 600 |
ImageSize | 903x600 |
ImageWidth | 903 |
ISO | 100 |
Keywords | nyttårsaften, raketter |
Label | Red |
LensID (1) | 8 227 |
LensID | smc PENTAX-DA* 60-250mm F4 [IF] SDM |
LightValue | 3.8 |
LuminanceAdjustmentAqua | +28 |
LuminanceAdjustmentBlue | -17 |
LuminanceAdjustmentGreen | 0 |
LuminanceAdjustmentMagenta | 0 |
LuminanceAdjustmentOrange | -5 |
LuminanceAdjustmentPurple | 0 |
LuminanceAdjustmentRed | +26 |
LuminanceAdjustmentYellow | +40 |
LuminanceSmoothing | 0 |
Make | PENTAX |
Marked | True |
Megapixels | 0.542 |
MeteringMode | Multi-segment |
Model | PENTAX K20D |
ModifyDate (1) | 2010:01:09 01:05:33+01:00 |
ModifyDate | 2010:01:09 01:05:33 |
ParametricDarks | 0 |
ParametricHighlights | -19 |
ParametricHighlightSplit | 75 |
ParametricLights | +9 |
ParametricMidtoneSplit | 50 |
ParametricShadows | 0 |
ParametricShadowSplit | 25 |
PostCropVignetteAmount | 0 |
ProfileDescription | sRGB IEC61966-2.1 |
RedHue | 0 |
RedSaturation | 0 |
Rights | Carl Gjersem |
Saturation (2) | +35 |
Saturation | Normal |
SaturationAdjustmentAqua | +15 |
SaturationAdjustmentBlue | +19 |
SaturationAdjustmentGreen | +15 |
SaturationAdjustmentMagenta | +5 |
SaturationAdjustmentOrange | +5 |
SaturationAdjustmentPurple | +5 |
SaturationAdjustmentRed | +15 |
SaturationAdjustmentYellow | +5 |
ScaleFactor35efl | 1.5 |
SceneCaptureType | Standard |
SensingMethod | One-chip color area |
Shadows | 21 |
ShadowTint | 0 |
SharpenDetail | 25 |
SharpenEdgeMasking | 0 |
SharpenRadius | +1.0 |
Sharpness (2) | 25 |
Sharpness | Hard |
ShutterSpeed | 4.7 |
ShutterSpeedValue | 4.7 |
Software | K20D Ver 1.03 |
SplitToningBalance | 0 |
SplitToningHighlightHue | 0 |
SplitToningHighlightSaturation | 0 |
SplitToningShadowHue | 0 |
SplitToningShadowSaturation | 0 |
Subject | nyttårsaften, raketter |
SubjectDistanceRange | Distant |
Tint | -50 |
ToneCurve | 0, 0, 32, 22, 64, 56, 128, 128, 192, 196, 255, 255 |
ToneCurveName | Medium Contrast |
URL | (c) Carl Gjersem 2009 |
Version | 5.6 |
Vibrance | +15 |
VignetteAmount | -40 |
VignetteMidpoint | 20 |
WebStatement | (c) Carl Gjersem 2009 |
WhiteBalance (2) | Custom |
WhiteBalance | Auto |