Felt | Verdi |
AlreadyApplied | True |
Aperture | 10.0 |
ApertureValue | 10.0 |
Artist | wenche@roro.no |
BitsPerSample | 8 |
BlueHue | 0 |
BlueSaturation | 0 |
Brightness | +23 |
By-line | wenche@roro.no |
CameraProfile | Adobe Standard |
CFAPattern | [Red,Green][Green,Blue] |
ChromaticAberrationB | 0 |
ChromaticAberrationR | 0 |
CircleOfConfusion | 0.030 mm |
Clarity | +50 |
ColorComponents | 3 |
ColorMode | RGB |
ColorNoiseReduction | 25 |
ColorSpace | sRGB |
ColorTemperature | 4550 |
Contrast (2) | +14 |
Contrast | Normal |
ConvertToGrayscale | False |
Copyright | Venche Jensen©2009 |
CopyrightNotice | Venche Jensen©2009 |
CreateDate (1) | 2009:10:10 14:07:56.58+02:00 |
CreateDate | 2009:10:10 14:07:56 |
Creator | wenche@roro.no, Venche Jensen |
CreatorTool | Ver.2.01 |
CropAngle | 0 |
CropBottom | 0.614984 |
CropLeft | 0.230609 |
CropRight | 1 |
CropTop | 0.016649 |
CustomRendered | Normal |
DateTimeDigitized | 2009:10:10 14:07:56.58+02:00 |
DateTimeOriginal (1) | 2009:10:10 14:07:56.58+02:00 |
DateTimeOriginal | 2009:10:10 14:07:56 |
Defringe | 0 |
DigitalZoomRatio | 1 |
ExifImageHeight | 755 |
ExifImageWidth | 1200 |
Exposure | -0.65 |
ExposureCompensation | -1/3 |
ExposureMode | Auto |
ExposureProgram | Program AE |
ExposureTime | 1/400 |
FillLight | 12 |
Flash | No Flash |
FlashFired | False |
FlashFunction | False |
FlashMode | Unknown |
FlashRedEyeMode | False |
FlashReturn | No return detection |
FNumber | 10.0 |
FocalLength | 62.0 mm |
FocalLength35efl | 62.0 mm (35 mm equivalent: 62.0 mm) |
FocalLengthIn35mmFormat | 62 mm |
Format | image/jpeg |
FOV | 32.4 deg |
GainControl | Low gain up |
GradientBasedCorrActive | true |
GradientBasedCorrAmount | 1.000000 |
GradientBasedCorrBrightness | 0.160000 |
GradientBasedCorrClarity | 0.380000 |
GradientBasedCorrContrast | 0.430000 |
GradientBasedCorrExposure | -0.800000 |
GradientBasedCorrHue | 0.000000 |
GradientBasedCorrMaskFullX | 0.493767 |
GradientBasedCorrMaskFullY | 0.000000 |
GradientBasedCorrMaskValue | 1.000000 |
GradientBasedCorrMaskWhat | Mask/Gradient |
GradientBasedCorrMaskZeroX | 0.493767 |
GradientBasedCorrMaskZeroY | 0.591348 |
GradientBasedCorrSaturation (1) | 0.610000 |
GradientBasedCorrSaturation | 0.000000 |
GradientBasedCorrSharpness | 0.000000 |
GradientBasedCorrWhat | Correction |
GreenHue | 0 |
GreenSaturation | 0 |
HasCrop | True |
HasSettings | True |
HighlightRecovery | 14 |
HueAdjustmentAqua | 0 |
HueAdjustmentBlue | 0 |
HueAdjustmentGreen | 0 |
HueAdjustmentMagenta | 0 |
HueAdjustmentOrange | 0 |
HueAdjustmentPurple | 0 |
HueAdjustmentRed | 0 |
HueAdjustmentYellow | 0 |
HyperfocalDistance | 12.79 m |
ICCProfileName | sRGB IEC61966-2.1 |
ImageHeight (1) | 1694 |
ImageHeight | 755 |
ImageNumber | 20967 |
ImageSize | 1200x755 |
ImageWidth (1) | 3275 |
ImageWidth | 1200 |
ISO | 400 |
Lens | 24.0-70.0 mm f/2.8 |
LensInfo | 24-70mm f/2.8 |
LightSource | Unknown |
LightValue | 13.3 |
LuminanceAdjustmentAqua | +33 |
LuminanceAdjustmentBlue | -28 |
LuminanceAdjustmentGreen | +54 |
LuminanceAdjustmentMagenta | 0 |
LuminanceAdjustmentOrange | 0 |
LuminanceAdjustmentPurple | 0 |
LuminanceAdjustmentRed | 0 |
LuminanceAdjustmentYellow | +55 |
LuminanceSmoothing | 0 |
Make | NIKON CORPORATION |
MaxApertureValue | 2.8 |
Megapixels | 0.906 |
MeteringMode | Multi-segment |
Model | NIKON D3 |
ModifyDate (1) | 2009:10:10 16:57:18+02:00 |
ModifyDate | 2009:10:10 16:57:18 |
Orientation | Horizontal (normal) |
ParametricDarks | -4 |
ParametricHighlights | 0 |
ParametricHighlightSplit | 75 |
ParametricLights | +65 |
ParametricMidtoneSplit | 50 |
ParametricShadows | 0 |
ParametricShadowSplit | 25 |
PostCropVignetteAmount | 0 |
ProfileDescription | sRGB IEC61966-2.1 |
Rating | 1 |
RawFileName | _VEJ0796.NEF |
RedHue | 0 |
RedSaturation | 0 |
Rights | Venche Jensen©2009 |
Saturation (2) | 0 |
Saturation | Normal |
SaturationAdjustmentAqua | +20 |
SaturationAdjustmentBlue | +41 |
SaturationAdjustmentGreen | 0 |
SaturationAdjustmentMagenta | 0 |
SaturationAdjustmentOrange | 0 |
SaturationAdjustmentPurple | 0 |
SaturationAdjustmentRed | 0 |
SaturationAdjustmentYellow | 0 |
ScaleFactor35efl | 1.0 |
SceneCaptureType | Standard |
SceneType | Directly photographed |
SensingMethod | One-chip color area |
SerialNumber | 2037256 |
Shadows | 2 |
ShadowTint | 0 |
SharpenDetail | 25 |
SharpenEdgeMasking | 0 |
SharpenRadius | +1.0 |
Sharpness (2) | 25 |
Sharpness | Normal |
ShutterSpeed | 1/400 |
ShutterSpeedValue | 1/400 |
Software | Adobe Photoshop CS4 Macintosh |
SplitToningBalance | 0 |
SplitToningHighlightHue | 0 |
SplitToningHighlightSaturation | 0 |
SplitToningShadowHue | 0 |
SplitToningShadowSaturation | 0 |
SubjectDistanceRange | Unknown |
Tint | -4 |
ToneCurve | 0, 0, 32, 22, 64, 56, 128, 128, 192, 196, 255, 255 |
ToneCurveName | Medium Contrast |
URL_List | |
Version | 5.5 |
Vibrance | 0 |
VignetteAmount | 0 |
WhiteBalance (2) | As Shot |
WhiteBalance | Manual |