Felt | Verdi |
AlreadyApplied | True |
Aperture | 16.0 |
ApertureValue | 16.0 |
BitsPerSample | 8 |
BlueHue | 0 |
BlueSaturation | 0 |
Brightness | 0 |
CameraProfile | Adobe Standard |
CFAPattern | [Green,Blue][Red,Green] |
ChromaticAberrationB | 0 |
ChromaticAberrationR | 0 |
CircleOfConfusion | 0.020 mm |
Clarity | -45 |
ColorComponents | 1 |
ColorNoiseReduction | 0 |
ColorTemperature | 4950 |
Contrast (2) | +61 |
Contrast | Normal |
ConvertToGrayscale | True |
CreateDate (1) | 2009:07:20 22:15:24.00+02:00 |
CreateDate | 2009:07:20 22:15:24 |
CreatorTool | Adobe Photoshop Lightroom |
CropAngle | 0 |
CropBottom | 0.895 |
CropHeight | 1680 |
CropLeft | 0.328903 |
CropRight | 0.92691 |
CropTop | 0.305 |
CropUnit | pixels |
CropWidth | 2564 |
CustomRendered | Normal |
DateTimeDigitized | 2009:07:20 22:15:24.00+02:00 |
DateTimeOriginal (1) | 2009:07:20 22:15:24.00+02:00 |
DateTimeOriginal | 2009:07:20 22:15:24 |
Defringe | 0 |
DigitalZoomRatio | 1 |
ExifImageHeight | 1680 |
ExifImageWidth | 2564 |
Exposure | +1.06 |
ExposureCompensation | -1/3 |
ExposureMode | Auto |
ExposureProgram | Aperture-priority AE |
ExposureTime | 0.3 |
FillLight | 0 |
Flash | No Flash |
FlashFired | False |
FlashFunction | False |
FlashMode | Unknown |
FlashRedEyeMode | False |
FlashReturn | No return detection |
FNumber | 16.0 |
FocalLength | 58.0 mm |
FocalLength35efl | 58.0 mm (35 mm equivalent: 87.0 mm) |
FocalLengthIn35mmFormat | 87 mm |
FOV | 23.4 deg |
GainControl | None |
GrayMixerAqua | 0 |
GrayMixerBlue | 0 |
GrayMixerGreen | 0 |
GrayMixerMagenta | 0 |
GrayMixerOrange | 0 |
GrayMixerPurple | 0 |
GrayMixerRed | 0 |
GrayMixerYellow | 0 |
GreenHue | 0 |
GreenSaturation | 0 |
HasCrop | True |
HasSettings | True |
HighlightRecovery | 0 |
HyperfocalDistance | 10.50 m |
ImageHeight | 1680 |
ImageNumber | 1061 |
ImageSize | 2564x1680 |
ImageWidth | 2564 |
ISO | 250 |
Lens | 18.0-105.0 mm f/3.5-5.6 |
LensInfo | 18-105mm f/3.5-5.6 |
LightSource | Fine Weather |
LightValue | 8.3 |
LuminanceSmoothing | 0 |
Make | NIKON CORPORATION |
MaxApertureValue | 5.1 |
Megapixels | 4.3 |
MeteringMode | Multi-segment |
Model | NIKON D90 |
ModifyDate (1) | 2009:07:25 23:45:40+02:00 |
ModifyDate | 2009:07:25 23:45:40 |
ParametricDarks | -45 |
ParametricHighlights | 0 |
ParametricHighlightSplit | 75 |
ParametricLights | +39 |
ParametricMidtoneSplit | 50 |
ParametricShadows | -47 |
ParametricShadowSplit | 25 |
PostCropVignetteAmount | 0 |
ProfileDescription | sRGB IEC61966-2.1 |
RedHue | 0 |
RedSaturation | 0 |
Saturation | Normal |
ScaleFactor35efl | 1.5 |
SceneCaptureType | Standard |
SceneType | Directly photographed |
SensingMethod | One-chip color area |
SerialNumber | 6184722 |
Shadows | 7 |
ShadowTint | 0 |
SharpenDetail | 25 |
SharpenEdgeMasking | 0 |
SharpenRadius | +1.0 |
Sharpness (2) | 25 |
Sharpness | Normal |
ShutterSpeed | 0.3 |
ShutterSpeedValue | 0.3 |
Software | Ver.1.00 |
SplitToningBalance | 0 |
SplitToningHighlightHue | 0 |
SplitToningHighlightSaturation | 0 |
SplitToningShadowHue | 0 |
SplitToningShadowSaturation | 0 |
SubjectDistanceRange | Unknown |
Tint | -5 |
ToneCurve | 0, 0, 32, 22, 64, 56, 128, 128, 192, 196, 255, 255 |
ToneCurveName | Medium Contrast |
Version | 5.3 |
VignetteAmount | 0 |
WhiteBalance (2) | As Shot |
WhiteBalance | Manual |