Felt | Verdi |
Aperture | 3.5 |
ApertureValue | 3.5 |
Artist | Thomas A. Nielsen |
AuthorsPosition | 2008 Oktober |
BitsPerSample | 8 |
BlueHue | 0 |
BlueSaturation | 0 |
Brightness | +50 |
By-line | Thomas A. Nielsen |
By-lineTitle | 2008 Oktober |
CameraProfile | ACR 4.4 |
Caption-Abstract | Tarjei Strøm i Datarock på Periferi festivalen 2008 |
CaptionWriter | Thomas A. Nielsen |
ChromaticAberrationB | 0 |
ChromaticAberrationR | 0 |
CircleOfConfusion | 0.024 mm |
Clarity | 0 |
ColorComponents | 3 |
ColorMode | RGB |
ColorNoiseReduction | 25 |
ColorSpace (1) | Unknown (-1) |
ColorSpace | Uncalibrated |
ColorTemperature | 3150 |
Contrast | +25 |
ConvertToGrayscale | False |
CopyrightFlag | False |
CreateDate (1) | 2008:09:19 17:39:26+02:00 |
CreateDate | 2008:08:15 22:03:28 |
Creator | Thomas A. Nielsen |
CreatorTool | Adobe Photoshop CS3 Windows |
Credit | Megafon |
CustomRendered | Normal |
DateCreated (1) | 2008-09- |
DateCreated | 2008:01:09 |
DateTimeDigitized | 2008:08:15 22:03:28:00 |
DateTimeOriginal (1) | 2008:08:15 22:03:28:00 |
DateTimeOriginal | 2008:08:15 22:03:28 |
Defringe | 0 |
Description | Tarjei Strøm i Datarock på Periferi festivalen 2008 |
ExifImageHeight | 853 |
ExifImageWidth | 1280 |
Exposure | -1.15 |
ExposureCompensation | 0 |
ExposureMode | Manual |
ExposureProgram | Manual |
ExposureTime | 1/100 |
FillLight | 40 |
Firmware | 1.2.4 |
Flash | Off, Did not fire |
FlashCompensation | 0 |
FlashFired | False |
FlashFunction | False |
FlashMode | Off |
FlashRedEyeMode | False |
FlashReturn | No return detection |
FNumber | 3.5 |
FocalLength | 16.0 mm |
FocalLength35efl | 16.0 mm (35 mm equivalent: 20.0 mm) |
Format | image/jpeg |
FOV | 84.1 deg |
GreenHue | 0 |
GreenSaturation | 0 |
HasSettings | True |
HighlightRecovery | 0 |
HueAdjustmentAqua | 0 |
HueAdjustmentBlue | 0 |
HueAdjustmentGreen | 0 |
HueAdjustmentMagenta | 0 |
HueAdjustmentOrange | 0 |
HueAdjustmentPurple | 0 |
HueAdjustmentRed | 0 |
HueAdjustmentYellow | 0 |
HyperfocalDistance | 3.04 m |
ICCProfileName | Adobe RGB (1998) |
ImageDescription | Tarjei Strøm i Datarock på Periferi festivalen 2008 |
ImageHeight (1) | 2336 |
ImageHeight | 853 |
ImageNumber | 61724 |
ImageSize | 1280x853 |
ImageWidth (1) | 3504 |
ImageWidth | 1280 |
ISO | 1250 |
Lens | 16.0-35.0 mm |
LensInfo | 16-35mm f/? |
LightValue | 6.6 |
LuminanceAdjustmentAqua | 0 |
LuminanceAdjustmentBlue | 0 |
LuminanceAdjustmentGreen | 0 |
LuminanceAdjustmentMagenta | 0 |
LuminanceAdjustmentOrange | 0 |
LuminanceAdjustmentPurple | 0 |
LuminanceAdjustmentRed | 0 |
LuminanceAdjustmentYellow | 0 |
LuminanceSmoothing | 0 |
Make | Canon |
MaxApertureValue | 2.8 |
Megapixels | 1.1 |
MeteringMode | Multi-segment |
Model | Canon EOS-1D Mark II |
ModifyDate (1) | 2008:09:19 17:39:26+02:00 |
ModifyDate | 2008:09:19 17:39:26 |
Orientation | Horizontal (normal) |
OriginatingProgram | Adobe Photoshop CS3 Windows |
ParametricDarks | 0 |
ParametricHighlights | 0 |
ParametricHighlightSplit | 75 |
ParametricLights | 0 |
ParametricMidtoneSplit | 50 |
ParametricShadows | 0 |
ParametricShadowSplit | 25 |
PostCropVignetteAmount | 0 |
ProfileDescription | Adobe RGB (1998) |
RawFileName | DataR398.CR2 |
RedHue | 0 |
RedSaturation | 0 |
Saturation | 0 |
SaturationAdjustmentAqua | 0 |
SaturationAdjustmentBlue | 0 |
SaturationAdjustmentGreen | 0 |
SaturationAdjustmentMagenta | 0 |
SaturationAdjustmentOrange | 0 |
SaturationAdjustmentPurple | 0 |
SaturationAdjustmentRed | 0 |
SaturationAdjustmentYellow | 0 |
ScaleFactor35efl | 1.2 |
SceneCaptureType | Standard |
SerialNumber | 234489 |
Shadows | 5 |
ShadowTint | 0 |
SharpenDetail | 25 |
SharpenEdgeMasking | 0 |
SharpenRadius | +1.0 |
Sharpness | 25 |
ShutterSpeed | 1/100 |
ShutterSpeedValue | 1/100 |
Software | Adobe Photoshop CS3 Windows |
SplitToningBalance | 0 |
SplitToningHighlightHue | 0 |
SplitToningHighlightSaturation | 0 |
SplitToningShadowHue | 0 |
SplitToningShadowSaturation | 0 |
Tint | -5 |
ToneCurve | 0, 0, 32, 22, 64, 56, 128, 128, 192, 196, 255, 255 |
ToneCurveName | Medium Contrast |
Urgency | 4 |
URL_List | |
UserComment | |
Version | 4.5 |
Vibrance | 0 |
VignetteAmount | 0 |
WhiteBalance (2) | Custom |
WhiteBalance | Auto |
Writer-Editor | Thomas A. Nielsen |
XMPFileStamps | 2008:08:28 18:15:56+02:00, 2008:09:10 11:27:04+02:00, 2008:09:10 13:20:13+02:00 |