Felt | Verdi |
AlreadyApplied | True |
Aperture | 7.1 |
ApertureValue | 7.1 |
Artist | unknown |
BitsPerSample (1) | 8, 8, 8 |
BitsPerSample | 8 |
BlueHue | 0 |
BlueSaturation | 0 |
Brightness | +46 |
By-line | unknown |
CameraProfile | ACR 3.6 |
ChromaticAberrationB | 0 |
ChromaticAberrationR | 0 |
CircleOfConfusion | 0.019 mm |
ColorComponents | 3 |
ColorMode | RGB |
ColorNoiseReduction | 25 |
ColorSpace (1) | Unknown (-1) |
ColorSpace | Uncalibrated |
ColorTemperature | 5650 |
Contrast | +21 |
ConvertToGrayscale | False |
CopyrightFlag | False |
CreateDate (1) | 2008:06:02 23:25:24+02:00 |
CreateDate | 2008:06:01 15:54:51 |
Creator | unknown |
CreatorTool | Adobe Photoshop CS3 Windows |
CustomRendered | Normal |
DateTimeDigitized | 2008:06:01 15:54:51+02:00 |
DateTimeOriginal (1) | 2008:06:01 15:54:51+02:00 |
DateTimeOriginal | 2008:06:01 15:54:51 |
ExifImageHeight | 600 |
ExifImageWidth | 900 |
Exposure | -2.50 |
ExposureCompensation | 0 |
ExposureMode | Auto |
ExposureProgram | Program AE |
ExposureTime | 1/80 |
FillLight | 5 |
Firmware | 1.1.1 |
Flash | Off, Did not fire |
FlashCompensation | 0 |
FlashFired | False |
FlashFunction | False |
FlashMode | Off |
FlashRedEyeMode | False |
FlashReturn | No return detection |
FNumber | 7.1 |
FocalLength | 42.0 mm |
FocalLength35efl | 42.0 mm (35 mm equivalent: 68.0 mm) |
Format | image/jpeg |
FOV | 29.7 deg |
GreenHue | 0 |
GreenSaturation | 0 |
HasCrop | False |
HasSettings | True |
HighlightRecovery | 58 |
HueAdjustmentAqua | 0 |
HueAdjustmentBlue | 0 |
HueAdjustmentGreen | -12 |
HueAdjustmentMagenta | -2 |
HueAdjustmentOrange | +6 |
HueAdjustmentPurple | -49 |
HueAdjustmentRed | 0 |
HueAdjustmentYellow | -77 |
HyperfocalDistance | 13.38 m |
ICCProfileName | Adobe RGB (1998) |
ImageHeight (1) | 2592 |
ImageHeight | 600 |
ImageNumber | 224 |
ImageSize | 900x600 |
ImageWidth (1) | 3888 |
ImageWidth | 900 |
ISO | 200 |
Lens | EF-S18-55mm f/3.5-5.6 |
LensInfo | 18-55mm f/? |
LightValue | 11.0 |
LuminanceAdjustmentAqua | 0 |
LuminanceAdjustmentBlue | 0 |
LuminanceAdjustmentGreen | +13 |
LuminanceAdjustmentMagenta | -27 |
LuminanceAdjustmentOrange | 0 |
LuminanceAdjustmentPurple | 0 |
LuminanceAdjustmentRed | -49 |
LuminanceAdjustmentYellow | -52 |
LuminanceSmoothing | 0 |
Make | Canon |
MaxApertureValue | 4.5 |
Megapixels | 0.540 |
MeteringMode | Multi-segment |
Model | Canon EOS 400D DIGITAL |
ModifyDate (1) | 2008:06:02 23:25:24+02:00 |
ModifyDate | 2008:06:02 23:25:24 |
Orientation | Horizontal (normal) |
OwnerName | unknown |
ParametricDarks | +13 |
ParametricHighlights | +48 |
ParametricHighlightSplit | 75 |
ParametricLights | 0 |
ParametricMidtoneSplit | 50 |
ParametricShadows | 0 |
ParametricShadowSplit | 25 |
PhotometricInterpretation | RGB |
PlanarConfiguration | Chunky |
ProfileDescription | Adobe RGB (1998) |
Rating | 0 |
RawFileName | IMG_1390.CR2 |
RedHue | 0 |
RedSaturation | 0 |
SamplesPerPixel | 3 |
Saturation | -3 |
SaturationAdjustmentAqua | -3 |
SaturationAdjustmentBlue | 0 |
SaturationAdjustmentGreen | -26 |
SaturationAdjustmentMagenta | 0 |
SaturationAdjustmentOrange | +6 |
SaturationAdjustmentPurple | 0 |
SaturationAdjustmentRed | -48 |
SaturationAdjustmentYellow | +51 |
ScaleFactor35efl | 1.6 |
SceneCaptureType | Standard |
SerialNumber | 1981146865 |
Shadows | 10 |
ShadowTint | 0 |
Sharpness | 55 |
ShutterSpeed | 1/80 |
ShutterSpeedValue | 1/80 |
SidecarForExtension | CR2 |
Software | Adobe Photoshop CS3 Windows |
SplitToningBalance | -15 |
SplitToningHighlightHue | 44 |
SplitToningHighlightSaturation | 19 |
SplitToningShadowHue | 0 |
SplitToningShadowSaturation | 0 |
TimeZoneOffset | 2 2 |
Tint | -6 |
ToneCurve | 0, 0, 32, 22, 64, 56, 128, 128, 192, 196, 255, 255 |
ToneCurveName | Medium Contrast |
URL_List | |
Version | 4.0 |
Vibrance | 0 |
VignetteAmount | 0 |
WhiteBalance (2) | Custom |
WhiteBalance | Manual |