Felt | Verdi |
AlreadyApplied | True |
Aperture | 9.5 |
ApertureValue | 9.5 |
BitsPerSample (1) | 16, 16, 16 |
BitsPerSample | 8 |
BlueHue | 0 |
BlueSaturation | 0 |
Brightness | +95 |
CameraProfile | Embedded |
ChromaticAberrationB | 0 |
ChromaticAberrationR | 0 |
CircleOfConfusion | 0.020 mm |
Clarity | 0 |
ColorComponents | 3 |
ColorMode | RGB |
ColorNoiseReduction | 25 |
ColorSpace | sRGB |
ColorTemperature | 8000 |
Contrast (2) | +25 |
Contrast | Normal |
ConvertToGrayscale | False |
CopyrightFlag | False |
CreateDate (1) | 2008:03:30 12:48:16+02:00 |
CreateDate | 2008:03:24 14:07:55 |
CreatorTool | Adobe Photoshop CS3 Windows |
CustomRendered | Normal |
DateTimeDigitized | 2008:03:24 14:07:55+01:00 |
DateTimeOriginal (1) | 2008:03:24 14:07:55+01:00 |
DateTimeOriginal | 2008:03:24 14:07:55 |
Defringe | 0 |
ExifImageHeight | 702 |
ExifImageWidth | 1052 |
Exposure | 0.00 |
ExposureCompensation | 0 |
ExposureMode | Manual |
ExposureProgram | Manual |
ExposureTime | 1/1500 |
FillLight | 0 |
Flash | Off, Did not fire |
FlashFired | False |
FlashFunction | False |
FlashMode | Off |
FlashRedEyeMode | False |
FlashReturn | No return detection |
FNumber | 9.5 |
FocalLength | 19.0 mm |
FocalLength35efl | 19.0 mm (35 mm equivalent: 28.0 mm) |
FocalLengthIn35mmFormat | 28 mm |
Format | image/jpeg |
FOV | 65.5 deg |
GreenHue | 0 |
GreenSaturation | 0 |
HasCrop | False |
HasSettings | True |
HighlightRecovery | 0 |
HueAdjustmentAqua | 0 |
HueAdjustmentBlue | 0 |
HueAdjustmentGreen | 0 |
HueAdjustmentMagenta | 0 |
HueAdjustmentOrange | 0 |
HueAdjustmentPurple | 0 |
HueAdjustmentRed | 0 |
HueAdjustmentYellow | 0 |
HyperfocalDistance | 1.86 m |
ICCProfileName | sRGB IEC61966-2.1 |
ImageHeight (1) | 2468 |
ImageHeight | 702 |
ImageSize | 1052x702 |
ImageWidth (1) | 3702 |
ImageWidth | 1052 |
ISO | 200 |
LightValue | 16.0 |
LuminanceAdjustmentAqua | 0 |
LuminanceAdjustmentBlue | 0 |
LuminanceAdjustmentGreen | 0 |
LuminanceAdjustmentMagenta | 0 |
LuminanceAdjustmentOrange | 0 |
LuminanceAdjustmentPurple | 0 |
LuminanceAdjustmentRed | 0 |
LuminanceAdjustmentYellow | 0 |
LuminanceSmoothing | 0 |
Make | SAMSUNG TECHWIN Co. |
Megapixels | 0.739 |
MeteringMode | Center-weighted average |
Model | SAMSUNG GX10 |
ModifyDate (1) | 2008:03:30 12:52:12+02:00 |
ModifyDate | 2008:03:30 12:52:12 |
Orientation | Horizontal (normal) |
ParametricDarks | 0 |
ParametricHighlights | 0 |
ParametricHighlightSplit | 75 |
ParametricLights | 0 |
ParametricMidtoneSplit | 50 |
ParametricShadows | 0 |
ParametricShadowSplit | 25 |
PhotometricInterpretation | RGB |
PlanarConfiguration | Chunky |
ProfileDescription | sRGB IEC61966-2.1 |
Rating | 0 |
RawFileName | SG105748.DNG |
RedHue | 0 |
RedSaturation | 0 |
SamplesPerPixel | 3 |
Saturation (2) | +13 |
Saturation | Normal |
SaturationAdjustmentAqua | 0 |
SaturationAdjustmentBlue | 0 |
SaturationAdjustmentGreen | 0 |
SaturationAdjustmentMagenta | 0 |
SaturationAdjustmentOrange | 0 |
SaturationAdjustmentPurple | 0 |
SaturationAdjustmentRed | 0 |
SaturationAdjustmentYellow | 0 |
ScaleFactor35efl | 1.5 |
SceneCaptureType | Standard |
SensingMethod | One-chip color area |
Shadows | 5 |
ShadowTint | 0 |
SharpenDetail | 25 |
SharpenEdgeMasking | 0 |
SharpenRadius | +0.6 |
Sharpness (2) | 25 |
Sharpness | Soft |
ShutterSpeed | 1/1500 |
ShutterSpeedValue | 1/1500 |
Software | Adobe Photoshop CS3 Windows |
SplitToningBalance | 0 |
SplitToningHighlightHue | 0 |
SplitToningHighlightSaturation | 0 |
SplitToningShadowHue | 0 |
SplitToningShadowSaturation | 0 |
SubjectDistanceRange | Distant |
Tint | +72 |
ToneCurve | 0, 0, 32, 22, 64, 56, 128, 128, 192, 196, 255, 255 |
ToneCurveName | Medium Contrast |
URL_List | |
Version | 4.3 |
Vibrance | +49 |
VignetteAmount | 0 |
WhiteBalance (2) | As Shot |
WhiteBalance | Manual |