Felt | Verdi |
AlreadyApplied | True |
Aperture | 10.0 |
ApertureValue | 10.0 |
Artist | unknown |
BitsPerSample (1) | 16, 16, 16 |
BitsPerSample (2) | 16 16 16 |
BitsPerSample | 8 |
BlueHue | 0 |
BlueSaturation | 0 |
Brightness | +65 |
By-line | unknown |
CameraProfile | ACR 3.1 |
ChromaticAberrationB | 0 |
ChromaticAberrationR | 0 |
CircleOfConfusion | 0.019 mm |
Clarity | 0 |
ColorComponents | 1 |
ColorMode | RGB |
ColorSpace | sRGB |
ColorTemperature | 4850 |
Contrast | +8 |
ConvertToGrayscale | True |
CopyrightFlag | False |
CreateDate (1) | 2007:12:25 17:23:11+01:00 |
CreateDate | 2007:12:08 16:21:12 |
Creator | unknown |
CreatorTool | Adobe Photoshop CS3 Windows |
CropAngle | -0.584573 |
CropBottom | 0.898144 |
CropHeight | 1924 |
CropLeft | 0.059309 |
CropRight | 0.383087 |
CropTop | 0.067755 |
CropUnit | pixels |
CropWidth | 1099 |
CustomRendered | Normal |
DateTimeDigitized | 2007:12:08 16:21:12+01:00 |
DateTimeOriginal (1) | 2007:12:08 16:21:12+01:00 |
DateTimeOriginal | 2007:12:08 16:21:12 |
Defringe | 0 |
DerivedFrom | |
ExifImageHeight | 554 |
ExifImageWidth | 1024 |
Exposure | 0.00 |
ExposureCompensation | -1/3 |
ExposureMode | Auto |
ExposureProgram | Aperture-priority AE |
ExposureTime | 1/500 |
FillLight | 0 |
Firmware | 1.0.3 |
Flash | Off, Did not fire |
FlashCompensation | -1 |
FlashFired | False |
FlashFunction | False |
FlashMode | Off |
FlashRedEyeMode | False |
FlashReturn | No return detection |
FNumber | 10.0 |
FocalLength | 24.0 mm |
FocalLength35efl | 24.0 mm (35 mm equivalent: 38.9 mm) |
Format | image/jpeg |
FOV | 49.6 deg |
GrayMixerAqua | -19 |
GrayMixerBlue | +8 |
GrayMixerGreen | -26 |
GrayMixerMagenta | +4 |
GrayMixerOrange | -17 |
GrayMixerPurple | +14 |
GrayMixerRed | -9 |
GrayMixerYellow | +8 |
GreenHue | 0 |
GreenSaturation | 0 |
HasCrop | True |
HasSettings | True |
HighlightRecovery | 31 |
HyperfocalDistance | 3.11 m |
ICCProfileName | sRGB IEC61966-2.1 |
ImageHeight (1) | 1005 |
ImageHeight (2) | 1099 |
ImageHeight | 554 |
ImageNumber | 230 |
ImageSize | 1024x554 |
ImageWidth (1) | 1858 |
ImageWidth (2) | 1924 |
ImageWidth | 1024 |
ISO | 200 |
Lens | 24.0-105.0 mm |
LensInfo | 24-105mm f/? |
LightValue | 14.6 |
LuminanceSmoothing | 0 |
Make | Canon |
MaxApertureValue | 4.0 |
Megapixels | 0.567 |
MeteringMode | Partial |
Model | Canon EOS 350D DIGITAL |
ModifyDate (1) | 2007:12:25 17:36:51+01:00 |
ModifyDate | 2007:12:25 17:36:51 |
Orientation | Horizontal (normal) |
OwnerName | unknown |
ParametricDarks | -32 |
ParametricHighlights | +39 |
ParametricHighlightSplit | 75 |
ParametricLights | +67 |
ParametricMidtoneSplit | 50 |
ParametricShadows | -15 |
ParametricShadowSplit | 25 |
PhotometricInterpretation | RGB |
PlanarConfiguration (1) | Planar |
PlanarConfiguration | Chunky |
ProfileDescription | sRGB IEC61966-2.1 |
Rating | 4 |
RedHue | 0 |
RedSaturation | 0 |
SamplesPerPixel | 3 |
ScaleFactor35efl | 1.6 |
SceneCaptureType | Standard |
SerialNumber | 1230700233 |
Shadows | 12 |
ShadowTint | 0 |
SharpenDetail | 25 |
SharpenEdgeMasking | 0 |
SharpenRadius | +2.1 |
Sharpness | 120 |
ShutterSpeed | 1/500 |
ShutterSpeedValue | 1/500 |
Software | Adobe Photoshop CS3 Windows |
SplitToningBalance | 0 |
SplitToningHighlightHue | 0 |
SplitToningHighlightSaturation | 0 |
SplitToningShadowHue | 0 |
SplitToningShadowSaturation | 0 |
Tint | +4 |
ToneCurve | 0, 0, 32, 22, 64, 56, 128, 128, 192, 196, 255, 255 |
ToneCurveName | Medium Contrast |
URL_List | |
Version | 1.0 |
VignetteAmount | 0 |
WhiteBalance | Auto |