Felt | Verdi |
AlreadyApplied | True |
Aperture | 8.0 |
ApertureValue | 8.0 |
ApproximateFocusDistance | 4294967295 |
Artist | ANNELIN HOFF |
AutoLateralCA | 0 |
BitsPerSample (1) | 16 16 16 |
BitsPerSample | 8 |
Blacks2012 | -48 |
BlueHue | 0 |
BlueSaturation | 0 |
By-line | ANNELIN HOFF |
CameraProfile | Adobe Standard |
CFAPattern | [Red,Green][Green,Blue] |
CircleOfConfusion | 0.030 mm |
Clarity2012 | 0 |
ColorComponents | 3 |
ColorMode | RGB |
ColorNoiseReduction | 25 |
ColorNoiseReductionDetail | 50 |
ColorNoiseReductionSmoothness | 50 |
ColorSpace | Uncalibrated |
ColorTemperature | 6400 |
ColorTransform | YCbCr |
Contrast | Normal |
Contrast2012 | 0 |
ConvertToGrayscale | False |
Copyright | ANNELIN HOFF |
CopyrightNotice | ANNELIN HOFF |
CreateDate | 2020:02:04 14:31:26 |
Creator | ANNELIN HOFF |
CreatorTool | NIKON D850 Ver.1.03 |
CropAngle | 0 |
CropBottom | 1 |
CropConstrainToWarp | 0 |
CropLeft | 0 |
CropRight | 1 |
CropTop | 0 |
CustomRendered | Normal |
DateCreated (1) | 2020:02:04 |
DateCreated | 2020:02:04 14:31:26.099+02:00 |
DateTimeOriginal | 2020:02:04 14:31:26 |
DefringeGreenAmount | 0 |
DefringeGreenHueHi | 60 |
DefringeGreenHueLo | 40 |
DefringePurpleAmount | 0 |
DefringePurpleHueHi | 70 |
DefringePurpleHueLo | 30 |
Dehaze | 0 |
DOF | inf (13.05 m - inf) |
ExifImageHeight | 4531 |
ExifImageWidth | 6797 |
Exposure2012 | 0.00 |
ExposureCompensation | 0 |
ExposureMode | Manual |
ExposureProgram | Manual |
ExposureTime | 0.3 |
Flash | No Flash |
FNumber | 8.0 |
FocalLength | 56.0 mm |
FocalLength35efl | 56.0 mm (35 mm equivalent: 56.0 mm) |
FocalLengthIn35mmFormat | 56 mm |
Format | image/jpeg |
FOV | 35.6 deg |
GainControl | None |
GrainAmount | 0 |
GreenHue | 0 |
GreenSaturation | 0 |
HasCrop | True |
HasSettings | True |
Highlights2012 | 0 |
HueAdjustmentAqua | 0 |
HueAdjustmentBlue | 0 |
HueAdjustmentGreen | 0 |
HueAdjustmentMagenta | 0 |
HueAdjustmentOrange | 0 |
HueAdjustmentPurple | 0 |
HueAdjustmentRed | 0 |
HueAdjustmentYellow | 0 |
HyperfocalDistance | 13.05 m |
ICCProfileName | ProPhoto RGB |
ImageHeight | 4531 |
ImageNumber | 15355 |
ImageSize | 6797x4531 |
ImageWidth | 6797 |
ISO | 64 |
Label | |
Lens | 24.0-70.0 mm f/2.8 |
LensID (1) | 147 |
LensID | AF-S Zoom-Nikkor 24-70mm f/2.8G ED |
LensInfo | 24-70mm f/2.8 |
LensManualDistortionAmount | 0 |
LensModel | 24.0-70.0 mm f/2.8 |
LensProfileEnable | 0 |
LensProfileSetup | LensDefaults |
LightSource | Unknown |
LightValue | 8.2 |
LookAmount | 1.000000 |
LookCluster | TimsPhotos.com |
LookGroup | TimsPhotos - Stormy Sky |
LookName | Trail |
LookParametersBlacks2012 | +22 |
LookParametersClarity2012 | +42 |
LookParametersContrast2012 | +63 |
LookParametersConvertToGrayscale | False |
LookParametersExposure2012 | +0.70 |
LookParametersHighlights2012 | -38 |
LookParametersHueAdjustmentAqua | +10 |
LookParametersHueAdjustmentBlue | -5 |
LookParametersHueAdjustmentMagenta | +20 |
LookParametersHueAdjustmentOrange | +5 |
LookParametersHueAdjustmentPurple | +20 |
LookParametersHueAdjustmentRed | -18 |
LookParametersIncrementalTemperature | +10 |
LookParametersIncrementalTint | +8 |
LookParametersLuminanceAdjustmentAqua | -12 |
LookParametersLuminanceAdjustmentBlue | -40 |
LookParametersLuminanceAdjustmentOrange | -8 |
LookParametersLuminanceAdjustmentRed | -59 |
LookParametersProcessVersion | 11.0 |
LookParametersSaturation | -41 |
LookParametersSaturationAdjustmentBlue | +36 |
LookParametersSaturationAdjustmentGreen | +58 |
LookParametersSaturationAdjustmentMagenta | +58 |
LookParametersSaturationAdjustmentOrange | +19 |
LookParametersSaturationAdjustmentPurple | +8 |
LookParametersSaturationAdjustmentYellow | +48 |
LookParametersShadows2012 | +60 |
LookParametersToneCurvePV2012 | 0, 17, 54, 62, 176, 164, 255, 247 |
LookParametersToneCurvePV2012Blue | 0, 0, 39, 13, 87, 65, 123, 124, 183, 199, 255, 255 |
LookParametersToneCurvePV2012Green | 0, 0, 40, 14, 83, 59, 123, 126, 172, 185, 255, 255 |
LookParametersToneCurvePV2012Red | 0, 0, 40, 12, 84, 58, 123, 125, 186, 196, 255, 255 |
LookParametersVersion | 12.2 |
LookParametersWhites2012 | -33 |
LuminanceAdjustmentAqua | 0 |
LuminanceAdjustmentBlue | 0 |
LuminanceAdjustmentGreen | 0 |
LuminanceAdjustmentMagenta | 0 |
LuminanceAdjustmentOrange | 0 |
LuminanceAdjustmentPurple | 0 |
LuminanceAdjustmentRed | 0 |
LuminanceAdjustmentYellow | 0 |
LuminanceSmoothing | 0 |
Make | NIKON CORPORATION |
MaxApertureValue | 2.8 |
Megapixels | 30.8 |
MeteringMode | Multi-segment |
Model | NIKON D850 |
ModifyDate (1) | 2020:02:21 22:03:07+01:00 |
ModifyDate | 2020:02:21 22:03:07 |
Orientation | Horizontal (normal) |
OverrideLookVignette | False |
ParametricDarks | 0 |
ParametricHighlights | 0 |
ParametricHighlightSplit | 75 |
ParametricLights | 0 |
ParametricMidtoneSplit | 50 |
ParametricShadows | 0 |
ParametricShadowSplit | 25 |
PerspectiveAspect | 0 |
PerspectiveHorizontal | 0 |
PerspectiveRotate | 0.0 |
PerspectiveScale | 100 |
PerspectiveUpright | 0 |
PerspectiveVertical | 0 |
PerspectiveX | 0.00 |
PerspectiveY | 0.00 |
PhotometricInterpretation | RGB |
PlanarConfiguration | Chunky |
PostCropVignetteAmount | 0 |
PreservedFileName | 850_2205.NEF |
ProcessVersion | 11.0 |
ProfileDescription | ProPhoto RGB |
Rating | 0 |
RecommendedExposureIndex | 64 |
RedHue | 0 |
RedSaturation | 0 |
Rights | ANNELIN HOFF |
SamplesPerPixel | 3 |
Saturation (1) | 0 |
Saturation | Normal |
SaturationAdjustmentAqua | 0 |
SaturationAdjustmentBlue | 0 |
SaturationAdjustmentGreen | 0 |
SaturationAdjustmentMagenta | 0 |
SaturationAdjustmentOrange | 0 |
SaturationAdjustmentPurple | 0 |
SaturationAdjustmentRed | 0 |
SaturationAdjustmentYellow | 0 |
ScaleFactor35efl | 1.0 |
SceneCaptureType | Standard |
SceneType | Directly photographed |
SensingMethod | One-chip color area |
SensitivityType | Recommended Exposure Index |
SerialNumber | 6036670 |
Shadows2012 | 0 |
ShadowTint | 0 |
SharpenDetail | 25 |
SharpenEdgeMasking | 0 |
SharpenRadius | +1.0 |
Sharpness (1) | 40 |
Sharpness | Normal |
ShutterSpeed | 0.3 |
ShutterSpeedValue | 0.3 |
Software | Adobe Photoshop 21.1 (Windows) |
SplitToningBalance | 0 |
SplitToningHighlightHue | 0 |
SplitToningHighlightSaturation | 0 |
SplitToningShadowHue | 0 |
SplitToningShadowSaturation | 0 |
SubjectDistanceRange | Unknown |
Texture | 0 |
Tint | -3 |
ToneCurve | 0, 0, 32, 22, 64, 56, 128, 128, 192, 196, 255, 255 |
ToneCurveBlue | 0, 0, 255, 255 |
ToneCurveGreen | 0, 0, 255, 255 |
ToneCurveName | Medium Contrast |
ToneCurveName2012 | Linear |
ToneCurvePV2012 | 0, 0, 255, 255 |
ToneCurvePV2012Blue | 0, 0, 255, 255 |
ToneCurvePV2012Green | 0, 0, 255, 255 |
ToneCurvePV2012Red | 0, 0, 255, 255 |
ToneCurveRed | 0, 0, 255, 255 |
ToneMapStrength | 0 |
URL_List | |
Version | 12.2 |
Vibrance | 0 |
VignetteAmount | 0 |
WhiteBalance (1) | As Shot |
WhiteBalance | Manual |
Whites2012 | +78 |