Felt | Verdi |
AlreadyApplied | True |
Aperture | 9.0 |
ApertureValue | 9.0 |
Artist | Stein Watten |
AutoLateralCA | 0 |
AutoWhiteVersion | 134348800 |
BitsPerSample | 8 |
Blacks2012 | 0 |
BlueHue | 0 |
BlueSaturation | 0 |
By-line | Stein Watten |
CameraProfile | Embedded |
CircGradBasedCorrActive | true |
CircGradBasedCorrAmount | 1.000000 |
CircGradBasedCorrBrightness | 0.000000 |
CircGradBasedCorrClarity2012 | 0.495730 |
CircGradBasedCorrContrast2012 | 0.487180 |
CircGradBasedCorrDefringe | 0.000000 |
CircGradBasedCorrExposure2012 | 0.067750 |
CircGradBasedCorrHighlights2012 | -0.376070 |
CircGradBasedCorrHue | 0.000000 |
CircGradBasedCorrLocalBlacks2012 | 0.000000 |
CircGradBasedCorrLocalDehaze | 0.000000 |
CircGradBasedCorrLocalWhites2012 | 0.000000 |
CircGradBasedCorrLuminanceNoise | -1.000000 |
CircGradBasedCorrMaskAngle | -9.172460 |
CircGradBasedCorrMaskBottom | 0.508120 |
CircGradBasedCorrMaskFeather | +50 |
CircGradBasedCorrMaskFlipped | true |
CircGradBasedCorrMaskLeft | 0.063898 |
CircGradBasedCorrMaskMidpoint | +50 |
CircGradBasedCorrMaskRight | 1.318080 |
CircGradBasedCorrMaskRoundness | 0 |
CircGradBasedCorrMaskTop | 0.212101 |
CircGradBasedCorrMaskValue | 1.000000 |
CircGradBasedCorrMaskVersion | +2 |
CircGradBasedCorrMaskWhat | Mask/CircularGradient |
CircGradBasedCorrMoire | 0.000000 |
CircGradBasedCorrSaturation (1) | -0.401710 |
CircGradBasedCorrSaturation | 0.000000 |
CircGradBasedCorrShadows2012 | 0.256410 |
CircGradBasedCorrSharpness | 0.000000 |
CircGradBasedCorrTemperature | -0.144960 |
CircGradBasedCorrTint | 0.000000 |
CircGradBasedCorrWhat | Correction |
CircleOfConfusion | 0.030 mm |
Clarity2012 | +21 |
ColorComponents | 3 |
ColorNoiseReduction | 0 |
ColorSpace | sRGB |
ColorTransform | YCbCr |
Contrast | Normal |
Contrast2012 | +32 |
ConvertToGrayscale | False |
Copyright | |
CopyrightNotice | |
CreateDate | 2019:03:23 14:20:23 |
Creator | Stein Watten |
CreatorTool | Adobe Photoshop Lightroom 6.14 (Windows) |
DateCreated (1) | 2019:03:23 |
DateCreated | 2019:03:23 14:20:23 |
DateTimeOriginal | 2019:03:23 14:20:23 |
DefringeGreenAmount | 0 |
DefringeGreenHueHi | 60 |
DefringeGreenHueLo | 40 |
DefringePurpleAmount | 0 |
DefringePurpleHueHi | 70 |
DefringePurpleHueLo | 30 |
Dehaze | 0 |
DigitalZoomRatio | 1 |
Exposure2012 | -0.07 |
ExposureCompensation | +1 |
ExposureMode | Auto |
ExposureProgram | Aperture-priority AE |
ExposureTime | 1/1250 |
Flash | Off, Did not fire |
FlashCompensation | 0 |
FNumber | 9.0 |
FocalLength | 210.0 mm |
FocalLength35efl | 210.0 mm (35 mm equivalent: 210.0 mm) |
FocalLengthIn35mmFormat | 210 mm |
Format | image/jpeg |
FOV | 9.8 deg |
GainControl | High gain up |
GrainAmount | 0 |
GreenHue | 0 |
GreenSaturation | 0 |
HasCrop | False |
HasSettings | True |
Highlights2012 | -36 |
HueAdjustmentAqua | 0 |
HueAdjustmentBlue | 0 |
HueAdjustmentGreen | 0 |
HueAdjustmentMagenta | 0 |
HueAdjustmentOrange | 0 |
HueAdjustmentPurple | 0 |
HueAdjustmentRed | 0 |
HueAdjustmentYellow | 0 |
HyperfocalDistance | 163.08 m |
ImageHeight | 1344 |
ImageSize | 2976x1344 |
ImageWidth | 2976 |
IncrementalTemperature | 0 |
IncrementalTint | 0 |
ISO | 1250 |
Lens | 80-400mm f/4.5-5.6 |
LensManualDistortionAmount | 0 |
LensModel | 80-400mm f/4.5-5.6 |
LensProfileEnable | 0 |
LensProfileSetup | LensDefaults |
LightSource | Unknown |
LightValue | 13.0 |
LuminanceAdjustmentAqua | 0 |
LuminanceAdjustmentBlue | 0 |
LuminanceAdjustmentGreen | 0 |
LuminanceAdjustmentMagenta | 0 |
LuminanceAdjustmentOrange | 0 |
LuminanceAdjustmentPurple | 0 |
LuminanceAdjustmentRed | 0 |
LuminanceAdjustmentYellow | 0 |
LuminanceNoiseReductionContrast | 0 |
LuminanceNoiseReductionDetail | 0 |
LuminanceSmoothing | 65 |
Make | NIKON CORPORATION |
MaxApertureValue | 5.5 |
Megapixels | 4.0 |
MeteringMode | Multi-segment |
Model | NIKON D800 |
ModifyDate (1) | 2019:08:10 23:25:14+02:00 |
ModifyDate | 2019:08:10 23:25:14 |
PaintCorrectionActive | true |
PaintCorrectionAmount | 1.000000 |
PaintCorrectionBrightness | 0.000000 |
PaintCorrectionClarity2012 (3) | 0.205130 |
PaintCorrectionClarity2012 (7) | 0.222220 |
PaintCorrectionClarity2012 | -0.444440 |
PaintCorrectionContrast2012 (1) | 0.367520 |
PaintCorrectionContrast2012 (2) | -0.777780 |
PaintCorrectionContrast2012 (6) | 0.170940 |
PaintCorrectionContrast2012 (7) | -0.358970 |
PaintCorrectionContrast2012 | -0.282050 |
PaintCorrectionDefringe | 0.000000 |
PaintCorrectionExposure2012 (1) | -0.282000 |
PaintCorrectionExposure2012 (2) | -0.019750 |
PaintCorrectionExposure2012 (3) | -0.349750 |
PaintCorrectionExposure2012 (4) | -0.196500 |
PaintCorrectionExposure2012 (5) | 0.260500 |
PaintCorrectionExposure2012 (6) | -0.786250 |
PaintCorrectionExposure2012 (7) | -0.145250 |
PaintCorrectionExposure2012 | 0.085500 |
PaintCorrectionHighlights2012 (1) | 0.675210 |
PaintCorrectionHighlights2012 (4) | 0.170940 |
PaintCorrectionHighlights2012 | -0.470090 |
PaintCorrectionHue | 0.000000 |
PaintCorrectionLocalBlacks2012 | 0.000000 |
PaintCorrectionLocalDehaze | 0.000000 |
PaintCorrectionLocalWhites2012 | 0.000000 |
PaintCorrectionLuminanceNoise (7) | -1.000000 |
PaintCorrectionLuminanceNoise | 1.000000 |
PaintCorrectionMaskCenterWeight | 0.185257 |
PaintCorrectionMaskFlow | 0.340000 |
PaintCorrectionMaskRadius (1) | 0.038570 |
PaintCorrectionMaskRadius (10) | 0.147277 |
PaintCorrectionMaskRadius (14) | 0.015118 |
PaintCorrectionMaskRadius (16) | 0.018440 |
PaintCorrectionMaskRadius (2) | 0.027495 |
PaintCorrectionMaskRadius (22) | 0.093017 |
PaintCorrectionMaskRadius (23) | 0.056727 |
PaintCorrectionMaskRadius (24) | 0.017745 |
PaintCorrectionMaskRadius (3) | 0.034817 |
PaintCorrectionMaskRadius | 0.003319 |
PaintCorrectionMaskValue | 1.000000 |
PaintCorrectionMaskWhat | Mask/Paint |
PaintCorrectionMoire | 0.000000 |
PaintCorrectionSaturation (1) | 0.136750 |
PaintCorrectionSaturation (3) | -0.470090 |
PaintCorrectionSaturation (5) | -0.299150 |
PaintCorrectionSaturation (7) | -0.521370 |
PaintCorrectionSaturation | 0.000000 |
PaintCorrectionShadows2012 (1) | -0.461540 |
PaintCorrectionShadows2012 (2) | 0.521370 |
PaintCorrectionShadows2012 (4) | 0.846150 |
PaintCorrectionShadows2012 (7) | -1.000000 |
PaintCorrectionShadows2012 | -0.273500 |
PaintCorrectionSharpness (3) | 0.000000 |
PaintCorrectionSharpness (7) | 0.162390 |
PaintCorrectionSharpness | -1.000000 |
PaintCorrectionTemperature (2) | -0.093850 |
PaintCorrectionTemperature (3) | -0.134960 |
PaintCorrectionTemperature (4) | -0.124960 |
PaintCorrectionTemperature (5) | -0.174960 |
PaintCorrectionTemperature (6) | -0.166580 |
PaintCorrectionTemperature | -0.194960 |
PaintCorrectionTint | 0.000000 |
PaintCorrectionWhat | Correction |
ParametricDarks | 0 |
ParametricHighlights | 0 |
ParametricHighlightSplit | 75 |
ParametricLights | 0 |
ParametricMidtoneSplit | 50 |
ParametricShadows | 0 |
ParametricShadowSplit | 25 |
PerspectiveAspect | 0 |
PerspectiveHorizontal | 0 |
PerspectiveRotate | 0.0 |
PerspectiveScale | 100 |
PerspectiveUpright | 0 |
PerspectiveVertical | 0 |
PerspectiveX | 0.00 |
PerspectiveY | 0.00 |
PhotographicSensitivity | 1250 |
PostCropVignetteAmount | -23 |
PostCropVignetteFeather | 50 |
PostCropVignetteHighlightContrast | 0 |
PostCropVignetteMidpoint | 50 |
PostCropVignetteRoundness | 0 |
PostCropVignetteStyle | 1 |
ProcessVersion | 6.7 |
ProfileDescription | sRGB IEC61966-2.1 |
RedHue | 0 |
RedSaturation | 0 |
Rights | |
Saturation (1) | 0 |
Saturation | Normal |
SaturationAdjustmentAqua | 0 |
SaturationAdjustmentBlue | 0 |
SaturationAdjustmentGreen | 0 |
SaturationAdjustmentMagenta | 0 |
SaturationAdjustmentOrange | 0 |
SaturationAdjustmentPurple | 0 |
SaturationAdjustmentRed | 0 |
SaturationAdjustmentYellow | 0 |
ScaleFactor35efl | 1.0 |
SceneCaptureType | Standard |
SceneType | Directly photographed |
SensingMethod | One-chip color area |
SensitivityType | Recommended Exposure Index |
SerialNumber | 2064113 |
Shadows2012 | +80 |
ShadowTint | 0 |
SharpenDetail | 0 |
SharpenEdgeMasking | 100 |
SharpenRadius | +1.0 |
Sharpness (1) | 8 |
Sharpness | Normal |
ShutterSpeed | 1/1250 |
ShutterSpeedValue | 1/1250 |
Software | Adobe Photoshop Lightroom 6.14 (Windows) |
SplitToningBalance | 0 |
SplitToningHighlightHue | 0 |
SplitToningHighlightSaturation | 0 |
SplitToningShadowHue | 0 |
SplitToningShadowSaturation | 0 |
SubjectDistanceRange | Unknown |
ToneCurve | 0, 0, 255, 255 |
ToneCurveBlue | 0, 0, 255, 255 |
ToneCurveGreen | 0, 0, 255, 255 |
ToneCurveName | Linear |
ToneCurveName2012 | Linear |
ToneCurvePV2012 | 0, 0, 255, 255 |
ToneCurvePV2012Blue | 0, 0, 255, 255 |
ToneCurvePV2012Green | 0, 0, 255, 255 |
ToneCurvePV2012Red | 0, 0, 255, 255 |
ToneCurveRed | 0, 0, 255, 255 |
ToneMapStrength | 0 |
Version | 10.1 |
Vibrance | 0 |
VignetteAmount | 0 |
WhiteBalance (1) | As Shot |
WhiteBalance | Auto |
Whites2012 | +13 |