Felt | Verdi |
AlreadyApplied | True |
Aperture | 5.6 |
ApertureValue | 5.6 |
Artist | Arild Thingvoll |
AutoLateralCA | 0 |
BitsPerSample | 8 |
Blacks2012 | -2 |
BlueHue | 0 |
BlueSaturation | 0 |
BrightnessValue | 5.52 |
By-line | Arild Thingvoll |
CameraProfile | Embedded |
CircGradBasedCorrActive | true |
CircGradBasedCorrAmount | 1.000000 |
CircGradBasedCorrBrightness | 0.000000 |
CircGradBasedCorrClarity2012 | 0.000000 |
CircGradBasedCorrContrast2012 | 0.000000 |
CircGradBasedCorrCorrectionRangeMaskColorAmount | 0.500000 |
CircGradBasedCorrCorrectionRangeMaskLumFeather | 0.500000 |
CircGradBasedCorrCorrectionRangeMaskLumMax | 1.000000 |
CircGradBasedCorrCorrectionRangeMaskLumMin | 0.000000 |
CircGradBasedCorrCorrectionRangeMaskType | 0 |
CircGradBasedCorrCorrectionRangeMaskVersion | +2 |
CircGradBasedCorrDefringe | 0.000000 |
CircGradBasedCorrExposure2012 (2) | 0.347750 |
CircGradBasedCorrExposure2012 (3) | 0.565250 |
CircGradBasedCorrExposure2012 (7) | 0.152250 |
CircGradBasedCorrExposure2012 | 0.282500 |
CircGradBasedCorrHighlights2012 | 0.000000 |
CircGradBasedCorrHue | 0.000000 |
CircGradBasedCorrLocalBlacks2012 | 0.000000 |
CircGradBasedCorrLocalDehaze | 0.000000 |
CircGradBasedCorrLocalWhites2012 | 0.000000 |
CircGradBasedCorrLuminanceNoise | 0.000000 |
CircGradBasedCorrMaskAngle | 0.000000 |
CircGradBasedCorrMaskBottom (1) | 0.592469 |
CircGradBasedCorrMaskBottom (2) | 0.586611 |
CircGradBasedCorrMaskBottom (3) | 0.734729 |
CircGradBasedCorrMaskBottom (4) | 0.697072 |
CircGradBasedCorrMaskBottom (5) | 0.889540 |
CircGradBasedCorrMaskBottom (6) | 0.948954 |
CircGradBasedCorrMaskBottom (7) | 0.912134 |
CircGradBasedCorrMaskBottom | 0.649372 |
CircGradBasedCorrMaskFeather (1) | +50 |
CircGradBasedCorrMaskFeather | +76 |
CircGradBasedCorrMaskFlipped | true |
CircGradBasedCorrMaskLeft (1) | 0.890686 |
CircGradBasedCorrMaskLeft (2) | 0.944785 |
CircGradBasedCorrMaskLeft (3) | 0.780256 |
CircGradBasedCorrMaskLeft (4) | 0.899051 |
CircGradBasedCorrMaskLeft (5) | 0.446180 |
CircGradBasedCorrMaskLeft (6) | 0.581149 |
CircGradBasedCorrMaskLeft (7) | 0.339097 |
CircGradBasedCorrMaskLeft | 0.754043 |
CircGradBasedCorrMaskMidpoint | +50 |
CircGradBasedCorrMaskRight (1) | 0.919688 |
CircGradBasedCorrMaskRight (2) | 1.008370 |
CircGradBasedCorrMaskRight (3) | 0.905187 |
CircGradBasedCorrMaskRight (4) | 1.023980 |
CircGradBasedCorrMaskRight (5) | 0.583380 |
CircGradBasedCorrMaskRight (6) | 0.718349 |
CircGradBasedCorrMaskRight (7) | 0.476297 |
CircGradBasedCorrMaskRight | 0.843279 |
CircGradBasedCorrMaskRoundness | 0 |
CircGradBasedCorrMaskTop (1) | 0.537238 |
CircGradBasedCorrMaskTop (2) | 0.447699 |
CircGradBasedCorrMaskTop (3) | 0.595817 |
CircGradBasedCorrMaskTop (4) | 0.558160 |
CircGradBasedCorrMaskTop (5) | 0.799163 |
CircGradBasedCorrMaskTop (6) | 0.858577 |
CircGradBasedCorrMaskTop (7) | 0.821757 |
CircGradBasedCorrMaskTop | 0.600837 |
CircGradBasedCorrMaskValue | 1.000000 |
CircGradBasedCorrMaskVersion | +2 |
CircGradBasedCorrMaskWhat | Mask/CircularGradient |
CircGradBasedCorrMoire | 0.000000 |
CircGradBasedCorrSaturation | 0.000000 |
CircGradBasedCorrShadows2012 | 0.130430 |
CircGradBasedCorrSharpness | 0.000000 |
CircGradBasedCorrTemperature | 0.000000 |
CircGradBasedCorrTint | 0.000000 |
CircGradBasedCorrWhat | Correction |
CircleOfConfusion | 0.020 mm |
Clarity2012 | +55 |
ColorComponents | 3 |
ColorNoiseReduction | 0 |
ColorSpace | sRGB |
ColorTransform | YCbCr |
Contrast2012 | +67 |
ConvertToGrayscale | True |
Copyright | © Arild Thingvoll |
CopyrightFlag | True |
CopyrightNotice | © Arild Thingvoll |
CreateDate | 2018:07:09 20:40:29 |
Creator | Arild Thingvoll |
CreatorAddress | Fjordavegen 330 |
CreatorCity | Vik i Sogn |
CreatorCountry | Norway |
CreatorPostalCode | 6893 |
CreatorRegion | Sogn og Fjordane |
CreatorTool | Adobe Photoshop Lightroom Classic 7.4 (Windows) |
CreatorWorkEmail | athingvoll@gmail.com |
CreatorWorkTelephone | 91584513 |
CustomRendered | Custom |
DateCreated (1) | 2018:07:09 |
DateCreated | 2018:07:09 20:40:29 |
DateTimeOriginal | 2018:07:09 20:40:29 |
Dehaze | 0 |
Exposure2012 | 0.00 |
ExposureCompensation | -1 |
ExposureMode | Auto |
ExposureProgram | Aperture-priority AE |
ExposureTime | 1/105 |
Flash | No Flash |
FNumber | 5.6 |
FocalLength | 16.0 mm |
FocalLength35efl | 16.0 mm (35 mm equivalent: 24.0 mm) |
FocalLengthIn35mmFormat | 24 mm |
Format | image/jpeg |
FOV | 73.7 deg |
GrainAmount | 0 |
GrayMixerAqua | 0 |
GrayMixerBlue | +9 |
GrayMixerGreen | 0 |
GrayMixerMagenta | +2 |
GrayMixerOrange | 0 |
GrayMixerPurple | 0 |
GrayMixerRed | 0 |
GrayMixerYellow | 0 |
GreenHue | 0 |
GreenSaturation | 0 |
HasCrop | False |
HasExtendedXMP | 11C6BFD6E14297B14FB9004CE3567E48 |
HasSettings | True |
Highlights2012 | -40 |
HyperfocalDistance | 2.28 m |
ImageHeight | 800 |
ImageSize | 1200x800 |
ImageWidth | 1200 |
IncrementalTemperature | 0 |
IncrementalTint | 0 |
ISO | 200 |
Keywords | 0718 |
Lens | XF16mmF1.4 R WR |
LensInfo | 16mm f/1.4 |
LensMake | FUJIFILM |
LensManualDistortionAmount | 0 |
LensModel | XF16mmF1.4 R WR |
LensProfileEnable | 0 |
LensProfileSetup | LensDefaults |
LensSerialNumber | 76A00436 |
LightSource | Unknown |
LightValue | 10.7 |
LookAmount | 1.250000 |
LookCluster | Adobe |
LookGroup | B&W |
LookName | B&W Yellow Filter |
LookParametersClarity2012 | +8 |
LookParametersContrast2012 | +8 |
LookParametersConvertToGrayscale | True |
LookParametersGrayMixerAqua | 0 |
LookParametersGrayMixerBlue | 0 |
LookParametersGrayMixerGreen | 0 |
LookParametersGrayMixerMagenta | 0 |
LookParametersGrayMixerOrange | 0 |
LookParametersGrayMixerPurple | 0 |
LookParametersGrayMixerRed | 0 |
LookParametersGrayMixerYellow | 0 |
LookParametersLookTable | BB05002861922AD9311B0EFD2594A3EC |
LookParametersProcessVersion | 10.0 |
LookParametersToneCurvePV2012 | 0, 0, 29, 25, 128, 128, 192, 196, 255, 255 |
LookParametersToneCurvePV2012Blue | 0, 0, 255, 255 |
LookParametersToneCurvePV2012Green | 0, 0, 255, 255 |
LookParametersToneCurvePV2012Red | 0, 0, 255, 255 |
LookParametersVersion | 10.4 |
LookSortName | B&W 53 |
LookSupportsMonochrome | false |
LuminanceSmoothing | 0 |
Make | FUJIFILM |
Marked | True |
MaxApertureValue | 1.4 |
Megapixels | 0.960 |
MeteringMode | Multi-segment |
Model | X-T2 |
ModifyDate (1) | 2018:08:21 21:32:31+02:00 |
ModifyDate | 2018:08:21 21:32:31 |
OverrideLookVignette | False |
PaintCorrectionActive | true |
PaintCorrectionAmount | 1.000000 |
PaintCorrectionBrightness | 0.000000 |
PaintCorrectionClarity2012 | 0.000000 |
PaintCorrectionContrast2012 (2) | 0.347830 |
PaintCorrectionContrast2012 | 0.000000 |
PaintCorrectionCorrectionRangeMaskColorAmount | 0.500000 |
PaintCorrectionCorrectionRangeMaskLumFeather | 0.500000 |
PaintCorrectionCorrectionRangeMaskLumMax | 1.000000 |
PaintCorrectionCorrectionRangeMaskLumMin | 0.000000 |
PaintCorrectionCorrectionRangeMaskType | 0 |
PaintCorrectionCorrectionRangeMaskVersion | +2 |
PaintCorrectionDefringe | 0.000000 |
PaintCorrectionExposure2012 (2) | 0.000000 |
PaintCorrectionExposure2012 (3) | 0.087000 |
PaintCorrectionExposure2012 (4) | 0.130500 |
PaintCorrectionExposure2012 | 0.152250 |
PaintCorrectionHighlights2012 (4) | 0.130430 |
PaintCorrectionHighlights2012 | 0.000000 |
PaintCorrectionHue | 0.000000 |
PaintCorrectionLocalBlacks2012 | 0.000000 |
PaintCorrectionLocalDehaze | 0.000000 |
PaintCorrectionLocalWhites2012 | 0.000000 |
PaintCorrectionLuminanceNoise | 0.000000 |
PaintCorrectionMaskCenterWeight | 0.000000 |
PaintCorrectionMaskFlow | 1.000000 |
PaintCorrectionMaskRadius (25) | 0.084588 |
PaintCorrectionMaskRadius (29) | 0.124470 |
PaintCorrectionMaskRadius (30) | 0.076983 |
PaintCorrectionMaskRadius (36) | 0.054909 |
PaintCorrectionMaskRadius (67) | 0.062144 |
PaintCorrectionMaskRadius | 0.069501 |
PaintCorrectionMaskValue | 1.000000 |
PaintCorrectionMaskWhat | Mask/Paint |
PaintCorrectionMoire | 0.000000 |
PaintCorrectionSaturation | 0.000000 |
PaintCorrectionShadows2012 (1) | 0.130430 |
PaintCorrectionShadows2012 (2) | -0.304350 |
PaintCorrectionShadows2012 (3) | 0.478260 |
PaintCorrectionShadows2012 (4) | 0.391300 |
PaintCorrectionShadows2012 | 0.195650 |
PaintCorrectionSharpness (2) | 0.282610 |
PaintCorrectionSharpness | 0.000000 |
PaintCorrectionTemperature | 0.000000 |
PaintCorrectionTint | 0.000000 |
PaintCorrectionWhat | Correction |
ParametricDarks | 0 |
ParametricHighlights | 0 |
ParametricHighlightSplit | 75 |
ParametricLights | 0 |
ParametricMidtoneSplit | 50 |
ParametricShadows | +71 |
ParametricShadowSplit | 25 |
PerspectiveAspect | 0 |
PerspectiveHorizontal | 0 |
PerspectiveRotate | 0.0 |
PerspectiveScale | 100 |
PerspectiveUpright | 0 |
PerspectiveVertical | 0 |
PerspectiveX | 0.00 |
PerspectiveY | 0.00 |
PostCropVignetteAmount | -7 |
PostCropVignetteFeather | 50 |
PostCropVignetteHighlightContrast | 0 |
PostCropVignetteMidpoint | 50 |
PostCropVignetteRoundness | 0 |
PostCropVignetteStyle | 1 |
ProcessVersion | 10.0 |
ProfileDescription | sRGB IEC61966-2.1 |
RawFileName | |
RedHue | 0 |
RedSaturation | 0 |
Rights | © Arild Thingvoll |
ScaleFactor35efl | 1.5 |
SceneCaptureType | Standard |
SceneType | Directly photographed |
SensingMethod | One-chip color area |
SensitivityType | Standard Output Sensitivity |
SerialNumber | 64M51292 |
Shadows2012 | -7 |
ShadowTint | 0 |
SharpenDetail | 56 |
SharpenEdgeMasking | 44 |
SharpenRadius | +1.1 |
Sharpness (1) | 75 |
Sharpness | Hard |
ShutterSpeed | 1/105 |
ShutterSpeedValue | 1/105 |
Software | Adobe Photoshop Lightroom Classic 7.4 (Windows) |
SplitToningBalance | -36 |
SplitToningHighlightHue | 240 |
SplitToningHighlightSaturation | 25 |
SplitToningShadowHue | 0 |
SplitToningShadowSaturation | 0 |
Subject | 0718 |
SubjectDistanceRange | Unknown |
ToneCurve | 0, 0, 255, 255 |
ToneCurveBlue | 0, 0, 255, 255 |
ToneCurveGreen | 0, 0, 255, 255 |
ToneCurveName | Linear |
ToneCurveName2012 | Medium Contrast |
ToneCurvePV2012 | 0, 0, 32, 22, 64, 56, 128, 128, 192, 196, 255, 255 |
ToneCurvePV2012Blue | 0, 0, 255, 255 |
ToneCurvePV2012Green | 0, 0, 255, 255 |
ToneCurvePV2012Red | 0, 0, 255, 255 |
ToneCurveRed | 0, 0, 255, 255 |
ToneMapStrength | 0 |
Version | 10.4 |
VignetteAmount | 0 |
WhiteBalance (1) | As Shot |
WhiteBalance | Auto |
Whites2012 | +60 |