Felt | Verdi |
AlreadyApplied | True |
Aperture | 7.1 |
ApertureValue | 7.1 |
ApproximateFocusDistance | 1.21 |
AutoLateralCA | 1 |
BitsPerSample | 8 |
Blacks2012 | -22 |
BlueHue | 0 |
BlueSaturation | 0 |
CameraProfile | Adobe Standard |
CircleOfConfusion | 0.017 mm |
Clarity2012 | +15 |
ColorComponents | 3 |
ColorNoiseReduction | 25 |
ColorNoiseReductionDetail | 50 |
ColorNoiseReductionSmoothness | 50 |
ColorSpace | sRGB |
ColorTemperature | 6050 |
ColorTransform | YCbCr |
Contrast2012 | -25 |
ConvertToGrayscale | False |
Copyright | © Kristoffer Holmen |
CopyrightNotice | © Kristoffer Holmen |
CreateDate (1) | 2018:03:20 16:02:14.00 |
CreateDate | 2018:03:20 16:02:14 |
CreatorTool | Adobe Lightroom CC 1.2 (Macintosh) |
CropAngle | -1.00142 |
CropBottom | 0.913814 |
CropConstrainToWarp | 1 |
CropLeft | 0.001358 |
CropRight | 0.922676 |
CropTop | 0.026986 |
CustomRendered | Normal |
DateCreated (1) | 2018:03:20 |
DateCreated | 2018:03:20 16:02:14.00 |
DateTimeOriginal | 2018:03:20 16:02:14 |
DefringeGreenAmount | 0 |
DefringeGreenHueHi | 60 |
DefringeGreenHueLo | 40 |
DefringePurpleAmount | 0 |
DefringePurpleHueHi | 70 |
DefringePurpleHueLo | 30 |
Dehaze | +4 |
DistortionCorrectionAlreadyApplied | True |
DOF | 1.33 m (0.84 - 2.17 m) |
Exposure2012 | +0.38 |
ExposureCompensation | 0 |
ExposureMode | Auto |
ExposureProgram | Program AE |
ExposureTime | 1/125 |
Firmware | 1.1.2 |
Flash | Off, Did not fire |
FlashCompensation | 0 |
FNumber | 7.1 |
FocalLength | 18.0 mm |
FocalLength35efl | 18.0 mm (35 mm equivalent: 31.9 mm) |
Format | image/jpeg |
FOV | 58.9 deg |
GrainAmount | 0 |
GreenHue | 0 |
GreenSaturation | 0 |
HasCrop | True |
HasExtendedXMP | C25F118B6EF7D1ACC243F949A23619C7 |
HasSettings | True |
Highlights2012 | -72 |
HueAdjustmentAqua | 0 |
HueAdjustmentBlue | +32 |
HueAdjustmentGreen | +26 |
HueAdjustmentMagenta | 0 |
HueAdjustmentOrange | +73 |
HueAdjustmentPurple | +1 |
HueAdjustmentRed | 0 |
HueAdjustmentYellow | +58 |
HyperfocalDistance | 2.69 m |
ImageHeight | 3323 |
ImageNumber | 0 |
ImageSize | 4984x3323 |
ImageWidth | 4984 |
ISO | 100 |
LateralChromaticAberrationCorrectionAlreadyApplied | True |
Lens | EF-S18-55mm f/3.5-5.6 IS STM |
LensID (1) | 4146 |
LensID | Canon EF-S 18-55mm f/3.5-5.6 IS STM |
LensInfo | 18-55mm f/? |
LensManualDistortionAmount | 0 |
LensModel | EF-S18-55mm f/3.5-5.6 IS STM |
LensProfileChromaticAberrationScale | 100 |
LensProfileDistortionScale | 100 |
LensProfileEnable | 1 |
LensProfileFilename | Canon EOS 50D (Canon EF-S 18-55mm f3.5-5.6 IS STM) - RAW.lcp |
LensProfileName | Adobe (Canon EF-S 18-55mm f/3.5-5.6 IS STM) |
LensProfileSetup | LensDefaults |
LensProfileVignettingScale | 100 |
LensSerialNumber | 0000368117 |
LightValue | 12.6 |
LuminanceAdjustmentAqua | 0 |
LuminanceAdjustmentBlue | +56 |
LuminanceAdjustmentGreen | -18 |
LuminanceAdjustmentMagenta | 0 |
LuminanceAdjustmentOrange | -17 |
LuminanceAdjustmentPurple | 0 |
LuminanceAdjustmentRed | 0 |
LuminanceAdjustmentYellow | +29 |
LuminanceNoiseReductionContrast | 0 |
LuminanceNoiseReductionDetail | 50 |
LuminanceSmoothing | 57 |
Make | Canon |
MaxApertureValue | 3.5 |
Megapixels | 16.6 |
MeteringMode | Multi-segment |
Model | Canon EOS 70D |
ModifyDate (1) | 2018:03:20 20:04:56+01:00 |
ModifyDate | 2018:03:20 20:04:56 |
PaintCorrectionActive | true |
PaintCorrectionAmount | 1.000000 |
PaintCorrectionBrightness | 0.000000 |
PaintCorrectionClarity2012 | 0.000000 |
PaintCorrectionContrast2012 | 0.372485 |
PaintCorrectionCorrectionRangeMaskColorAmount | 0.500000 |
PaintCorrectionCorrectionRangeMaskLumFeather | 0.500000 |
PaintCorrectionCorrectionRangeMaskLumMax | 1.000000 |
PaintCorrectionCorrectionRangeMaskLumMin | 0.000000 |
PaintCorrectionCorrectionRangeMaskType | 0 |
PaintCorrectionCorrectionRangeMaskVersion | +2 |
PaintCorrectionDefringe | 0.000000 |
PaintCorrectionExposure2012 | -0.039901 |
PaintCorrectionHighlights2012 | -0.321227 |
PaintCorrectionHue | 0.000000 |
PaintCorrectionLocalBlacks2012 | 0.000000 |
PaintCorrectionLocalDehaze | 0.000000 |
PaintCorrectionLocalWhites2012 | 0.000000 |
PaintCorrectionLuminanceNoise | 0.000000 |
PaintCorrectionMaskCenterWeight (1) | 1.000000 |
PaintCorrectionMaskCenterWeight (42) | 0.007330 |
PaintCorrectionMaskCenterWeight (6) | 0.130475 |
PaintCorrectionMaskCenterWeight | 0.000000 |
PaintCorrectionMaskFlow (35) | 1.000000 |
PaintCorrectionMaskFlow | 0.494662 |
PaintCorrectionMaskRadius (1) | 0.088568 |
PaintCorrectionMaskRadius (10) | 0.012925 |
PaintCorrectionMaskRadius (11) | 0.049112 |
PaintCorrectionMaskRadius (12) | 0.049512 |
PaintCorrectionMaskRadius (13) | 0.049651 |
PaintCorrectionMaskRadius (14) | 0.049982 |
PaintCorrectionMaskRadius (15) | 0.050339 |
PaintCorrectionMaskRadius (16) | 0.050653 |
PaintCorrectionMaskRadius (17) | 0.050785 |
PaintCorrectionMaskRadius (18) | 0.050443 |
PaintCorrectionMaskRadius (19) | 0.050190 |
PaintCorrectionMaskRadius (2) | 0.084392 |
PaintCorrectionMaskRadius (20) | 0.049814 |
PaintCorrectionMaskRadius (21) | 0.030465 |
PaintCorrectionMaskRadius (22) | 0.031160 |
PaintCorrectionMaskRadius (23) | 0.031733 |
PaintCorrectionMaskRadius (24) | 0.019030 |
PaintCorrectionMaskRadius (25) | 0.018985 |
PaintCorrectionMaskRadius (26) | 0.018094 |
PaintCorrectionMaskRadius (27) | 0.018341 |
PaintCorrectionMaskRadius (28) | 0.018009 |
PaintCorrectionMaskRadius (29) | 0.017963 |
PaintCorrectionMaskRadius (3) | 0.012841 |
PaintCorrectionMaskRadius (30) | 0.018123 |
PaintCorrectionMaskRadius (31) | 0.017964 |
PaintCorrectionMaskRadius (32) | 0.017996 |
PaintCorrectionMaskRadius (33) | 0.017942 |
PaintCorrectionMaskRadius (34) | 0.017891 |
PaintCorrectionMaskRadius (35) | 0.017831 |
PaintCorrectionMaskRadius (36) | 0.017834 |
PaintCorrectionMaskRadius (37) | 0.017867 |
PaintCorrectionMaskRadius (38) | 0.022666 |
PaintCorrectionMaskRadius (39) | 0.021913 |
PaintCorrectionMaskRadius (40) | 0.022758 |
PaintCorrectionMaskRadius (41) | 0.022815 |
PaintCorrectionMaskRadius (42) | 0.031573 |
PaintCorrectionMaskRadius (43) | 0.019537 |
PaintCorrectionMaskRadius (44) | 0.065826 |
PaintCorrectionMaskRadius (45) | 0.065260 |
PaintCorrectionMaskRadius (46) | 0.065330 |
PaintCorrectionMaskRadius (47) | 0.065473 |
PaintCorrectionMaskRadius (48) | 0.065799 |
PaintCorrectionMaskRadius (49) | 0.065768 |
PaintCorrectionMaskRadius (5) | 0.012799 |
PaintCorrectionMaskRadius (50) | 0.065728 |
PaintCorrectionMaskRadius (51) | 0.064231 |
PaintCorrectionMaskRadius (52) | 0.064542 |
PaintCorrectionMaskRadius (53) | 0.064331 |
PaintCorrectionMaskRadius (54) | 0.063985 |
PaintCorrectionMaskRadius (6) | 0.012802 |
PaintCorrectionMaskRadius (7) | 0.012808 |
PaintCorrectionMaskRadius (8) | 0.012821 |
PaintCorrectionMaskRadius (9) | 0.012831 |
PaintCorrectionMaskRadius | 0.064489 |
PaintCorrectionMaskValue (1) | 1.000000 |
PaintCorrectionMaskValue | 0.000000 |
PaintCorrectionMaskWhat | Mask/Paint |
PaintCorrectionMoire | 0.000000 |
PaintCorrectionSaturation | 0.000000 |
PaintCorrectionShadows2012 | 0.259413 |
PaintCorrectionSharpness | 0.000000 |
PaintCorrectionTemperature | -0.238720 |
PaintCorrectionTint | 0.000000 |
PaintCorrectionWhat | Correction |
ParametricDarks | 0 |
ParametricHighlights | 0 |
ParametricHighlightSplit | 75 |
ParametricLights | 0 |
ParametricMidtoneSplit | 50 |
ParametricShadows | 0 |
ParametricShadowSplit | 25 |
PerspectiveAspect | 0 |
PerspectiveHorizontal | 0 |
PerspectiveRotate | 0.0 |
PerspectiveScale | 100 |
PerspectiveUpright | 1 |
PerspectiveVertical | 0 |
PerspectiveX | 0.00 |
PerspectiveY | 0.00 |
PostCropVignetteAmount | 0 |
ProcessVersion | 10.0 |
ProfileDescription | sRGB IEC61966-2.1 |
RecommendedExposureIndex | 100 |
RedHue | 0 |
RedSaturation | 0 |
Rights | © Kristoffer Holmen |
Saturation | +5 |
SaturationAdjustmentAqua | 0 |
SaturationAdjustmentBlue | +100 |
SaturationAdjustmentGreen | +23 |
SaturationAdjustmentMagenta | 0 |
SaturationAdjustmentOrange | 0 |
SaturationAdjustmentPurple | 0 |
SaturationAdjustmentRed | 0 |
SaturationAdjustmentYellow | +67 |
ScaleFactor35efl | 1.8 |
SceneCaptureType | Standard |
SensitivityType | Recommended Exposure Index |
SerialNumber | 413059002051 |
Shadows2012 | +50 |
ShadowTint | 0 |
SharpenDetail | 25 |
SharpenEdgeMasking | 0 |
SharpenRadius | +1.0 |
Sharpness | 98 |
ShutterSpeed | 1/125 |
ShutterSpeedValue | 1/125 |
Software | Adobe Lightroom CC 1.2 (Macintosh) |
SplitToningBalance | 0 |
SplitToningHighlightHue | 0 |
SplitToningHighlightSaturation | 0 |
SplitToningShadowHue | 0 |
SplitToningShadowSaturation | 0 |
Tint | +5 |
ToneCurve | 0, 0, 255, 255 |
ToneCurveBlue | 0, 0, 255, 255 |
ToneCurveGreen | 0, 0, 255, 255 |
ToneCurveName | Linear |
ToneCurveName2012 | Linear |
ToneCurvePV2012 | 0, 0, 255, 255 |
ToneCurvePV2012Blue | 0, 0, 255, 255 |
ToneCurvePV2012Green | 0, 0, 255, 255 |
ToneCurvePV2012Red | 0, 0, 255, 255 |
ToneCurveRed | 0, 0, 255, 255 |
Version | 10.2 |
Vibrance | +18 |
VignetteAmount | 0 |
VignetteCorrectionAlreadyApplied | True |
WhiteBalance (1) | As Shot |
WhiteBalance | Auto |
Whites2012 | +42 |