Felt | Verdi |
AlreadyApplied | True |
Aperture | 22.0 |
ApertureValue | 22.0 |
ApproximateFocusDistance | 4294967295 |
Artist | Mikkel Nordbaek |
AutoLateralCA | 1 |
AutoWhiteVersion | 134348800 |
BitsPerSample | 8 |
BlackClip | 0.008631 |
Blacks2012 | -19 |
BlendingOpacity | 41.0 |
BlendWithEV | -1.0 |
BlueHue | 0 |
BlueSaturation | 0 |
Brightness | 2.4 |
BrightnessIndividualColors | 0.0,0.0,0.0,0.0,0.0,0.0,0.0,0.0 |
By-line | Mikkel Nordbaek |
CameraProfile | Embedded |
CircleOfConfusion | 0.022 mm |
Clarity2012 | +44 |
ColorComponents | 3 |
ColorNoiseReduction | 0 |
ColorSpace | sRGB |
ColorTemperature | 2.0 |
ColorTransform | YCbCr |
Contrast2012 | +10 |
ConvertToGrayscale | False |
Copyright | Mikkel Nordbaek |
CopyrightNotice | Mikkel Nordbaek |
CreateDate (1) | 2017:09:12 19:41:02.74 |
CreateDate | 2017:09:12 19:41:02 |
Creator | Mikkel Nordbaek |
CreatorTool | Adobe Photoshop Lightroom 6.12 (Windows) |
CropAngle | 0 |
CropBottom | 0.831699 |
CropConstrainToWarp | 0 |
CropLeft | 0.063181 |
CropRight | 0.814815 |
CropTop | 0.129085 |
CustomRendered | Normal |
DateCreated (1) | 2017:09:12 |
DateCreated | 2017:09:12 19:41:02.74 |
DateTimeOriginal | 2017:09:12 19:41:02 |
DefringeGreenAmount | 0 |
DefringeGreenHueHi | 60 |
DefringeGreenHueLo | 40 |
DefringePurpleAmount | 0 |
DefringePurpleHueHi | 70 |
DefringePurpleHueLo | 30 |
Dehaze | +3 |
DetailContrast | 10.0 |
DistortionCorrectionAlreadyApplied | True |
DOF | inf (1.50 m - inf) |
Exposure2012 | +0.07 |
ExposureCompensation | 0 |
ExposureMode | Manual |
ExposureProgram | Manual |
ExposureTime | 1.6 |
Firmware | 1.1.6 |
Flash | Off, Did not fire |
FlashCompensation | 0 |
FNumber | 22.0 |
FocalLength | 27.0 mm |
FocalLength35efl | 27.0 mm (35 mm equivalent: 36.6 mm) |
Format | image/jpeg |
FOV | 52.3 deg |
GradientBasedCorrActive | true |
GradientBasedCorrAmount | 1.000000 |
GradientBasedCorrBrightness | 0.000000 |
GradientBasedCorrClarity2012 (1) | 0.073530 |
GradientBasedCorrClarity2012 | 0.000000 |
GradientBasedCorrContrast2012 | 0.000000 |
GradientBasedCorrDefringe | 0.000000 |
GradientBasedCorrExposure2012 (1) | -0.044000 |
GradientBasedCorrExposure2012 | -0.103000 |
GradientBasedCorrHighlights2012 (1) | -1.000000 |
GradientBasedCorrHighlights2012 | -0.514710 |
GradientBasedCorrHue (1) | 19.000000 |
GradientBasedCorrHue | 233.000000 |
GradientBasedCorrLocalBlacks2012 (1) | 0.000000 |
GradientBasedCorrLocalBlacks2012 | -0.073530 |
GradientBasedCorrLocalDehaze (1) | 0.000000 |
GradientBasedCorrLocalDehaze | 0.073530 |
GradientBasedCorrLocalWhites2012 | 0.000000 |
GradientBasedCorrLuminanceNoise (1) | 0.279410 |
GradientBasedCorrLuminanceNoise | 0.000000 |
GradientBasedCorrMaskCenterWeight | 0.000000 |
GradientBasedCorrMaskFlow (3) | 0.641000 |
GradientBasedCorrMaskFlow | 1.000000 |
GradientBasedCorrMaskFullX (1) | 0.451267 |
GradientBasedCorrMaskFullX | 0.492940 |
GradientBasedCorrMaskFullY (1) | 0.392873 |
GradientBasedCorrMaskFullY | 0.853250 |
GradientBasedCorrMaskRadius (1) | 0.061146 |
GradientBasedCorrMaskRadius (2) | 0.061090 |
GradientBasedCorrMaskRadius (3) | 0.039752 |
GradientBasedCorrMaskRadius (4) | 0.039625 |
GradientBasedCorrMaskRadius (5) | 0.033347 |
GradientBasedCorrMaskRadius (6) | 0.048425 |
GradientBasedCorrMaskRadius | 0.048203 |
GradientBasedCorrMaskValue (1) | 1.000000 |
GradientBasedCorrMaskValue | 0.000000 |
GradientBasedCorrMaskWhat (6) | Mask/Gradient |
GradientBasedCorrMaskWhat | Mask/Paint |
GradientBasedCorrMaskZeroX (1) | 0.450940 |
GradientBasedCorrMaskZeroX | 0.521005 |
GradientBasedCorrMaskZeroY (1) | 0.447705 |
GradientBasedCorrMaskZeroY | 0.509201 |
GradientBasedCorrMoire | 0.000000 |
GradientBasedCorrSaturation (3) | 0.308820 |
GradientBasedCorrSaturation | 0.000000 |
GradientBasedCorrShadows2012 | 0.000000 |
GradientBasedCorrSharpness | 0.000000 |
GradientBasedCorrTemperature (1) | 0.088240 |
GradientBasedCorrTemperature | 0.000000 |
GradientBasedCorrTint (1) | 0.132350 |
GradientBasedCorrTint | 0.220590 |
GradientBasedCorrWhat | Correction |
GrainAmount | 0 |
GreenHue | 0 |
GreenSaturation | 0 |
HasCrop | True |
HasExtendedXMP | 5E65C2176139D5DE4CFDB1958B7D3B15 |
HasSettings | True |
Highlights2012 | -100 |
HighlightsSmoothing | 76.0 |
HueAdjustmentAqua | 0 |
HueAdjustmentBlue | 0 |
HueAdjustmentGreen | 0 |
HueAdjustmentMagenta | 0 |
HueAdjustmentOrange | 0 |
HueAdjustmentPurple | 0 |
HueAdjustmentRed | 0 |
HueAdjustmentYellow | 0 |
HyperfocalDistance | 1.50 m |
ImageHeight | 2563 |
ImageNumber | 0 |
ImageSize | 4113x2563 |
ImageWidth | 4113 |
IncrementalTemperature | +6 |
IncrementalTint | +21 |
ISO | 100 |
IsPano360 | No |
Label | Green |
LateralChromaticAberrationCorrectionAlreadyApplied | True |
Lens | EF17-40mm f/4L USM |
LensID (1) | 231 |
LensID | Canon EF 17-40mm f/4L USM |
LensInfo | 17-40mm f/? |
LensManualDistortionAmount | 0 |
LensModel | EF17-40mm f/4L USM |
LensProfileChromaticAberrationScale | 100 |
LensProfileDistortionScale | 100 |
LensProfileEnable | 1 |
LensProfileFilename | Canon EOS-1Ds Mark III (Canon EF 17-40mm f4 L USM).lcp |
LensProfileName | Adobe (Canon EF 17-40mm f/4 L USM) |
LensProfileSetup | LensDefaults |
LensProfileVignettingScale | 100 |
LensSerialNumber | 0000000000 |
LightValue | 8.2 |
LuminanceAdjustmentAqua | 0 |
LuminanceAdjustmentBlue | -10 |
LuminanceAdjustmentGreen | 0 |
LuminanceAdjustmentMagenta | 0 |
LuminanceAdjustmentOrange | 0 |
LuminanceAdjustmentPurple | 0 |
LuminanceAdjustmentRed | 0 |
LuminanceAdjustmentYellow | 0 |
LuminanceNoiseReductionContrast | 0 |
LuminanceNoiseReductionDetail | 50 |
LuminanceSmoothing | 10 |
Make | Canon |
MaxApertureValue | 4.0 |
Megapixels | 10.5 |
MeteringMode | Multi-segment |
Method | Details Enhancer |
Microsmoothing | 10.7 |
Model | Canon EOS 6D |
ModifyDate (1) | 2017:09:17 19:26:06+02:00 |
ModifyDate | 2017:09:17 19:26:06 |
PaintCorrectionActive | true |
PaintCorrectionAmount | 1.000000 |
PaintCorrectionBrightness | 0.000000 |
PaintCorrectionClarity2012 (1) | 0.000000 |
PaintCorrectionClarity2012 | 0.088240 |
PaintCorrectionContrast2012 (1) | 0.000000 |
PaintCorrectionContrast2012 | 0.102940 |
PaintCorrectionDefringe | 0.000000 |
PaintCorrectionExposure2012 (1) | 0.058750 |
PaintCorrectionExposure2012 | 0.000000 |
PaintCorrectionHighlights2012 (1) | 0.161760 |
PaintCorrectionHighlights2012 | 0.000000 |
PaintCorrectionHue | 233.000000 |
PaintCorrectionLocalBlacks2012 | 0.000000 |
PaintCorrectionLocalDehaze | 0.000000 |
PaintCorrectionLocalWhites2012 | 0.000000 |
PaintCorrectionLuminanceNoise | 0.000000 |
PaintCorrectionMaskCenterWeight | 0.000000 |
PaintCorrectionMaskFlow (9) | 0.641000 |
PaintCorrectionMaskFlow | 1.000000 |
PaintCorrectionMaskRadius (1) | 0.029451 |
PaintCorrectionMaskRadius (10) | 0.014926 |
PaintCorrectionMaskRadius (11) | 0.014899 |
PaintCorrectionMaskRadius (12) | 0.014893 |
PaintCorrectionMaskRadius (14) | 0.010233 |
PaintCorrectionMaskRadius (15) | 0.010232 |
PaintCorrectionMaskRadius (16) | 0.010210 |
PaintCorrectionMaskRadius (17) | 0.010201 |
PaintCorrectionMaskRadius (2) | 0.024498 |
PaintCorrectionMaskRadius (3) | 0.024516 |
PaintCorrectionMaskRadius (4) | 0.014895 |
PaintCorrectionMaskRadius (6) | 0.010184 |
PaintCorrectionMaskRadius (7) | 0.010203 |
PaintCorrectionMaskRadius (8) | 0.010234 |
PaintCorrectionMaskRadius (9) | 0.014946 |
PaintCorrectionMaskRadius | 0.010226 |
PaintCorrectionMaskValue (11) | 0.000000 |
PaintCorrectionMaskValue | 1.000000 |
PaintCorrectionMaskWhat | Mask/Paint |
PaintCorrectionMoire | 0.000000 |
PaintCorrectionSaturation (1) | -0.014710 |
PaintCorrectionSaturation | 0.000000 |
PaintCorrectionShadows2012 (1) | 0.000000 |
PaintCorrectionShadows2012 | 0.176470 |
PaintCorrectionSharpness (1) | 0.000000 |
PaintCorrectionSharpness | 0.088240 |
PaintCorrectionTemperature | 0.000000 |
PaintCorrectionTint | 0.000000 |
PaintCorrectionWhat | Correction |
ParametricDarks | 0 |
ParametricHighlights | 0 |
ParametricHighlightSplit | 75 |
ParametricLights | 0 |
ParametricMidtoneSplit | 50 |
ParametricShadows | 0 |
ParametricShadowSplit | 25 |
PerspectiveAspect | 0 |
PerspectiveHorizontal | 0 |
PerspectiveRotate | 0.0 |
PerspectiveScale | 100 |
PerspectiveUpright | 1 |
PerspectiveVertical | 0 |
PerspectiveX | 0.00 |
PerspectiveY | 0.00 |
PostCropVignetteAmount | -6 |
PostCropVignetteFeather | 50 |
PostCropVignetteHighlightContrast | 0 |
PostCropVignetteMidpoint | 50 |
PostCropVignetteRoundness | 0 |
PostCropVignetteStyle | 1 |
ProcessVersion | 6.7 |
ProfileDescription | sRGB IEC61966-2.1 |
RecommendedExposureIndex | 100 |
RedHue | 0 |
RedSaturation | 0 |
Rights | Mikkel Nordbaek |
Saturation (1) | +4 |
Saturation | 3.3 |
SaturationAdjustmentAqua | 0 |
SaturationAdjustmentBlue | +15 |
SaturationAdjustmentGreen | +10 |
SaturationAdjustmentMagenta | +20 |
SaturationAdjustmentOrange | 0 |
SaturationAdjustmentPurple | +27 |
SaturationAdjustmentRed | 0 |
SaturationAdjustmentYellow | 0 |
SaturationHighlights | 5.8 |
SaturationIndividualColors | 0.0,0.0,0.0,0.0,0.0,0.0,0.0,0.0 |
SaturationShadows | 5.8 |
ScaleFactor35efl | 1.4 |
SceneCaptureType | Standard |
SensitivityType | Recommended Exposure Index |
SerialNumber | 023052000141 |
Shadows2012 | +25 |
ShadowsClipping | 6.0 |
ShadowsSmoothing | 47.0 |
ShadowTint | 0 |
SharpenDetail | 25 |
SharpenEdgeMasking | 49 |
SharpenRadius | +1.0 |
Sharpness | 61 |
ShutterSpeed | 1.6 |
ShutterSpeedValue | 1.6 |
Smoothing | -3.0 |
SmoothingMode | Slider |
Software | Adobe Photoshop Lightroom 6.12 (Windows) |
SplitToningBalance | 0 |
SplitToningHighlightHue | 295 |
SplitToningHighlightSaturation | 7 |
SplitToningShadowHue | 241 |
SplitToningShadowSaturation | 5 |
Strength | 76.0 |
TemperatureIndividualColors | 0.0,0.0,0.0,0.0,0.0,0.0,0.0,0.0 |
ToneCompression | 5.3 |
ToneCurve | 0, 0, 255, 255 |
ToneCurveBlue | 0, 0, 255, 255 |
ToneCurveGreen | 0, 0, 255, 255 |
ToneCurveName | Linear |
ToneCurveName2012 | Custom |
ToneCurvePV2012 | 0, 0, 53, 57, 151, 156, 255, 255 |
ToneCurvePV2012Blue | 0, 0, 255, 255 |
ToneCurvePV2012Green | 0, 0, 255, 255 |
ToneCurvePV2012Red | 0, 0, 255, 255 |
ToneCurveRed | 0, 0, 255, 255 |
ToneMapStrength | 0 |
Version (1) | 6.0 |
Version | 9.12 |
Vibrance | +29 |
VignetteAmount | 0 |
VignetteCorrectionAlreadyApplied | True |
WhiteBalance (1) | Custom |
WhiteBalance | Auto |
WhiteClip | 0.161259 |
Whites2012 | +35 |