Felt | Verdi |
AlreadyApplied | True |
Aperture | 6.3 |
ApertureValue | 6.3 |
Artist | 373051003880 |
AutoLateralCA | 0 |
AutoWhiteVersion | 134348800 |
BitsPerSample | 8 |
Blacks2012 | -22 |
BlueHue | 0 |
BlueSaturation | 0 |
By-line | 373051003880 |
CameraProfile | Embedded |
CircleOfConfusion | 0.024 mm |
Clarity2012 | +47 |
ColorComponents | 3 |
ColorNoiseReduction | 14 |
ColorNoiseReductionDetail | 50 |
ColorNoiseReductionSmoothness | 50 |
ColorSpace | sRGB |
ColorTransform | YCbCr |
Contrast2012 | -26 |
ConvertToGrayscale | False |
CreateDate | 2016:12:26 11:02:13 |
Creator | 373051003880 |
CreatorTool | Adobe Photoshop Lightroom 5.7.1 (Macintosh) |
CropAngle | 0.000037 |
CropBottom | 0.936488 |
CropConstrainToWarp | 0 |
CropLeft | 0.184979 |
CropRight | 0.911139 |
CropTop | 0.065607 |
CustomRendered | Normal |
DateCreated (1) | 2016:12:26 |
DateCreated | 2016:12:26 11:02:13 |
DateTimeOriginal | 2016:12:26 11:02:13 |
DefringeGreenAmount | 0 |
DefringeGreenHueHi | 60 |
DefringeGreenHueLo | 40 |
DefringePurpleAmount | 0 |
DefringePurpleHueHi | 70 |
DefringePurpleHueLo | 30 |
Exposure2012 | -0.10 |
ExposureCompensation | 0 |
ExposureMode | Manual |
ExposureProgram | Manual |
ExposureTime | 1/60 |
Firmware | Firmware Version 1.1.6 |
Flash | Off, Did not fire |
FlashCompensation | 0 |
FNumber | 6.3 |
FocalLength | 70.0 mm |
FocalLength35efl | 70.0 mm (35 mm equivalent: 89.4 mm) |
Format | image/jpeg |
FOV | 22.8 deg |
GrainAmount | 0 |
GreenHue | 0 |
GreenSaturation | 0 |
HasCrop | True |
HasSettings | True |
Highlights2012 | -59 |
HueAdjustmentAqua | 0 |
HueAdjustmentBlue | -39 |
HueAdjustmentGreen | 0 |
HueAdjustmentMagenta | +12 |
HueAdjustmentOrange | 0 |
HueAdjustmentPurple | +64 |
HueAdjustmentRed | -20 |
HueAdjustmentYellow | 0 |
HyperfocalDistance | 33.04 m |
ImageHeight | 3177 |
ImageSize | 3974x3177 |
ImageWidth | 3974 |
IncrementalTemperature | 0 |
IncrementalTint | 0 |
ISO | 400 |
Lens | Canon EF 24-70mm f/2.8L II USM |
LensID (1) | 495 |
LensID | Canon EF 24-70mm f/2.8L II USM |
LensInfo | 24-70mm f/? |
LensManualDistortionAmount | 0 |
LensModel | Canon EF 24-70mm f/2.8L II USM |
LensProfileEnable | 0 |
LensProfileSetup | LensDefaults |
LensSerialNumber | 3630000901 |
LightValue | 9.2 |
LuminanceAdjustmentAqua | 0 |
LuminanceAdjustmentBlue | +69 |
LuminanceAdjustmentGreen | 0 |
LuminanceAdjustmentMagenta | +43 |
LuminanceAdjustmentOrange | 0 |
LuminanceAdjustmentPurple | +88 |
LuminanceAdjustmentRed | 0 |
LuminanceAdjustmentYellow | 0 |
LuminanceNoiseReductionContrast | 15 |
LuminanceNoiseReductionDetail | 50 |
LuminanceSmoothing | 15 |
Make | Canon |
MaxApertureValue | 2.7 |
Megapixels | 12.6 |
MeteringMode | Spot |
Model | Canon EOS 6D |
ModifyDate (1) | 2016:12:26 20:24:32+01:00 |
ModifyDate | 2016:12:26 20:24:32 |
OwnerName | 373051003880 |
ParametricDarks | +38 |
ParametricHighlights | +57 |
ParametricHighlightSplit | 75 |
ParametricLights | +29 |
ParametricMidtoneSplit | 50 |
ParametricShadows | +10 |
ParametricShadowSplit | 25 |
PerspectiveAspect | 0 |
PerspectiveHorizontal | 0 |
PerspectiveRotate | 0.0 |
PerspectiveScale | 100 |
PerspectiveUpright | 0 |
PerspectiveVertical | 0 |
PostCropVignetteAmount | 0 |
ProcessVersion | 6.7 |
ProfileDescription | sRGB IEC61966-2.1 |
RedHue | 0 |
RedSaturation | 0 |
Saturation | +3 |
SaturationAdjustmentAqua | 0 |
SaturationAdjustmentBlue | +53 |
SaturationAdjustmentGreen | 0 |
SaturationAdjustmentMagenta | +3 |
SaturationAdjustmentOrange | 0 |
SaturationAdjustmentPurple | -40 |
SaturationAdjustmentRed | 0 |
SaturationAdjustmentYellow | 0 |
ScaleFactor35efl | 1.3 |
SceneCaptureType | Standard |
SerialNumber | 373051003880 |
Shadows2012 | +59 |
ShadowTint | 0 |
SharpenDetail | 67 |
SharpenEdgeMasking | 0 |
SharpenRadius | +1.0 |
Sharpness | 100 |
ShutterSpeed | 1/60 |
ShutterSpeedValue | 1/60 |
Software | Adobe Photoshop Lightroom 5.7.1 (Macintosh) |
SplitToningBalance | 0 |
SplitToningHighlightHue | 215 |
SplitToningHighlightSaturation | 0 |
SplitToningShadowHue | 0 |
SplitToningShadowSaturation | 0 |
ToneCurve | 0, 0, 255, 255 |
ToneCurveBlue | 0, 0, 255, 255 |
ToneCurveGreen | 0, 0, 255, 255 |
ToneCurveName | Linear |
ToneCurveName2012 | Linear |
ToneCurvePV2012 | 0, 0, 255, 255 |
ToneCurvePV2012Blue | 0, 0, 255, 255 |
ToneCurvePV2012Green | 0, 0, 255, 255 |
ToneCurvePV2012Red | 0, 0, 255, 255 |
ToneCurveRed | 0, 0, 255, 255 |
Version | 8.7.1 |
Vibrance | +3 |
VignetteAmount | 0 |
WhiteBalance (1) | As Shot |
WhiteBalance | Manual |
Whites2012 | -40 |