Felt | Verdi |
AlreadyApplied | True |
Aperture | 4.5 |
ApertureValue | 4.5 |
ApproximateFocusDistance | 0.39 |
AutoLateralCA | 1 |
BitsPerSample | 8 |
Blacks2012 | -17 |
BlueHue | 0 |
BlueSaturation | 0 |
CameraProfile | Adobe Standard |
CircleOfConfusion | 0.019 mm |
Clarity2012 | 0 |
ColorComponents | 3 |
ColorMode | RGB |
ColorNoiseReduction | 25 |
ColorNoiseReductionDetail | 50 |
ColorSpace | Uncalibrated |
ColorTemperature | 4100 |
ColorTransform | YCbCr |
Contrast2012 | +36 |
ConvertToGrayscale | False |
CreateDate | 2016:05:24 21:10:16 |
CropAngle | 0 |
CropBottom | 0.930403 |
CropConstrainToWarp | 1 |
CropLeft | 0.023199 |
CropRight | 0.80464 |
CropTop | 0.210623 |
CustomRendered | Normal |
DateCreated (1) | 2016:05:24 |
DateCreated | 2016:05:24 21:10:16.028 |
DateTimeOriginal | 2016:05:24 21:10:16 |
DefringeGreenAmount | 0 |
DefringeGreenHueHi | 60 |
DefringeGreenHueLo | 40 |
DefringePurpleAmount | 0 |
DefringePurpleHueHi | 70 |
DefringePurpleHueLo | 30 |
DOF | 0.002 m (0.389 - 0.391 m) |
ExifImageHeight | 2208 |
ExifImageWidth | 3614 |
Exposure2012 | +0.80 |
ExposureCompensation | 0 |
ExposureMode | Manual |
ExposureProgram | Manual |
ExposureTime | 1/40 |
Firmware | 1.1.0 |
Flash | Off, Did not fire |
FlashCompensation | 0 |
FNumber | 4.5 |
FocalLength | 100.0 mm |
FocalLength35efl | 100.0 mm (35 mm equivalent: 158.8 mm) |
Format | image/jpeg |
FOV | 12.9 deg |
GrainAmount | 0 |
GreenHue | 0 |
GreenSaturation | 0 |
HasCrop | True |
HasSettings | True |
Highlights2012 | +6 |
HueAdjustmentAqua | -4 |
HueAdjustmentBlue | +25 |
HueAdjustmentGreen | 0 |
HueAdjustmentMagenta | -3 |
HueAdjustmentOrange | 0 |
HueAdjustmentPurple | +27 |
HueAdjustmentRed | 0 |
HueAdjustmentYellow | 0 |
HyperfocalDistance | 117.44 m |
ICCProfileName | Adobe RGB (1998) |
ImageHeight | 2208 |
ImageNumber | 0 |
ImageSize | 3614x2208 |
ImageWidth | 3614 |
ISO | 200 |
Lens | EF100mm f/2.8L Macro IS USM |
LensID (1) | 254 |
LensID | Canon EF 100mm f/2.8L Macro IS USM |
LensInfo | 100mm f/? |
LensManualDistortionAmount | 0 |
LensModel | EF100mm f/2.8L Macro IS USM |
LensProfileEnable | 0 |
LensProfileSetup | LensDefaults |
LightValue | 8.7 |
LuminanceAdjustmentAqua | 0 |
LuminanceAdjustmentBlue | -7 |
LuminanceAdjustmentGreen | 0 |
LuminanceAdjustmentMagenta | +7 |
LuminanceAdjustmentOrange | 0 |
LuminanceAdjustmentPurple | +7 |
LuminanceAdjustmentRed | 0 |
LuminanceAdjustmentYellow | 0 |
LuminanceSmoothing | 0 |
Make | Canon |
MaxApertureValue | 2.8 |
Megapixels | 8.0 |
MeteringMode | Multi-segment |
Model | Canon EOS 500D |
ModifyDate (1) | 2016:06:19 04:16:29+02:00 |
ModifyDate | 2016:06:19 04:16:29 |
Orientation | Horizontal (normal) |
ParametricDarks | 0 |
ParametricHighlights | 0 |
ParametricHighlightSplit | 75 |
ParametricLights | 0 |
ParametricMidtoneSplit | 50 |
ParametricShadows | 0 |
ParametricShadowSplit | 25 |
PerspectiveAspect | 0 |
PerspectiveHorizontal | 0 |
PerspectiveRotate | 0.0 |
PerspectiveScale | 100 |
PerspectiveUpright | 0 |
PerspectiveVertical | 0 |
PostCropVignetteAmount | 0 |
ProcessVersion | 6.7 |
ProfileDescription | Adobe RGB (1998) |
Rating | 0 |
RawFileName | _MG_8871.CR2 |
RedHue | 0 |
RedSaturation | 0 |
Saturation | +12 |
SaturationAdjustmentAqua | -1 |
SaturationAdjustmentBlue | -24 |
SaturationAdjustmentGreen | 0 |
SaturationAdjustmentMagenta | +12 |
SaturationAdjustmentOrange | 0 |
SaturationAdjustmentPurple | -8 |
SaturationAdjustmentRed | -7 |
SaturationAdjustmentYellow | 0 |
ScaleFactor35efl | 1.6 |
SceneCaptureType | Standard |
SerialNumber | 1850747041 |
Shadows2012 | +27 |
ShadowTint | 0 |
SharpenDetail | 25 |
SharpenEdgeMasking | 0 |
SharpenRadius | +1.0 |
Sharpness | 25 |
ShutterSpeed | 1/40 |
ShutterSpeedValue | 1/40 |
Software | Adobe Photoshop CC 2015 (Windows) |
SplitToningBalance | 0 |
SplitToningHighlightHue | 0 |
SplitToningHighlightSaturation | 0 |
SplitToningShadowHue | 0 |
SplitToningShadowSaturation | 0 |
Tint | +29 |
ToneCurveName2012 | Custom |
ToneCurvePV2012 | 0, 30, 65, 66, 193, 192, 255, 248 |
ToneCurvePV2012Blue | 0, 0, 255, 255 |
ToneCurvePV2012Green | 0, 0, 255, 255 |
ToneCurvePV2012Red | 0, 0, 255, 255 |
URL_List | |
Version | 8.0 |
Vibrance | +9 |
VignetteAmount | 0 |
WhiteBalance (1) | Custom |
WhiteBalance | Manual |
Whites2012 | +85 |