Felt | Verdi |
AlreadyApplied | True |
Aperture | 8.0 |
ApertureValue | 8.0 |
ApproximateFocusDistance | 56.1 |
Artist | fotograf : Svein Hansen - Svein Foto |
AutoLateralCA | 0 |
AutoWhiteVersion | 134348800 |
BitsPerSample | 8 |
Blacks2012 | +3 |
BlueHue | 0 |
BlueSaturation | 0 |
By-line | fotograf : Svein Hansen |
CameraProfile | Adobe Standard |
CircleOfConfusion | 0.015 mm |
Clarity2012 | 0 |
ColorComponents | 3 |
ColorNoiseReduction | 25 |
ColorNoiseReductionDetail | 50 |
ColorNoiseReductionSmoothness | 50 |
ColorSpace | sRGB |
ColorTemperature | 4800 |
ColorTransform | YCbCr |
Contrast2012 | 0 |
ConvertToGrayscale | False |
Copyright | Copyright.Svein Hansen - Svingen 5 - 1671 Fredrikstad. |
CopyrightFlag | True |
CopyrightNotice | Copyright.Svein Hansen - Svingen 5 - 1671 Fredrikstad. |
CreateDate (1) | 2016:05:12 19:23:02.64 |
CreateDate | 2016:05:12 19:23:02 |
Creator | fotograf : Svein Hansen - Svein Foto |
CreatorAddress | Svingen 5 - Fredrikstad |
CreatorCity | Kråkerøy |
CreatorCountry | Norway |
CreatorPostalCode | 1671 |
CreatorRegion | Østfold |
CreatorTool | Adobe Photoshop Lightroom 6.5.1 (Windows) |
CreatorWorkEmail | post@sveinfoto.no - sveinh@stabildata.no |
CreatorWorkTelephone | 90764526 |
CreatorWorkURL | www.sveinfoto.no |
CropAngle | 0 |
CropBottom | 0.760869 |
CropConstrainToWarp | 0 |
CropLeft | 0.183575 |
CropRight | 0.665056 |
CropTop | 0.236715 |
CustomRendered | Normal |
DateCreated (1) | 2016:05:12 |
DateCreated | 2016:05:12 19:23:02.64 |
DateTimeOriginal | 2016:05:12 19:23:02 |
DefringeGreenAmount | 0 |
DefringeGreenHueHi | 60 |
DefringeGreenHueLo | 40 |
DefringePurpleAmount | 0 |
DefringePurpleHueHi | 70 |
DefringePurpleHueLo | 30 |
Dehaze | 0 |
DOF | 2.37 m (54.94 - 57.31 m) |
Exposure2012 | 0.00 |
ExposureCompensation | 0 |
ExposureMode | Manual |
ExposureProgram | Manual |
ExposureTime | 1/1000 |
Firmware | 1.3.3 |
Flash | Off, Did not fire |
FlashCompensation | 0 |
FNumber | 8.0 |
FocalLength | 560.0 mm |
FocalLength35efl | 560.0 mm (35 mm equivalent: 1131.3 mm) |
Format | image/jpeg |
FOV | 1.8 deg |
GrainAmount | 0 |
GreenHue | 0 |
GreenSaturation | 0 |
HasCrop | True |
HasSettings | True |
Highlights2012 | -100 |
HueAdjustmentAqua | 0 |
HueAdjustmentBlue | 0 |
HueAdjustmentGreen | 0 |
HueAdjustmentMagenta | 0 |
HueAdjustmentOrange | 0 |
HueAdjustmentPurple | 0 |
HueAdjustmentRed | 0 |
HueAdjustmentYellow | 0 |
HyperfocalDistance | 2635.74 m |
ImageHeight | 2013 |
ImageNumber | 0 |
ImageSize | 2773x2013 |
ImageWidth | 2773 |
ISO | 1250 |
Keywords | Fasan, Hvaler, Rådyr, Viker |
Label | Fugl - Dyr |
Lens | EF100-400mm f/4.5-5.6L IS II USM +1.4x III |
LensID (1) | 748 |
LensID | Tamron 100-400mm f/4.5-6.3 Di VC USD A035E + 1.4x |
LensInfo | 140-560mm f/? |
LensManualDistortionAmount | 0 |
LensModel | EF100-400mm f/4.5-5.6L IS II USM +1.4x III |
LensProfileEnable | 0 |
LensProfileSetup | LensDefaults |
LensSerialNumber | 3610006685 |
LightValue | 12.3 |
LuminanceAdjustmentAqua | 0 |
LuminanceAdjustmentBlue | 0 |
LuminanceAdjustmentGreen | 0 |
LuminanceAdjustmentMagenta | 0 |
LuminanceAdjustmentOrange | 0 |
LuminanceAdjustmentPurple | 0 |
LuminanceAdjustmentRed | 0 |
LuminanceAdjustmentYellow | 0 |
LuminanceNoiseReductionContrast | 0 |
LuminanceNoiseReductionDetail | 50 |
LuminanceSmoothing | 61 |
Make | Canon |
Marked | True |
MaxApertureValue | 8.0 |
Megapixels | 5.6 |
MeteringMode | Multi-segment |
Model | Canon EOS 5D Mark III |
ModifyDate (1) | 2016:05:12 22:03:21+02:00 |
ModifyDate | 2016:05:12 22:03:21 |
PaintCorrectionActive | true |
PaintCorrectionAmount | 1.000000 |
PaintCorrectionBrightness | 0.000000 |
PaintCorrectionClarity2012 | 0.037040 |
PaintCorrectionContrast2012 | 0.000000 |
PaintCorrectionDefringe | 0.000000 |
PaintCorrectionExposure2012 | -0.018500 |
PaintCorrectionHighlights2012 | 0.000000 |
PaintCorrectionHue | 0.000000 |
PaintCorrectionLocalBlacks2012 | 0.000000 |
PaintCorrectionLocalDehaze | 0.000000 |
PaintCorrectionLocalWhites2012 | 0.000000 |
PaintCorrectionLuminanceNoise | 0.370370 |
PaintCorrectionMaskCenterWeight | 0.000000 |
PaintCorrectionMaskFlow | 1.000000 |
PaintCorrectionMaskRadius | 0.092777 |
PaintCorrectionMaskValue | 1.000000 |
PaintCorrectionMaskWhat | Mask/Paint |
PaintCorrectionMoire | 0.000000 |
PaintCorrectionSaturation | 0.000000 |
PaintCorrectionShadows2012 | 0.000000 |
PaintCorrectionSharpness | 1.000000 |
PaintCorrectionTemperature | 0.000000 |
PaintCorrectionTint | 0.000000 |
PaintCorrectionWhat | Correction |
ParametricDarks | +39 |
ParametricHighlights | -65 |
ParametricHighlightSplit | 75 |
ParametricLights | +43 |
ParametricMidtoneSplit | 50 |
ParametricShadows | -10 |
ParametricShadowSplit | 25 |
PerspectiveAspect | 0 |
PerspectiveHorizontal | 0 |
PerspectiveRotate | 0.0 |
PerspectiveScale | 100 |
PerspectiveUpright | 0 |
PerspectiveVertical | 0 |
PostCropVignetteAmount | 0 |
ProcessVersion | 6.7 |
ProfileDescription | sRGB IEC61966-2.1 |
Rating | 4 |
RecommendedExposureIndex | 1250 |
RedHue | 0 |
RedSaturation | 0 |
Rights | Copyright.Svein Hansen - Svingen 5 - 1671 Fredrikstad. |
Saturation | 0 |
SaturationAdjustmentAqua | 0 |
SaturationAdjustmentBlue | 0 |
SaturationAdjustmentGreen | 0 |
SaturationAdjustmentMagenta | 0 |
SaturationAdjustmentOrange | 0 |
SaturationAdjustmentPurple | 0 |
SaturationAdjustmentRed | 0 |
SaturationAdjustmentYellow | 0 |
ScaleFactor35efl | 2.0 |
SceneCaptureType | Standard |
SensitivityType | Recommended Exposure Index |
SerialNumber | 093024002999 |
Shadows2012 | +63 |
ShadowTint | 0 |
SharpenDetail | 25 |
SharpenEdgeMasking | 0 |
SharpenRadius | +1.0 |
Sharpness | 25 |
ShutterSpeed | 1/1000 |
ShutterSpeedValue | 1/1000 |
Software | Adobe Photoshop Lightroom 6.5.1 (Windows) |
SplitToningBalance | 0 |
SplitToningHighlightHue | 0 |
SplitToningHighlightSaturation | 0 |
SplitToningShadowHue | 0 |
SplitToningShadowSaturation | 0 |
Subject | Fasan, Hvaler, Rådyr, Viker |
Tint | +7 |
ToneCurve | 0, 0, 255, 255 |
ToneCurveBlue | 0, 0, 255, 255 |
ToneCurveGreen | 0, 0, 255, 255 |
ToneCurveName | Linear |
ToneCurveName2012 | Linear |
ToneCurvePV2012 | 0, 0, 255, 255 |
ToneCurvePV2012Blue | 0, 0, 255, 255 |
ToneCurvePV2012Green | 0, 0, 255, 255 |
ToneCurvePV2012Red | 0, 0, 255, 255 |
ToneCurveRed | 0, 0, 255, 255 |
ToneMapStrength | 0 |
URL | http://www.sveinfoto.no |
UsageTerms | Det er helt forbudt med noen form for kopi, uten fotografen samtykke. Hvis dette blir oppdaget så er det er det opphavsretten som teller og domstolen er neste skritt. |
Version | 9.5.1 |
Vibrance | 0 |
VignetteAmount | 0 |
WebStatement | http://www.sveinfoto.no |
WhiteBalance (1) | As Shot |
WhiteBalance | Auto |
Whites2012 | +40 |