Felt | Verdi |
AlreadyApplied | True |
Aperture | 22.0 |
ApertureValue | 22.0 |
ApproximateFocusDistance | 0.67 |
AutoLateralCA | 1 |
AutoWhiteVersion | 134348800 |
BitsPerSample | 8 |
Blacks2012 | -45 |
BlueHue | 0 |
BlueSaturation | 0 |
CameraProfile | Camera Standard |
CircGradBasedCorrActive | true |
CircGradBasedCorrAmount | 1.000000 |
CircGradBasedCorrBrightness | 0.000000 |
CircGradBasedCorrClarity | 0.000000 |
CircGradBasedCorrClarity2012 (1) | 0.404760 |
CircGradBasedCorrClarity2012 | -1.000000 |
CircGradBasedCorrContrast | 0.000000 |
CircGradBasedCorrContrast2012 (1) | 0.238100 |
CircGradBasedCorrContrast2012 | -1.000000 |
CircGradBasedCorrDefringe | 0.000000 |
CircGradBasedCorrExposure | 0.000000 |
CircGradBasedCorrExposure2012 (1) | 0.000000 |
CircGradBasedCorrExposure2012 | 0.381000 |
CircGradBasedCorrHighlights2012 (1) | 0.000000 |
CircGradBasedCorrHighlights2012 | 0.071430 |
CircGradBasedCorrHue | 0.000000 |
CircGradBasedCorrLuminanceNoise (1) | 0.000000 |
CircGradBasedCorrLuminanceNoise | 1.000000 |
CircGradBasedCorrMaskAngle (1) | 0.000000 |
CircGradBasedCorrMaskAngle | -9.521720 |
CircGradBasedCorrMaskBottom (1) | 0.756132 |
CircGradBasedCorrMaskBottom | 0.993037 |
CircGradBasedCorrMaskFeather | +50 |
CircGradBasedCorrMaskFlipped | true |
CircGradBasedCorrMaskLeft (1) | 0.182292 |
CircGradBasedCorrMaskLeft | 0.466668 |
CircGradBasedCorrMaskMidpoint | +50 |
CircGradBasedCorrMaskRight (1) | 0.787495 |
CircGradBasedCorrMaskRight | 0.530862 |
CircGradBasedCorrMaskRoundness | 0 |
CircGradBasedCorrMaskTop (1) | 0.123647 |
CircGradBasedCorrMaskTop | 0.721566 |
CircGradBasedCorrMaskValue | 1.000000 |
CircGradBasedCorrMaskVersion | +2 |
CircGradBasedCorrMaskWhat | Mask/CircularGradient |
CircGradBasedCorrMoire | 0.000000 |
CircGradBasedCorrSaturation | 0.000000 |
CircGradBasedCorrShadows2012 (1) | 0.000000 |
CircGradBasedCorrShadows2012 | 0.690480 |
CircGradBasedCorrSharpness (1) | 0.238100 |
CircGradBasedCorrSharpness | -0.380950 |
CircGradBasedCorrTemperature | 0.000000 |
CircGradBasedCorrTint | 0.000000 |
CircGradBasedCorrWhat | Correction |
CircleOfConfusion | 0.019 mm |
Clarity2012 | +2 |
ColorComponents | 3 |
ColorMode | RGB |
ColorNoiseReduction | 25 |
ColorNoiseReductionDetail | 50 |
ColorNoiseReductionSmoothness | 50 |
ColorSpace | Uncalibrated |
ColorTemperature | 6500 |
ColorTransform | YCbCr |
Contrast2012 | +62 |
ConvertToGrayscale | False |
CreateDate | 2015:03:07 15:10:05 |
CropAngle | 0 |
CropBottom | 1 |
CropConstrainToWarp | 0 |
CropLeft | 0.166667 |
CropRight | 0.833333 |
CropTop | 0 |
CustomRendered | Normal |
DateCreated (1) | 2015:03:07 |
DateCreated | 2015:03:07 15:10:05.087 |
DateTimeOriginal | 2015:03:07 15:10:05 |
DefringeGreenAmount | 0 |
DefringeGreenHueHi | 60 |
DefringeGreenHueLo | 40 |
DefringePurpleAmount | 0 |
DefringePurpleHueHi | 70 |
DefringePurpleHueLo | 30 |
DOF | 0.03 m (0.66 - 0.68 m) |
ExifImageHeight | 3456 |
ExifImageWidth | 3456 |
Exposure2012 | +0.12 |
ExposureCompensation | 0 |
ExposureMode | Manual |
ExposureProgram | Manual |
ExposureTime | 1/200 |
Firmware | 1.0.9 |
Flash | On, Fired |
FlashCompensation | 0 |
FNumber | 22.0 |
FocalLength | 105.0 mm |
FocalLength35efl | 105.0 mm (35 mm equivalent: 165.1 mm) |
Format | image/jpeg |
FOV | 12.4 deg |
GrainAmount | 0 |
GreenHue | 0 |
GreenSaturation | 0 |
HasCrop | True |
HasSettings | True |
Highlights2012 | +7 |
HueAdjustmentAqua | 0 |
HueAdjustmentBlue | 0 |
HueAdjustmentGreen | 0 |
HueAdjustmentMagenta | 0 |
HueAdjustmentOrange | 0 |
HueAdjustmentPurple | 0 |
HueAdjustmentRed | 0 |
HueAdjustmentYellow | 0 |
HyperfocalDistance | 26.23 m |
ICCProfileName | Adobe RGB (1998) |
ImageHeight | 3456 |
ImageNumber | 0 |
ImageSize | 3456x3456 |
ImageWidth | 3456 |
ISO | 100 |
Label | |
Lens | EF24-105mm f/4L IS USM |
LensID (1) | 237 |
LensID | Canon EF 24-105mm f/4L IS USM |
LensInfo | 24-105mm f/? |
LensManualDistortionAmount | 0 |
LensModel | EF24-105mm f/4L IS USM |
LensProfileChromaticAberrationScale | 100 |
LensProfileDistortionScale | 100 |
LensProfileEnable | 1 |
LensProfileFilename | Canon EOS-1Ds Mark III (Canon EF 24-105mm f4 L IS USM) - RAW.lcp |
LensProfileName | Adobe (Canon EF 24-105mm f/4 L IS USM) |
LensProfileSetup | LensDefaults |
LensProfileVignettingScale | 100 |
LensSerialNumber | 000042f108 |
LightValue | 16.6 |
LuminanceAdjustmentAqua | 0 |
LuminanceAdjustmentBlue | 0 |
LuminanceAdjustmentGreen | 0 |
LuminanceAdjustmentMagenta | 0 |
LuminanceAdjustmentOrange | 0 |
LuminanceAdjustmentPurple | 0 |
LuminanceAdjustmentRed | 0 |
LuminanceAdjustmentYellow | 0 |
LuminanceNoiseReductionContrast | 0 |
LuminanceNoiseReductionDetail | 50 |
LuminanceSmoothing | 37 |
Make | Canon |
MaxApertureValue | 4.0 |
Megapixels | 11.9 |
MeteringMode | Multi-segment |
Model | Canon EOS 60D |
ModifyDate (1) | 2015:03:07 18:16:14+01:00 |
ModifyDate | 2015:03:07 18:16:14 |
Orientation | Horizontal (normal) |
ParametricDarks | -11 |
ParametricHighlights | +48 |
ParametricHighlightSplit | 75 |
ParametricLights | +5 |
ParametricMidtoneSplit | 50 |
ParametricShadows | -13 |
ParametricShadowSplit | 25 |
PerspectiveAspect | 0 |
PerspectiveHorizontal | 0 |
PerspectiveRotate | 0.0 |
PerspectiveScale | 100 |
PerspectiveUpright | 0 |
PerspectiveVertical | 0 |
PostCropVignetteAmount | 0 |
ProcessVersion | 6.7 |
ProfileDescription | Adobe RGB (1998) |
Rating | 0 |
RawFileName | _MG_5902.CR2 |
RecommendedExposureIndex | 100 |
RedHue | 0 |
RedSaturation | 0 |
Saturation | +14 |
SaturationAdjustmentAqua | 0 |
SaturationAdjustmentBlue | 0 |
SaturationAdjustmentGreen | 0 |
SaturationAdjustmentMagenta | 0 |
SaturationAdjustmentOrange | 0 |
SaturationAdjustmentPurple | 0 |
SaturationAdjustmentRed | 0 |
SaturationAdjustmentYellow | 0 |
ScaleFactor35efl | 1.6 |
SceneCaptureType | Standard |
SensitivityType | Recommended Exposure Index |
SerialNumber | 1280601059 |
Shadows2012 | -74 |
ShadowTint | 0 |
SharpenDetail | 56 |
SharpenEdgeMasking | 48 |
SharpenRadius | +1.0 |
Sharpness | 95 |
ShutterSpeed | 1/200 |
ShutterSpeedValue | 1/200 |
Software | Adobe Photoshop CC 2014 (Windows) |
SplitToningBalance | 0 |
SplitToningHighlightHue | 0 |
SplitToningHighlightSaturation | 0 |
SplitToningShadowHue | 0 |
SplitToningShadowSaturation | 0 |
Tint | +10 |
ToneCurve | 0, 0, 32, 22, 64, 56, 128, 128, 192, 196, 255, 255 |
ToneCurveBlue | 0, 0, 255, 255 |
ToneCurveGreen | 0, 0, 255, 255 |
ToneCurveName | Medium Contrast |
ToneCurveName2012 | Linear |
ToneCurvePV2012 | 0, 0, 255, 255 |
ToneCurvePV2012Blue | 0, 0, 255, 255 |
ToneCurvePV2012Green | 0, 0, 255, 255 |
ToneCurvePV2012Red | 0, 0, 255, 255 |
ToneCurveRed | 0, 0, 255, 255 |
URL_List | |
Version | 8.7.1 |
Vibrance | +7 |
VignetteAmount | 0 |
WhiteBalance (1) | Cloudy |
WhiteBalance | Auto |
Whites2012 | +17 |